BEGIN:VCALENDAR
VERSION:2.0
PRODID:VSD-Portal-www.volley.de
METHOD:PUBLISH
BEGIN:VEVENT
UID:381219-2da69939ed67427dc6bf3daba21059e9
X-WR-RELCALID:381219-2da69939ed67427dc6bf3daba21059e9
ORGANIZER:Volleyball
SEQUENCE:261110114
LOCATION:Hauptschule Rinteln, Ostertorstr. 23, 31737 Rinteln
GEO:52.18765300000000000000;9.08428000000000000000
SUMMARY:BL 08 Mä.: t.b.d. - VfBHW Hameln
CLASS:PUBLIC
DTSTART:20160312T140000Z
DTSTAMP:20160317T123000Z
END:VEVENT
END:VCALENDAR