BEGIN:VCALENDAR
VERSION:2.0
PRODID:VSD-Portal-www.volley.de
METHOD:PUBLISH
BEGIN:VEVENT
UID:338862-2da69939ed67427dc6bf3daba21059e9
X-WR-RELCALID:338862-2da69939ed67427dc6bf3daba21059e9
ORGANIZER:Volleyball
SEQUENCE:261110139
LOCATION:Stadtsporthalle, Walter-Haaren-Str. 4, 31547 Rehburg-Loccum
GEO:52.45073920000000000000;9.14338420000000000000
SUMMARY:BL 08 Mä.: VG Münchehagen/Hagenburg - Team Schaumburg II
CLASS:PUBLIC
DTSTART:20151114T140000Z
DTSTAMP:20160317T123000Z
END:VEVENT
BEGIN:VEVENT
UID:338863-2da69939ed67427dc6bf3daba21059e9
X-WR-RELCALID:338863-2da69939ed67427dc6bf3daba21059e9
ORGANIZER:Volleyball
SEQUENCE:261110139
LOCATION:Stadtsporthalle, Walter-Haaren-Str. 4, 31547 Rehburg-Loccum
GEO:52.45073920000000000000;9.14338420000000000000
SUMMARY:BL 08 Mä.: VG Münchehagen/Hagenburg - VSG Kemnade/Kirchbrak
CLASS:PUBLIC
DTSTART:20151114T140000Z
DTSTAMP:20160317T123000Z
END:VEVENT
BEGIN:VEVENT
UID:381217-2da69939ed67427dc6bf3daba21059e9
X-WR-RELCALID:381217-2da69939ed67427dc6bf3daba21059e9
ORGANIZER:Volleyball
SEQUENCE:261110139
LOCATION:Stadtsporthalle, Walter-Haaren-Str. 4, 31547 Rehburg-Loccum
GEO:52.45073920000000000000;9.14338420000000000000
SUMMARY:BL 08 Mä.: VG Münchehagen/Hagenburg - t.b.d.
CLASS:PUBLIC
DTSTART:20160207T120000Z
DTSTAMP:20160317T123000Z
END:VEVENT
BEGIN:VEVENT
UID:338882-2da69939ed67427dc6bf3daba21059e9
X-WR-RELCALID:338882-2da69939ed67427dc6bf3daba21059e9
ORGANIZER:Volleyball
SEQUENCE:261110139
LOCATION:Sporthalle Hagenburg, Steinhuder-Meer-Straße 5, 31558 Hagenbu
 rg
GEO:52.43445000000000000000;9.32557000000000000000
SUMMARY:BL 08 Mä.: VG Münchehagen/Hagenburg - FC Flegessen-Hasperde
CLASS:PUBLIC
DTSTART:20160305T140000Z
DTSTAMP:20160317T123000Z
END:VEVENT
BEGIN:VEVENT
UID:338883-2da69939ed67427dc6bf3daba21059e9
X-WR-RELCALID:338883-2da69939ed67427dc6bf3daba21059e9
ORGANIZER:Volleyball
SEQUENCE:261110139
LOCATION:Sporthalle Hagenburg, Steinhuder-Meer-Straße 5, 31558 Hagenbu
 rg
GEO:52.43445000000000000000;9.32557000000000000000
SUMMARY:BL 08 Mä.: VG Münchehagen/Hagenburg - VfBHW Hameln
CLASS:PUBLIC
DTSTART:20160305T140000Z
DTSTAMP:20160317T123000Z
END:VEVENT
END:VCALENDAR