BEGIN:VCALENDAR
VERSION:2.0
PRODID:VSD-Portal-www.volley.de
METHOD:PUBLISH
BEGIN:VEVENT
UID:338930-2da69939ed67427dc6bf3daba21059e9
X-WR-RELCALID:338930-2da69939ed67427dc6bf3daba21059e9
ORGANIZER:Volleyball
SEQUENCE:261141605
LOCATION:Lessing-Gymnasium Wenden, Heideblick, 38110 Braunschweig
GEO:52.32576590000000000000;10.50528410000000000000
SUMMARY:BL 11 Mä.: FC Wenden II - TSV Schapen
CLASS:PUBLIC
DTSTART:20150926T130000Z
DTSTAMP:20160320T115000Z
END:VEVENT
BEGIN:VEVENT
UID:338931-2da69939ed67427dc6bf3daba21059e9
X-WR-RELCALID:338931-2da69939ed67427dc6bf3daba21059e9
ORGANIZER:Volleyball
SEQUENCE:261141605
LOCATION:Lessing-Gymnasium Wenden, Heideblick, 38110 Braunschweig
GEO:52.32576590000000000000;10.50528410000000000000
SUMMARY:BL 11 Mä.: FC Wenden II - FT Braunschweig
CLASS:PUBLIC
DTSTART:20150926T130000Z
DTSTAMP:20160320T115000Z
END:VEVENT
BEGIN:VEVENT
UID:338960-2da69939ed67427dc6bf3daba21059e9
X-WR-RELCALID:338960-2da69939ed67427dc6bf3daba21059e9
ORGANIZER:Volleyball
SEQUENCE:261141605
LOCATION:Lessing-Gymnasium Wenden, Heideblick, 38110 Braunschweig
GEO:52.32576590000000000000;10.50528410000000000000
SUMMARY:BL 11 Mä.: FC Wenden II - Wolfenbütteler VC III
CLASS:PUBLIC
DTSTART:20151212T140000Z
DTSTAMP:20160320T115000Z
END:VEVENT
BEGIN:VEVENT
UID:338961-2da69939ed67427dc6bf3daba21059e9
X-WR-RELCALID:338961-2da69939ed67427dc6bf3daba21059e9
ORGANIZER:Volleyball
SEQUENCE:261141605
LOCATION:Lessing-Gymnasium Wenden, Heideblick, 38110 Braunschweig
GEO:52.32576590000000000000;10.50528410000000000000
SUMMARY:BL 11 Mä.: FC Wenden II - MTV Gamsen II
CLASS:PUBLIC
DTSTART:20151212T140000Z
DTSTAMP:20160320T115000Z
END:VEVENT
BEGIN:VEVENT
UID:338966-2da69939ed67427dc6bf3daba21059e9
X-WR-RELCALID:338966-2da69939ed67427dc6bf3daba21059e9
ORGANIZER:Volleyball
SEQUENCE:261141605
LOCATION:Lessing-Gymnasium Wenden, Heideblick, 38110 Braunschweig
GEO:52.32576590000000000000;10.50528410000000000000
SUMMARY:BL 11 Mä.: FC Wenden II - VfL Wolfsburg II
CLASS:PUBLIC
DTSTART:20160109T140000Z
DTSTAMP:20160320T115000Z
END:VEVENT
BEGIN:VEVENT
UID:338967-2da69939ed67427dc6bf3daba21059e9
X-WR-RELCALID:338967-2da69939ed67427dc6bf3daba21059e9
ORGANIZER:Volleyball
SEQUENCE:261141605
LOCATION:Lessing-Gymnasium Wenden, Heideblick, 38110 Braunschweig
GEO:52.32576590000000000000;10.50528410000000000000
SUMMARY:BL 11 Mä.: FC Wenden II - MTV Vorsfelde
CLASS:PUBLIC
DTSTART:20160109T140000Z
DTSTAMP:20160320T115000Z
END:VEVENT
BEGIN:VEVENT
UID:338990-2da69939ed67427dc6bf3daba21059e9
X-WR-RELCALID:338990-2da69939ed67427dc6bf3daba21059e9
ORGANIZER:Volleyball
SEQUENCE:261141605
LOCATION:Lessing-Gymnasium Wenden, Heideblick, 38110 Braunschweig
GEO:52.32576590000000000000;10.50528410000000000000
SUMMARY:BL 11 Mä.: FC Wenden II - Grün-Weiß Vallstedt III
CLASS:PUBLIC
DTSTART:20160305T140000Z
DTSTAMP:20160320T115000Z
END:VEVENT
BEGIN:VEVENT
UID:338991-2da69939ed67427dc6bf3daba21059e9
X-WR-RELCALID:338991-2da69939ed67427dc6bf3daba21059e9
ORGANIZER:Volleyball
SEQUENCE:261141605
LOCATION:Lessing-Gymnasium Wenden, Heideblick, 38110 Braunschweig
GEO:52.32576590000000000000;10.50528410000000000000
SUMMARY:BL 11 Mä.: FC Wenden II - SG STV/MTV Salzgitter III
CLASS:PUBLIC
DTSTART:20160305T140000Z
DTSTAMP:20160320T115000Z
END:VEVENT
END:VCALENDAR