BEGIN:VCALENDAR
VERSION:2.0
PRODID:VSD-Portal-www.volley.de
METHOD:PUBLISH
BEGIN:VEVENT
UID:349756-2da69939ed67427dc6bf3daba21059e9
X-WR-RELCALID:349756-2da69939ed67427dc6bf3daba21059e9
ORGANIZER:Volleyball
SEQUENCE:261150300
SUMMARY:BL Fr.: SG TG Reichenbach/TG Donzdorf - SC Weiler/F.
CLASS:PUBLIC
DTSTART;VALUE=DATE:20151017
DTSTAMP:20160319T210500Z
DTEND;VALUE=DATE:20151018
END:VEVENT
BEGIN:VEVENT
UID:349757-2da69939ed67427dc6bf3daba21059e9
X-WR-RELCALID:349757-2da69939ed67427dc6bf3daba21059e9
ORGANIZER:Volleyball
SEQUENCE:261150300
SUMMARY:BL Fr.: SG TG Reichenbach/TG Donzdorf - TSV Wasseralfingen
CLASS:PUBLIC
DTSTART;VALUE=DATE:20151017
DTSTAMP:20160319T210500Z
DTEND;VALUE=DATE:20151018
END:VEVENT
BEGIN:VEVENT
UID:349774-2da69939ed67427dc6bf3daba21059e9
X-WR-RELCALID:349774-2da69939ed67427dc6bf3daba21059e9
ORGANIZER:Volleyball
SEQUENCE:261150300
SUMMARY:BL Fr.: SG TG Reichenbach/TG Donzdorf - TSG Eislingen
CLASS:PUBLIC
DTSTART;VALUE=DATE:20151128
DTSTAMP:20160319T210500Z
DTEND;VALUE=DATE:20151129
END:VEVENT
BEGIN:VEVENT
UID:349775-2da69939ed67427dc6bf3daba21059e9
X-WR-RELCALID:349775-2da69939ed67427dc6bf3daba21059e9
ORGANIZER:Volleyball
SEQUENCE:261150300
SUMMARY:BL Fr.: SG TG Reichenbach/TG Donzdorf - TSV Mutlangen
CLASS:PUBLIC
DTSTART;VALUE=DATE:20151128
DTSTAMP:20160319T210500Z
DTEND;VALUE=DATE:20151129
END:VEVENT
BEGIN:VEVENT
UID:349792-2da69939ed67427dc6bf3daba21059e9
X-WR-RELCALID:349792-2da69939ed67427dc6bf3daba21059e9
ORGANIZER:Volleyball
SEQUENCE:261150300
SUMMARY:BL Fr.: SG TG Reichenbach/TG Donzdorf - SV Frickenhofen
CLASS:PUBLIC
DTSTART;VALUE=DATE:20160123
DTSTAMP:20160319T210500Z
DTEND;VALUE=DATE:20160124
END:VEVENT
BEGIN:VEVENT
UID:349793-2da69939ed67427dc6bf3daba21059e9
X-WR-RELCALID:349793-2da69939ed67427dc6bf3daba21059e9
ORGANIZER:Volleyball
SEQUENCE:261150300
SUMMARY:BL Fr.: SG TG Reichenbach/TG Donzdorf - DJK Aalen
CLASS:PUBLIC
DTSTART;VALUE=DATE:20160123
DTSTAMP:20160319T210500Z
DTEND;VALUE=DATE:20160124
END:VEVENT
BEGIN:VEVENT
UID:349810-2da69939ed67427dc6bf3daba21059e9
X-WR-RELCALID:349810-2da69939ed67427dc6bf3daba21059e9
ORGANIZER:Volleyball
SEQUENCE:261150300
SUMMARY:BL Fr.: SG TG Reichenbach/TG Donzdorf - TV Heuchlingen
CLASS:PUBLIC
DTSTART;VALUE=DATE:20160305
DTSTAMP:20160319T210500Z
DTEND;VALUE=DATE:20160306
END:VEVENT
BEGIN:VEVENT
UID:349811-2da69939ed67427dc6bf3daba21059e9
X-WR-RELCALID:349811-2da69939ed67427dc6bf3daba21059e9
ORGANIZER:Volleyball
SEQUENCE:261150300
SUMMARY:BL Fr.: SG TG Reichenbach/TG Donzdorf - SG Volley Alb
CLASS:PUBLIC
DTSTART;VALUE=DATE:20160305
DTSTAMP:20160319T210500Z
DTEND;VALUE=DATE:20160306
END:VEVENT
END:VCALENDAR