BEGIN:VCALENDAR
VERSION:2.0
PRODID:VSD-Portal-www.volley.de
METHOD:PUBLISH
BEGIN:VEVENT
UID:349748-2da69939ed67427dc6bf3daba21059e9
X-WR-RELCALID:349748-2da69939ed67427dc6bf3daba21059e9
ORGANIZER:Volleyball
SEQUENCE:261151318
SUMMARY:BL Fr.: TV Heuchlingen - TSG Eislingen
CLASS:PUBLIC
DTSTART;VALUE=DATE:20151003
DTSTAMP:20160319T210500Z
DTEND;VALUE=DATE:20151004
END:VEVENT
BEGIN:VEVENT
UID:349749-2da69939ed67427dc6bf3daba21059e9
X-WR-RELCALID:349749-2da69939ed67427dc6bf3daba21059e9
ORGANIZER:Volleyball
SEQUENCE:261151318
SUMMARY:BL Fr.: TV Heuchlingen - TSV Mutlangen
CLASS:PUBLIC
DTSTART;VALUE=DATE:20151003
DTSTAMP:20160319T210500Z
DTEND;VALUE=DATE:20151004
END:VEVENT
BEGIN:VEVENT
UID:349767-2da69939ed67427dc6bf3daba21059e9
X-WR-RELCALID:349767-2da69939ed67427dc6bf3daba21059e9
ORGANIZER:Volleyball
SEQUENCE:261151318
SUMMARY:BL Fr.: TV Heuchlingen - DJK Aalen
CLASS:PUBLIC
DTSTART;VALUE=DATE:20151104
DTSTAMP:20160319T210500Z
DTEND;VALUE=DATE:20151105
END:VEVENT
BEGIN:VEVENT
UID:349766-2da69939ed67427dc6bf3daba21059e9
X-WR-RELCALID:349766-2da69939ed67427dc6bf3daba21059e9
ORGANIZER:Volleyball
SEQUENCE:261151318
SUMMARY:BL Fr.: TV Heuchlingen - SG TG Reichenbach/TG Donzdorf
CLASS:PUBLIC
DTSTART;VALUE=DATE:20151121
DTSTAMP:20160319T210500Z
DTEND;VALUE=DATE:20151122
END:VEVENT
BEGIN:VEVENT
UID:349794-2da69939ed67427dc6bf3daba21059e9
X-WR-RELCALID:349794-2da69939ed67427dc6bf3daba21059e9
ORGANIZER:Volleyball
SEQUENCE:261151318
SUMMARY:BL Fr.: TV Heuchlingen - SG Volley Alb
CLASS:PUBLIC
DTSTART;VALUE=DATE:20160130
DTSTAMP:20160319T210500Z
DTEND;VALUE=DATE:20160131
END:VEVENT
BEGIN:VEVENT
UID:349795-2da69939ed67427dc6bf3daba21059e9
X-WR-RELCALID:349795-2da69939ed67427dc6bf3daba21059e9
ORGANIZER:Volleyball
SEQUENCE:261151318
SUMMARY:BL Fr.: TV Heuchlingen - TSV Wasseralfingen
CLASS:PUBLIC
DTSTART;VALUE=DATE:20160130
DTSTAMP:20160319T210500Z
DTEND;VALUE=DATE:20160131
END:VEVENT
BEGIN:VEVENT
UID:349812-2da69939ed67427dc6bf3daba21059e9
X-WR-RELCALID:349812-2da69939ed67427dc6bf3daba21059e9
ORGANIZER:Volleyball
SEQUENCE:261151318
SUMMARY:BL Fr.: TV Heuchlingen - SV Frickenhofen
CLASS:PUBLIC
DTSTART;VALUE=DATE:20160319
DTSTAMP:20160319T210500Z
DTEND;VALUE=DATE:20160320
END:VEVENT
BEGIN:VEVENT
UID:349813-2da69939ed67427dc6bf3daba21059e9
X-WR-RELCALID:349813-2da69939ed67427dc6bf3daba21059e9
ORGANIZER:Volleyball
SEQUENCE:261151318
SUMMARY:BL Fr.: TV Heuchlingen - SC Weiler/F.
CLASS:PUBLIC
DTSTART;VALUE=DATE:20160319
DTSTAMP:20160319T210500Z
DTEND;VALUE=DATE:20160320
END:VEVENT
END:VCALENDAR