BEGIN:VCALENDAR
VERSION:2.0
PRODID:VSD-Portal-www.volley.de
METHOD:PUBLISH
BEGIN:VEVENT
UID:349750-2da69939ed67427dc6bf3daba21059e9
X-WR-RELCALID:349750-2da69939ed67427dc6bf3daba21059e9
ORGANIZER:Volleyball
SEQUENCE:261141305
SUMMARY:BL Fr.: SC Weiler/F. - SV Frickenhofen
CLASS:PUBLIC
DTSTART;VALUE=DATE:20151003
DTSTAMP:20160319T210500Z
DTEND;VALUE=DATE:20151004
END:VEVENT
BEGIN:VEVENT
UID:349751-2da69939ed67427dc6bf3daba21059e9
X-WR-RELCALID:349751-2da69939ed67427dc6bf3daba21059e9
ORGANIZER:Volleyball
SEQUENCE:261141305
SUMMARY:BL Fr.: SC Weiler/F. - SG Volley Alb
CLASS:PUBLIC
DTSTART;VALUE=DATE:20151003
DTSTAMP:20160319T210500Z
DTEND;VALUE=DATE:20151004
END:VEVENT
BEGIN:VEVENT
UID:349756-2da69939ed67427dc6bf3daba21059e9
X-WR-RELCALID:349756-2da69939ed67427dc6bf3daba21059e9
ORGANIZER:Volleyball
SEQUENCE:261141305
SUMMARY:BL Fr.: SG TG Reichenbach/TG Donzdorf - SC Weiler/F.
CLASS:PUBLIC
DTSTART;VALUE=DATE:20151017
DTSTAMP:20160319T210500Z
DTEND;VALUE=DATE:20151018
END:VEVENT
BEGIN:VEVENT
UID:349763-2da69939ed67427dc6bf3daba21059e9
X-WR-RELCALID:349763-2da69939ed67427dc6bf3daba21059e9
ORGANIZER:Volleyball
SEQUENCE:261141305
SUMMARY:BL Fr.: TSG Eislingen - SC Weiler/F.
CLASS:PUBLIC
DTSTART;VALUE=DATE:20151031
DTSTAMP:20160319T210500Z
DTEND;VALUE=DATE:20151101
END:VEVENT
BEGIN:VEVENT
UID:349768-2da69939ed67427dc6bf3daba21059e9
X-WR-RELCALID:349768-2da69939ed67427dc6bf3daba21059e9
ORGANIZER:Volleyball
SEQUENCE:261141305
SUMMARY:BL Fr.: TSV Wasseralfingen - SC Weiler/F.
CLASS:PUBLIC
DTSTART;VALUE=DATE:20151114
DTSTAMP:20160319T210500Z
DTEND;VALUE=DATE:20151115
END:VEVENT
BEGIN:VEVENT
UID:349773-2da69939ed67427dc6bf3daba21059e9
X-WR-RELCALID:349773-2da69939ed67427dc6bf3daba21059e9
ORGANIZER:Volleyball
SEQUENCE:261141305
SUMMARY:BL Fr.: DJK Aalen - SC Weiler/F.
CLASS:PUBLIC
DTSTART;VALUE=DATE:20151128
DTSTAMP:20160319T210500Z
DTEND;VALUE=DATE:20151129
END:VEVENT
BEGIN:VEVENT
UID:349778-2da69939ed67427dc6bf3daba21059e9
X-WR-RELCALID:349778-2da69939ed67427dc6bf3daba21059e9
ORGANIZER:Volleyball
SEQUENCE:261141305
SUMMARY:BL Fr.: SC Weiler/F. - TSV Mutlangen
CLASS:PUBLIC
DTSTART;VALUE=DATE:20151212
DTSTAMP:20160319T210500Z
DTEND;VALUE=DATE:20151213
END:VEVENT
BEGIN:VEVENT
UID:349779-2da69939ed67427dc6bf3daba21059e9
X-WR-RELCALID:349779-2da69939ed67427dc6bf3daba21059e9
ORGANIZER:Volleyball
SEQUENCE:261141305
SUMMARY:BL Fr.: SC Weiler/F. - TV Heuchlingen
CLASS:PUBLIC
DTSTART;VALUE=DATE:20151212
DTSTAMP:20160319T210500Z
DTEND;VALUE=DATE:20151213
END:VEVENT
BEGIN:VEVENT
UID:349786-2da69939ed67427dc6bf3daba21059e9
X-WR-RELCALID:349786-2da69939ed67427dc6bf3daba21059e9
ORGANIZER:Volleyball
SEQUENCE:261141305
SUMMARY:BL Fr.: SV Frickenhofen - SC Weiler/F.
CLASS:PUBLIC
DTSTART;VALUE=DATE:20151220
DTSTAMP:20160319T210500Z
DTEND;VALUE=DATE:20151221
END:VEVENT
BEGIN:VEVENT
UID:349791-2da69939ed67427dc6bf3daba21059e9
X-WR-RELCALID:349791-2da69939ed67427dc6bf3daba21059e9
ORGANIZER:Volleyball
SEQUENCE:261141305
SUMMARY:BL Fr.: SG Volley Alb - SC Weiler/F.
CLASS:PUBLIC
DTSTART;VALUE=DATE:20160123
DTSTAMP:20160319T210500Z
DTEND;VALUE=DATE:20160124
END:VEVENT
BEGIN:VEVENT
UID:349798-2da69939ed67427dc6bf3daba21059e9
X-WR-RELCALID:349798-2da69939ed67427dc6bf3daba21059e9
ORGANIZER:Volleyball
SEQUENCE:261141305
SUMMARY:BL Fr.: SC Weiler/F. - SG TG Reichenbach/TG Donzdorf
CLASS:PUBLIC
DTSTART;VALUE=DATE:20160206
DTSTAMP:20160319T210500Z
DTEND;VALUE=DATE:20160207
END:VEVENT
BEGIN:VEVENT
UID:349799-2da69939ed67427dc6bf3daba21059e9
X-WR-RELCALID:349799-2da69939ed67427dc6bf3daba21059e9
ORGANIZER:Volleyball
SEQUENCE:261141305
SUMMARY:BL Fr.: SC Weiler/F. - TSG Eislingen
CLASS:PUBLIC
DTSTART;VALUE=DATE:20160206
DTSTAMP:20160319T210500Z
DTEND;VALUE=DATE:20160207
END:VEVENT
BEGIN:VEVENT
UID:349800-2da69939ed67427dc6bf3daba21059e9
X-WR-RELCALID:349800-2da69939ed67427dc6bf3daba21059e9
ORGANIZER:Volleyball
SEQUENCE:261141305
SUMMARY:BL Fr.: TSV Mutlangen - SC Weiler/F.
CLASS:PUBLIC
DTSTART;VALUE=DATE:20160220
DTSTAMP:20160319T210500Z
DTEND;VALUE=DATE:20160221
END:VEVENT
BEGIN:VEVENT
UID:349808-2da69939ed67427dc6bf3daba21059e9
X-WR-RELCALID:349808-2da69939ed67427dc6bf3daba21059e9
ORGANIZER:Volleyball
SEQUENCE:261141305
SUMMARY:BL Fr.: SC Weiler/F. - TSV Wasseralfingen
CLASS:PUBLIC
DTSTART;VALUE=DATE:20160305
DTSTAMP:20160319T210500Z
DTEND;VALUE=DATE:20160306
END:VEVENT
BEGIN:VEVENT
UID:349809-2da69939ed67427dc6bf3daba21059e9
X-WR-RELCALID:349809-2da69939ed67427dc6bf3daba21059e9
ORGANIZER:Volleyball
SEQUENCE:261141305
SUMMARY:BL Fr.: SC Weiler/F. - DJK Aalen
CLASS:PUBLIC
DTSTART;VALUE=DATE:20160305
DTSTAMP:20160319T210500Z
DTEND;VALUE=DATE:20160306
END:VEVENT
BEGIN:VEVENT
UID:349813-2da69939ed67427dc6bf3daba21059e9
X-WR-RELCALID:349813-2da69939ed67427dc6bf3daba21059e9
ORGANIZER:Volleyball
SEQUENCE:261141305
SUMMARY:BL Fr.: TV Heuchlingen - SC Weiler/F.
CLASS:PUBLIC
DTSTART;VALUE=DATE:20160319
DTSTAMP:20160319T210500Z
DTEND;VALUE=DATE:20160320
END:VEVENT
END:VCALENDAR