BEGIN:VCALENDAR
VERSION:2.0
PRODID:VSD-Portal-www.volley.de
METHOD:PUBLISH
BEGIN:VEVENT
UID:349750-2da69939ed67427dc6bf3daba21059e9
X-WR-RELCALID:349750-2da69939ed67427dc6bf3daba21059e9
ORGANIZER:Volleyball
SEQUENCE:261151317
SUMMARY:BL Fr.: SC Weiler/F. - SV Frickenhofen
CLASS:PUBLIC
DTSTART;VALUE=DATE:20151003
DTSTAMP:20160319T210500Z
DTEND;VALUE=DATE:20151004
END:VEVENT
BEGIN:VEVENT
UID:349755-2da69939ed67427dc6bf3daba21059e9
X-WR-RELCALID:349755-2da69939ed67427dc6bf3daba21059e9
ORGANIZER:Volleyball
SEQUENCE:261151317
SUMMARY:BL Fr.: SG Volley Alb - SV Frickenhofen
CLASS:PUBLIC
DTSTART;VALUE=DATE:20151017
DTSTAMP:20160319T210500Z
DTEND;VALUE=DATE:20151018
END:VEVENT
BEGIN:VEVENT
UID:349758-2da69939ed67427dc6bf3daba21059e9
X-WR-RELCALID:349758-2da69939ed67427dc6bf3daba21059e9
ORGANIZER:Volleyball
SEQUENCE:261151317
SUMMARY:BL Fr.: SV Frickenhofen - SG TG Reichenbach/TG Donzdorf
CLASS:PUBLIC
DTSTART;VALUE=DATE:20151031
DTSTAMP:20160319T210500Z
DTEND;VALUE=DATE:20151101
END:VEVENT
BEGIN:VEVENT
UID:349759-2da69939ed67427dc6bf3daba21059e9
X-WR-RELCALID:349759-2da69939ed67427dc6bf3daba21059e9
ORGANIZER:Volleyball
SEQUENCE:261151317
SUMMARY:BL Fr.: SV Frickenhofen - DJK Aalen
CLASS:PUBLIC
DTSTART;VALUE=DATE:20151031
DTSTAMP:20160319T210500Z
DTEND;VALUE=DATE:20151101
END:VEVENT
BEGIN:VEVENT
UID:349764-2da69939ed67427dc6bf3daba21059e9
X-WR-RELCALID:349764-2da69939ed67427dc6bf3daba21059e9
ORGANIZER:Volleyball
SEQUENCE:261151317
SUMMARY:BL Fr.: TSV Mutlangen - SV Frickenhofen
CLASS:PUBLIC
DTSTART;VALUE=DATE:20151114
DTSTAMP:20160319T210500Z
DTEND;VALUE=DATE:20151115
END:VEVENT
BEGIN:VEVENT
UID:349770-2da69939ed67427dc6bf3daba21059e9
X-WR-RELCALID:349770-2da69939ed67427dc6bf3daba21059e9
ORGANIZER:Volleyball
SEQUENCE:261151317
SUMMARY:BL Fr.: SV Frickenhofen - TV Heuchlingen
CLASS:PUBLIC
DTSTART;VALUE=DATE:20151128
DTSTAMP:20160319T210500Z
DTEND;VALUE=DATE:20151129
END:VEVENT
BEGIN:VEVENT
UID:349771-2da69939ed67427dc6bf3daba21059e9
X-WR-RELCALID:349771-2da69939ed67427dc6bf3daba21059e9
ORGANIZER:Volleyball
SEQUENCE:261151317
SUMMARY:BL Fr.: SV Frickenhofen - TSV Wasseralfingen
CLASS:PUBLIC
DTSTART;VALUE=DATE:20151128
DTSTAMP:20160319T210500Z
DTEND;VALUE=DATE:20151129
END:VEVENT
BEGIN:VEVENT
UID:349781-2da69939ed67427dc6bf3daba21059e9
X-WR-RELCALID:349781-2da69939ed67427dc6bf3daba21059e9
ORGANIZER:Volleyball
SEQUENCE:261151317
SUMMARY:BL Fr.: TSG Eislingen - SV Frickenhofen
CLASS:PUBLIC
DTSTART;VALUE=DATE:20151213
DTSTAMP:20160319T210500Z
DTEND;VALUE=DATE:20151214
END:VEVENT
BEGIN:VEVENT
UID:349786-2da69939ed67427dc6bf3daba21059e9
X-WR-RELCALID:349786-2da69939ed67427dc6bf3daba21059e9
ORGANIZER:Volleyball
SEQUENCE:261151317
SUMMARY:BL Fr.: SV Frickenhofen - SC Weiler/F.
CLASS:PUBLIC
DTSTART;VALUE=DATE:20151220
DTSTAMP:20160319T210500Z
DTEND;VALUE=DATE:20151221
END:VEVENT
BEGIN:VEVENT
UID:349787-2da69939ed67427dc6bf3daba21059e9
X-WR-RELCALID:349787-2da69939ed67427dc6bf3daba21059e9
ORGANIZER:Volleyball
SEQUENCE:261151317
SUMMARY:BL Fr.: SV Frickenhofen - SG Volley Alb
CLASS:PUBLIC
DTSTART;VALUE=DATE:20151220
DTSTAMP:20160319T210500Z
DTEND;VALUE=DATE:20151221
END:VEVENT
BEGIN:VEVENT
UID:349792-2da69939ed67427dc6bf3daba21059e9
X-WR-RELCALID:349792-2da69939ed67427dc6bf3daba21059e9
ORGANIZER:Volleyball
SEQUENCE:261151317
SUMMARY:BL Fr.: SG TG Reichenbach/TG Donzdorf - SV Frickenhofen
CLASS:PUBLIC
DTSTART;VALUE=DATE:20160123
DTSTAMP:20160319T210500Z
DTEND;VALUE=DATE:20160124
END:VEVENT
BEGIN:VEVENT
UID:349797-2da69939ed67427dc6bf3daba21059e9
X-WR-RELCALID:349797-2da69939ed67427dc6bf3daba21059e9
ORGANIZER:Volleyball
SEQUENCE:261151317
SUMMARY:BL Fr.: DJK Aalen - SV Frickenhofen
CLASS:PUBLIC
DTSTART;VALUE=DATE:20160206
DTSTAMP:20160319T210500Z
DTEND;VALUE=DATE:20160207
END:VEVENT
BEGIN:VEVENT
UID:349803-2da69939ed67427dc6bf3daba21059e9
X-WR-RELCALID:349803-2da69939ed67427dc6bf3daba21059e9
ORGANIZER:Volleyball
SEQUENCE:261151317
SUMMARY:BL Fr.: TSV Wasseralfingen - SV Frickenhofen
CLASS:PUBLIC
DTSTART;VALUE=DATE:20160220
DTSTAMP:20160319T210500Z
DTEND;VALUE=DATE:20160221
END:VEVENT
BEGIN:VEVENT
UID:349806-2da69939ed67427dc6bf3daba21059e9
X-WR-RELCALID:349806-2da69939ed67427dc6bf3daba21059e9
ORGANIZER:Volleyball
SEQUENCE:261151317
SUMMARY:BL Fr.: SV Frickenhofen - TSV Mutlangen
CLASS:PUBLIC
DTSTART;VALUE=DATE:20160305
DTSTAMP:20160319T210500Z
DTEND;VALUE=DATE:20160306
END:VEVENT
BEGIN:VEVENT
UID:349807-2da69939ed67427dc6bf3daba21059e9
X-WR-RELCALID:349807-2da69939ed67427dc6bf3daba21059e9
ORGANIZER:Volleyball
SEQUENCE:261151317
SUMMARY:BL Fr.: SV Frickenhofen - TSG Eislingen
CLASS:PUBLIC
DTSTART;VALUE=DATE:20160314
DTSTAMP:20160319T210500Z
DTEND;VALUE=DATE:20160315
END:VEVENT
BEGIN:VEVENT
UID:349812-2da69939ed67427dc6bf3daba21059e9
X-WR-RELCALID:349812-2da69939ed67427dc6bf3daba21059e9
ORGANIZER:Volleyball
SEQUENCE:261151317
SUMMARY:BL Fr.: TV Heuchlingen - SV Frickenhofen
CLASS:PUBLIC
DTSTART;VALUE=DATE:20160319
DTSTAMP:20160319T210500Z
DTEND;VALUE=DATE:20160320
END:VEVENT
END:VCALENDAR