BEGIN:VCALENDAR
VERSION:2.0
PRODID:VSD-Portal-www.volley.de
METHOD:PUBLISH
BEGIN:VEVENT
UID:349895-2da69939ed67427dc6bf3daba21059e9
X-WR-RELCALID:349895-2da69939ed67427dc6bf3daba21059e9
ORGANIZER:Volleyball
SEQUENCE:261111333
SUMMARY:A-Kl. 2 Fr.: TSV Böbingen - TSV Adelmannsfelden
CLASS:PUBLIC
DTSTART;VALUE=DATE:20151004
DTSTAMP:20160320T140500Z
DTEND;VALUE=DATE:20151005
END:VEVENT
BEGIN:VEVENT
UID:349898-2da69939ed67427dc6bf3daba21059e9
X-WR-RELCALID:349898-2da69939ed67427dc6bf3daba21059e9
ORGANIZER:Volleyball
SEQUENCE:261111333
SUMMARY:A-Kl. 2 Fr.: TSV Adelmannsfelden - TV Bopfingen 2
CLASS:PUBLIC
DTSTART;VALUE=DATE:20151029
DTSTAMP:20160320T140500Z
DTEND;VALUE=DATE:20151030
END:VEVENT
BEGIN:VEVENT
UID:349902-2da69939ed67427dc6bf3daba21059e9
X-WR-RELCALID:349902-2da69939ed67427dc6bf3daba21059e9
ORGANIZER:Volleyball
SEQUENCE:261111333
SUMMARY:A-Kl. 2 Fr.: TV Eybach - TSV Adelmannsfelden
CLASS:PUBLIC
DTSTART;VALUE=DATE:20151031
DTSTAMP:20160320T140500Z
DTEND;VALUE=DATE:20151101
END:VEVENT
BEGIN:VEVENT
UID:349909-2da69939ed67427dc6bf3daba21059e9
X-WR-RELCALID:349909-2da69939ed67427dc6bf3daba21059e9
ORGANIZER:Volleyball
SEQUENCE:261111333
SUMMARY:A-Kl. 2 Fr.: TSV Ellwangen - TSV Adelmannsfelden
CLASS:PUBLIC
DTSTART;VALUE=DATE:20151114
DTSTAMP:20160320T140500Z
DTEND;VALUE=DATE:20151115
END:VEVENT
BEGIN:VEVENT
UID:349899-2da69939ed67427dc6bf3daba21059e9
X-WR-RELCALID:349899-2da69939ed67427dc6bf3daba21059e9
ORGANIZER:Volleyball
SEQUENCE:261111333
SUMMARY:A-Kl. 2 Fr.: TSV Adelmannsfelden - VSG Hussenhofen/Bettringen
CLASS:PUBLIC
DTSTART;VALUE=DATE:20151119
DTSTAMP:20160320T140500Z
DTEND;VALUE=DATE:20151120
END:VEVENT
BEGIN:VEVENT
UID:349916-2da69939ed67427dc6bf3daba21059e9
X-WR-RELCALID:349916-2da69939ed67427dc6bf3daba21059e9
ORGANIZER:Volleyball
SEQUENCE:261111333
SUMMARY:A-Kl. 2 Fr.: TSV Westhausen - TSV Adelmannsfelden
CLASS:PUBLIC
DTSTART;VALUE=DATE:20151129
DTSTAMP:20160320T140500Z
DTEND;VALUE=DATE:20151130
END:VEVENT
BEGIN:VEVENT
UID:349925-2da69939ed67427dc6bf3daba21059e9
X-WR-RELCALID:349925-2da69939ed67427dc6bf3daba21059e9
ORGANIZER:Volleyball
SEQUENCE:261111333
SUMMARY:A-Kl. 2 Fr.: TSV Adelmannsfelden - VSG Korb/Kernen I
CLASS:PUBLIC
DTSTART;VALUE=DATE:20151213
DTSTAMP:20160320T140500Z
DTEND;VALUE=DATE:20151214
END:VEVENT
BEGIN:VEVENT
UID:349920-2da69939ed67427dc6bf3daba21059e9
X-WR-RELCALID:349920-2da69939ed67427dc6bf3daba21059e9
ORGANIZER:Volleyball
SEQUENCE:261111333
SUMMARY:A-Kl. 2 Fr.: TSV Adelmannsfelden - TSG Schnaitheim
CLASS:PUBLIC
DTSTART;VALUE=DATE:20151213
DTSTAMP:20160320T140500Z
DTEND;VALUE=DATE:20151214
END:VEVENT
BEGIN:VEVENT
UID:349927-2da69939ed67427dc6bf3daba21059e9
X-WR-RELCALID:349927-2da69939ed67427dc6bf3daba21059e9
ORGANIZER:Volleyball
SEQUENCE:261111333
SUMMARY:A-Kl. 2 Fr.: VSG Hussenhofen/Bettringen - TSV Adelmannsfelden
CLASS:PUBLIC
DTSTART;VALUE=DATE:20151219
DTSTAMP:20160320T140500Z
DTEND;VALUE=DATE:20151220
END:VEVENT
BEGIN:VEVENT
UID:349934-2da69939ed67427dc6bf3daba21059e9
X-WR-RELCALID:349934-2da69939ed67427dc6bf3daba21059e9
ORGANIZER:Volleyball
SEQUENCE:261111333
SUMMARY:A-Kl. 2 Fr.: TSV Adelmannsfelden - TV Eybach
CLASS:PUBLIC
DTSTART;VALUE=DATE:20160124
DTSTAMP:20160320T140500Z
DTEND;VALUE=DATE:20160125
END:VEVENT
BEGIN:VEVENT
UID:349935-2da69939ed67427dc6bf3daba21059e9
X-WR-RELCALID:349935-2da69939ed67427dc6bf3daba21059e9
ORGANIZER:Volleyball
SEQUENCE:261111333
SUMMARY:A-Kl. 2 Fr.: TSV Adelmannsfelden - TSV Böbingen
CLASS:PUBLIC
DTSTART;VALUE=DATE:20160124
DTSTAMP:20160320T140500Z
DTEND;VALUE=DATE:20160125
END:VEVENT
BEGIN:VEVENT
UID:349942-2da69939ed67427dc6bf3daba21059e9
X-WR-RELCALID:349942-2da69939ed67427dc6bf3daba21059e9
ORGANIZER:Volleyball
SEQUENCE:261111333
SUMMARY:A-Kl. 2 Fr.: TV Bopfingen 2 - TSV Adelmannsfelden
CLASS:PUBLIC
DTSTART;VALUE=DATE:20160214
DTSTAMP:20160320T140500Z
DTEND;VALUE=DATE:20160215
END:VEVENT
BEGIN:VEVENT
UID:349948-2da69939ed67427dc6bf3daba21059e9
X-WR-RELCALID:349948-2da69939ed67427dc6bf3daba21059e9
ORGANIZER:Volleyball
SEQUENCE:261111333
SUMMARY:A-Kl. 2 Fr.: VSG Korb/Kernen I - TSV Adelmannsfelden
CLASS:PUBLIC
DTSTART;VALUE=DATE:20160221
DTSTAMP:20160320T140500Z
DTEND;VALUE=DATE:20160222
END:VEVENT
BEGIN:VEVENT
UID:349955-2da69939ed67427dc6bf3daba21059e9
X-WR-RELCALID:349955-2da69939ed67427dc6bf3daba21059e9
ORGANIZER:Volleyball
SEQUENCE:261111333
SUMMARY:A-Kl. 2 Fr.: TSG Schnaitheim - TSV Adelmannsfelden
CLASS:PUBLIC
DTSTART;VALUE=DATE:20160306
DTSTAMP:20160320T140500Z
DTEND;VALUE=DATE:20160307
END:VEVENT
BEGIN:VEVENT
UID:349960-2da69939ed67427dc6bf3daba21059e9
X-WR-RELCALID:349960-2da69939ed67427dc6bf3daba21059e9
ORGANIZER:Volleyball
SEQUENCE:261111333
SUMMARY:A-Kl. 2 Fr.: TSV Adelmannsfelden - TSV Westhausen
CLASS:PUBLIC
DTSTART;VALUE=DATE:20160320
DTSTAMP:20160320T140500Z
DTEND;VALUE=DATE:20160321
END:VEVENT
BEGIN:VEVENT
UID:349961-2da69939ed67427dc6bf3daba21059e9
X-WR-RELCALID:349961-2da69939ed67427dc6bf3daba21059e9
ORGANIZER:Volleyball
SEQUENCE:261111333
SUMMARY:A-Kl. 2 Fr.: TSV Adelmannsfelden - TSV Ellwangen
CLASS:PUBLIC
DTSTART;VALUE=DATE:20160320
DTSTAMP:20160320T140500Z
DTEND;VALUE=DATE:20160321
END:VEVENT
END:VCALENDAR