BEGIN:VCALENDAR
VERSION:2.0
PRODID:VSD-Portal-www.volley.de
METHOD:PUBLISH
BEGIN:VEVENT
UID:349549-2da69939ed67427dc6bf3daba21059e9
X-WR-RELCALID:349549-2da69939ed67427dc6bf3daba21059e9
ORGANIZER:Volleyball
SEQUENCE:261131840
SUMMARY:B-Kl. 1 Mä.: 1.FC Igersheim 2 - TSG Schwäb. Hall 2
CLASS:PUBLIC
DTSTART;VALUE=DATE:20151003
DTSTAMP:20160320T133000Z
DTEND;VALUE=DATE:20151004
END:VEVENT
BEGIN:VEVENT
UID:349554-2da69939ed67427dc6bf3daba21059e9
X-WR-RELCALID:349554-2da69939ed67427dc6bf3daba21059e9
ORGANIZER:Volleyball
SEQUENCE:261131840
SUMMARY:B-Kl. 1 Mä.: TSG Schwäb. Hall 2 - TURA Untermünkheim
CLASS:PUBLIC
DTSTART;VALUE=DATE:20151018
DTSTAMP:20160320T133000Z
DTEND;VALUE=DATE:20151019
END:VEVENT
BEGIN:VEVENT
UID:349555-2da69939ed67427dc6bf3daba21059e9
X-WR-RELCALID:349555-2da69939ed67427dc6bf3daba21059e9
ORGANIZER:Volleyball
SEQUENCE:261131840
SUMMARY:B-Kl. 1 Mä.: TSG Schwäb. Hall 2 - TSV Willsbach 2
CLASS:PUBLIC
DTSTART;VALUE=DATE:20151018
DTSTAMP:20160320T133000Z
DTEND;VALUE=DATE:20151019
END:VEVENT
BEGIN:VEVENT
UID:349558-2da69939ed67427dc6bf3daba21059e9
X-WR-RELCALID:349558-2da69939ed67427dc6bf3daba21059e9
ORGANIZER:Volleyball
SEQUENCE:261131840
SUMMARY:B-Kl. 1 Mä.: Neckarsulmer Sport-Union - TSG Schwäb. Hall 2
CLASS:PUBLIC
DTSTART;VALUE=DATE:20151101
DTSTAMP:20160320T133000Z
DTEND;VALUE=DATE:20151102
END:VEVENT
BEGIN:VEVENT
UID:349561-2da69939ed67427dc6bf3daba21059e9
X-WR-RELCALID:349561-2da69939ed67427dc6bf3daba21059e9
ORGANIZER:Volleyball
SEQUENCE:261131840
SUMMARY:B-Kl. 1 Mä.: 1.FC Igersheim - TSG Schwäb. Hall 2
CLASS:PUBLIC
DTSTART;VALUE=DATE:20151108
DTSTAMP:20160320T133000Z
DTEND;VALUE=DATE:20151109
END:VEVENT
BEGIN:VEVENT
UID:349566-2da69939ed67427dc6bf3daba21059e9
X-WR-RELCALID:349566-2da69939ed67427dc6bf3daba21059e9
ORGANIZER:Volleyball
SEQUENCE:261131840
SUMMARY:B-Kl. 1 Mä.: SSV Geißelhardt 2 - TSG Schwäb. Hall 2
CLASS:PUBLIC
DTSTART;VALUE=DATE:20151129
DTSTAMP:20160320T133000Z
DTEND;VALUE=DATE:20151130
END:VEVENT
BEGIN:VEVENT
UID:349574-2da69939ed67427dc6bf3daba21059e9
X-WR-RELCALID:349574-2da69939ed67427dc6bf3daba21059e9
ORGANIZER:Volleyball
SEQUENCE:261131840
SUMMARY:B-Kl. 1 Mä.: TSG Schwäb. Hall 2 - Neckarsulmer Sport-Union
CLASS:PUBLIC
DTSTART;VALUE=DATE:20160124
DTSTAMP:20160320T133000Z
DTEND;VALUE=DATE:20160125
END:VEVENT
BEGIN:VEVENT
UID:349575-2da69939ed67427dc6bf3daba21059e9
X-WR-RELCALID:349575-2da69939ed67427dc6bf3daba21059e9
ORGANIZER:Volleyball
SEQUENCE:261131840
SUMMARY:B-Kl. 1 Mä.: TSG Schwäb. Hall 2 - 1.FC Igersheim
CLASS:PUBLIC
DTSTART;VALUE=DATE:20160124
DTSTAMP:20160320T133000Z
DTEND;VALUE=DATE:20160125
END:VEVENT
BEGIN:VEVENT
UID:349579-2da69939ed67427dc6bf3daba21059e9
X-WR-RELCALID:349579-2da69939ed67427dc6bf3daba21059e9
ORGANIZER:Volleyball
SEQUENCE:261131840
SUMMARY:B-Kl. 1 Mä.: TSV Willsbach 2 - TSG Schwäb. Hall 2
CLASS:PUBLIC
DTSTART;VALUE=DATE:20160220
DTSTAMP:20160320T133000Z
DTEND;VALUE=DATE:20160221
END:VEVENT
BEGIN:VEVENT
UID:349584-2da69939ed67427dc6bf3daba21059e9
X-WR-RELCALID:349584-2da69939ed67427dc6bf3daba21059e9
ORGANIZER:Volleyball
SEQUENCE:261131840
SUMMARY:B-Kl. 1 Mä.: TURA Untermünkheim - TSG Schwäb. Hall 2
CLASS:PUBLIC
DTSTART;VALUE=DATE:20160306
DTSTAMP:20160320T133000Z
DTEND;VALUE=DATE:20160307
END:VEVENT
BEGIN:VEVENT
UID:349588-2da69939ed67427dc6bf3daba21059e9
X-WR-RELCALID:349588-2da69939ed67427dc6bf3daba21059e9
ORGANIZER:Volleyball
SEQUENCE:261131840
SUMMARY:B-Kl. 1 Mä.: TSG Schwäb. Hall 2 - SSV Geißelhardt 2
CLASS:PUBLIC
DTSTART;VALUE=DATE:20160320
DTSTAMP:20160320T133000Z
DTEND;VALUE=DATE:20160321
END:VEVENT
BEGIN:VEVENT
UID:349589-2da69939ed67427dc6bf3daba21059e9
X-WR-RELCALID:349589-2da69939ed67427dc6bf3daba21059e9
ORGANIZER:Volleyball
SEQUENCE:261131840
SUMMARY:B-Kl. 1 Mä.: TSG Schwäb. Hall 2 - 1.FC Igersheim 2
CLASS:PUBLIC
DTSTART;VALUE=DATE:20160320
DTSTAMP:20160320T133000Z
DTEND;VALUE=DATE:20160321
END:VEVENT
END:VCALENDAR