BEGIN:VCALENDAR
VERSION:2.0
PRODID:VSD-Portal-www.volley.de
METHOD:PUBLISH
BEGIN:VEVENT
UID:353820-2da69939ed67427dc6bf3daba21059e9
X-WR-RELCALID:353820-2da69939ed67427dc6bf3daba21059e9
ORGANIZER:Volleyball
SEQUENCE:261121625
SUMMARY:2/4 D5 N Mi.: TSV Untereisesheim 2 - SG Schleierhof-Muthof
CLASS:PUBLIC
DTSTART;VALUE=DATE:20151004
DTSTAMP:20160325T090000Z
DTEND;VALUE=DATE:20151005
END:VEVENT
BEGIN:VEVENT
UID:353822-2da69939ed67427dc6bf3daba21059e9
X-WR-RELCALID:353822-2da69939ed67427dc6bf3daba21059e9
ORGANIZER:Volleyball
SEQUENCE:261121625
SUMMARY:2/4 D5 N Mi.: TSV Untereisesheim 2 - TSV Tauberbischofsheim
CLASS:PUBLIC
DTSTART;VALUE=DATE:20151004
DTSTAMP:20160325T090000Z
DTEND;VALUE=DATE:20151005
END:VEVENT
BEGIN:VEVENT
UID:353836-2da69939ed67427dc6bf3daba21059e9
X-WR-RELCALID:353836-2da69939ed67427dc6bf3daba21059e9
ORGANIZER:Volleyball
SEQUENCE:261121625
SUMMARY:2/4 D5 N Mi.: TSV Untereisesheim 2 - TSV Zweiflingen
CLASS:PUBLIC
DTSTART;VALUE=DATE:20151114
DTSTAMP:20160325T090000Z
DTEND;VALUE=DATE:20151115
END:VEVENT
BEGIN:VEVENT
UID:353865-2da69939ed67427dc6bf3daba21059e9
X-WR-RELCALID:353865-2da69939ed67427dc6bf3daba21059e9
ORGANIZER:Volleyball
SEQUENCE:261121625
SUMMARY:2/4 D5 N Mi.: TSV Untereisesheim 2 - TSV Ilshofen
CLASS:PUBLIC
DTSTART;VALUE=DATE:20160130
DTSTAMP:20160325T090000Z
DTEND;VALUE=DATE:20160131
END:VEVENT
BEGIN:VEVENT
UID:353867-2da69939ed67427dc6bf3daba21059e9
X-WR-RELCALID:353867-2da69939ed67427dc6bf3daba21059e9
ORGANIZER:Volleyball
SEQUENCE:261121625
SUMMARY:2/4 D5 N Mi.: TSV Untereisesheim 2 - TSV Erlenbach
CLASS:PUBLIC
DTSTART;VALUE=DATE:20160130
DTSTAMP:20160325T090000Z
DTEND;VALUE=DATE:20160131
END:VEVENT
BEGIN:VEVENT
UID:353872-2da69939ed67427dc6bf3daba21059e9
X-WR-RELCALID:353872-2da69939ed67427dc6bf3daba21059e9
ORGANIZER:Volleyball
SEQUENCE:261121625
SUMMARY:2/4 D5 N Mi.: TSV Untereisesheim 2 - SV Heilbronn am Leinbach 
 2
CLASS:PUBLIC
DTSTART;VALUE=DATE:20160227
DTSTAMP:20160325T090000Z
DTEND;VALUE=DATE:20160228
END:VEVENT
BEGIN:VEVENT
UID:353877-2da69939ed67427dc6bf3daba21059e9
X-WR-RELCALID:353877-2da69939ed67427dc6bf3daba21059e9
ORGANIZER:Volleyball
SEQUENCE:261121625
SUMMARY:2/4 D5 N Mi.: TSV Untereisesheim 2 - TSV Untersteinbach 2
CLASS:PUBLIC
DTSTART;VALUE=DATE:20160319
DTSTAMP:20160325T090000Z
DTEND;VALUE=DATE:20160320
END:VEVENT
BEGIN:VEVENT
UID:353879-2da69939ed67427dc6bf3daba21059e9
X-WR-RELCALID:353879-2da69939ed67427dc6bf3daba21059e9
ORGANIZER:Volleyball
SEQUENCE:261121625
SUMMARY:2/4 D5 N Mi.: TSV Untereisesheim 2 - TSV Botenheim
CLASS:PUBLIC
DTSTART;VALUE=DATE:20160319
DTSTAMP:20160325T090000Z
DTEND;VALUE=DATE:20160320
END:VEVENT
END:VCALENDAR