BEGIN:VCALENDAR
VERSION:2.0
PRODID:VSD-Portal-www.volley.de
METHOD:PUBLISH
BEGIN:VEVENT
UID:378963-2da69939ed67427dc6bf3daba21059e9
X-WR-RELCALID:378963-2da69939ed67427dc6bf3daba21059e9
ORGANIZER:Volleyball
SEQUENCE:261120356
LOCATION:SH Weserstraße Mainz, Rektor-Forestier-Str. 2, 55124 Mainz-Go
 nsenheim
GEO:50.00908890000000000000;8.21677330000000000000
SUMMARY:OL RP/S Mä.: TGM Mainz-Gonsenheim II - SG U.N.S. Rheinhessen
CLASS:PUBLIC
DTSTART:20150926T170000Z
DTSTAMP:20160325T180000Z
END:VEVENT
BEGIN:VEVENT
UID:378987-2da69939ed67427dc6bf3daba21059e9
X-WR-RELCALID:378987-2da69939ed67427dc6bf3daba21059e9
ORGANIZER:Volleyball
SEQUENCE:261120356
LOCATION:SH Weserstraße Mainz, Rektor-Forestier-Str. 2, 55124 Mainz-Go
 nsenheim
GEO:50.00908890000000000000;8.21677330000000000000
SUMMARY:OL RP/S Mä.: TGM Mainz-Gonsenheim II - VSG WW Köppel
CLASS:PUBLIC
DTSTART:20151108T140000Z
DTSTAMP:20160325T180000Z
END:VEVENT
BEGIN:VEVENT
UID:378988-2da69939ed67427dc6bf3daba21059e9
X-WR-RELCALID:378988-2da69939ed67427dc6bf3daba21059e9
ORGANIZER:Volleyball
SEQUENCE:261120356
LOCATION:SH Weserstraße Mainz, Rektor-Forestier-Str. 2, 55124 Mainz-Go
 nsenheim
GEO:50.00908890000000000000;8.21677330000000000000
SUMMARY:OL RP/S Mä.: TGM Mainz-Gonsenheim II - TV Walpershofen
CLASS:PUBLIC
DTSTART:20151114T140000Z
DTSTAMP:20160325T180000Z
END:VEVENT
BEGIN:VEVENT
UID:379002-2da69939ed67427dc6bf3daba21059e9
X-WR-RELCALID:379002-2da69939ed67427dc6bf3daba21059e9
ORGANIZER:Volleyball
SEQUENCE:261120356
LOCATION:SH Weserstraße Mainz, Rektor-Forestier-Str. 2, 55124 Mainz-Go
 nsenheim
GEO:50.00908890000000000000;8.21677330000000000000
SUMMARY:OL RP/S Mä.: TGM Mainz-Gonsenheim II - VSG Saarlouis
CLASS:PUBLIC
DTSTART:20151129T150000Z
DTSTAMP:20160325T180000Z
END:VEVENT
BEGIN:VEVENT
UID:379016-2da69939ed67427dc6bf3daba21059e9
X-WR-RELCALID:379016-2da69939ed67427dc6bf3daba21059e9
ORGANIZER:Volleyball
SEQUENCE:261120356
LOCATION:SH Weserstraße Mainz, Rektor-Forestier-Str. 2, 55124 Mainz-Go
 nsenheim
GEO:50.00908890000000000000;8.21677330000000000000
SUMMARY:OL RP/S Mä.: TGM Mainz-Gonsenheim II - TV sebamed Bad Salzig
CLASS:PUBLIC
DTSTART:20160117T140000Z
DTSTAMP:20160325T180000Z
END:VEVENT
BEGIN:VEVENT
UID:379023-2da69939ed67427dc6bf3daba21059e9
X-WR-RELCALID:379023-2da69939ed67427dc6bf3daba21059e9
ORGANIZER:Volleyball
SEQUENCE:261120356
LOCATION:SH Weserstraße Mainz, Rektor-Forestier-Str. 2, 55124 Mainz-Go
 nsenheim
GEO:50.00908890000000000000;8.21677330000000000000
SUMMARY:OL RP/S Mä.: TGM Mainz-Gonsenheim II - TV Bliesen II
CLASS:PUBLIC
DTSTART:20160130T150000Z
DTSTAMP:20160325T180000Z
END:VEVENT
BEGIN:VEVENT
UID:379032-2da69939ed67427dc6bf3daba21059e9
X-WR-RELCALID:379032-2da69939ed67427dc6bf3daba21059e9
ORGANIZER:Volleyball
SEQUENCE:261120356
LOCATION:SH Weserstraße Mainz, Rektor-Forestier-Str. 2, 55124 Mainz-Go
 nsenheim
GEO:50.00908890000000000000;8.21677330000000000000
SUMMARY:OL RP/S Mä.: TGM Mainz-Gonsenheim II - SpVgg Burgbrohl
CLASS:PUBLIC
DTSTART:20160214T150000Z
DTSTAMP:20160325T180000Z
END:VEVENT
BEGIN:VEVENT
UID:379042-2da69939ed67427dc6bf3daba21059e9
X-WR-RELCALID:379042-2da69939ed67427dc6bf3daba21059e9
ORGANIZER:Volleyball
SEQUENCE:261120356
LOCATION:SH Weserstraße Mainz, Rektor-Forestier-Str. 2, 55124 Mainz-Go
 nsenheim
GEO:50.00908890000000000000;8.21677330000000000000
SUMMARY:OL RP/S Mä.: TGM Mainz-Gonsenheim II - VC Lahnstein
CLASS:PUBLIC
DTSTART:20160228T140000Z
DTSTAMP:20160325T180000Z
END:VEVENT
BEGIN:VEVENT
UID:379049-2da69939ed67427dc6bf3daba21059e9
X-WR-RELCALID:379049-2da69939ed67427dc6bf3daba21059e9
ORGANIZER:Volleyball
SEQUENCE:261120356
LOCATION:SH Weserstraße Mainz, Rektor-Forestier-Str. 2, 55124 Mainz-Go
 nsenheim
GEO:50.00908890000000000000;8.21677330000000000000
SUMMARY:OL RP/S Mä.: TGM Mainz-Gonsenheim II - TS Germersheim
CLASS:PUBLIC
DTSTART:20160319T183000Z
DTSTAMP:20160325T180000Z
END:VEVENT
END:VCALENDAR