BEGIN:VCALENDAR
VERSION:2.0
PRODID:VSD-Portal-www.volley.de
METHOD:PUBLISH
BEGIN:VEVENT
UID:357106-2da69939ed67427dc6bf3daba21059e9
X-WR-RELCALID:357106-2da69939ed67427dc6bf3daba21059e9
ORGANIZER:Volleyball
SEQUENCE:261142110
LOCATION:Karl-Faller-Halle, Steinstraße, 79312 Emmendingen
GEO:48.12371430000000000000;7.84557700000000000000
SUMMARY:LL W Mä.: TB Emmendingen - VC Müllheim
CLASS:PUBLIC
DTSTART:20151003T123000Z
DTSTAMP:20160324T052000Z
END:VEVENT
BEGIN:VEVENT
UID:357107-2da69939ed67427dc6bf3daba21059e9
X-WR-RELCALID:357107-2da69939ed67427dc6bf3daba21059e9
ORGANIZER:Volleyball
SEQUENCE:261142110
LOCATION:Karl-Faller-Halle, Steinstraße, 79312 Emmendingen
GEO:48.12371430000000000000;7.84557700000000000000
SUMMARY:LL W Mä.: TB Emmendingen - USC Freiburg III
CLASS:PUBLIC
DTSTART:20151003T123000Z
DTSTAMP:20160324T052000Z
END:VEVENT
BEGIN:VEVENT
UID:357125-2da69939ed67427dc6bf3daba21059e9
X-WR-RELCALID:357125-2da69939ed67427dc6bf3daba21059e9
ORGANIZER:Volleyball
SEQUENCE:261142110
LOCATION:Sporthalle Zell-Weierbach, Schulstrasse 22., 77654 Offenburg
GEO:48.47597000000000000000;7.98283000000000000000
SUMMARY:LL W Mä.: TV Zell-Weierbach - TB Emmendingen
CLASS:PUBLIC
DTSTART:20151031T130000Z
DTSTAMP:20160324T052000Z
END:VEVENT
BEGIN:VEVENT
UID:357126-2da69939ed67427dc6bf3daba21059e9
X-WR-RELCALID:357126-2da69939ed67427dc6bf3daba21059e9
ORGANIZER:Volleyball
SEQUENCE:261142110
LOCATION:Sporthalle Zell-Weierbach, Schulstrasse 22., 77654 Offenburg
GEO:48.47597000000000000000;7.98283000000000000000
SUMMARY:LL W Mä.: TV Bad Säckingen - TB Emmendingen
CLASS:PUBLIC
DTSTART:20151031T130000Z
DTSTAMP:20160324T052000Z
END:VEVENT
BEGIN:VEVENT
UID:357137-2da69939ed67427dc6bf3daba21059e9
X-WR-RELCALID:357137-2da69939ed67427dc6bf3daba21059e9
ORGANIZER:Volleyball
SEQUENCE:261142110
LOCATION:Sporthalle Rotteck-Gymnasium, Lessingstr. 16, 79100 Freiburg
GEO:47.99017000000000000000;7.84148000000000000000
SUMMARY:LL W Mä.: FT 1844 Freiburg 4 - TB Emmendingen
CLASS:PUBLIC
DTSTART:20151121T133000Z
DTSTAMP:20160324T052000Z
END:VEVENT
BEGIN:VEVENT
UID:357138-2da69939ed67427dc6bf3daba21059e9
X-WR-RELCALID:357138-2da69939ed67427dc6bf3daba21059e9
ORGANIZER:Volleyball
SEQUENCE:261142110
LOCATION:Sporthalle Rotteck-Gymnasium, Lessingstr. 16, 79100 Freiburg
GEO:47.99017000000000000000;7.84148000000000000000
SUMMARY:LL W Mä.: VC Offenburg 2 - TB Emmendingen
CLASS:PUBLIC
DTSTART:20151121T133000Z
DTSTAMP:20160324T052000Z
END:VEVENT
BEGIN:VEVENT
UID:357145-2da69939ed67427dc6bf3daba21059e9
X-WR-RELCALID:357145-2da69939ed67427dc6bf3daba21059e9
ORGANIZER:Volleyball
SEQUENCE:261142110
LOCATION:Halle II, Schwarzwaldstraße 12A, 79379 Müllheim
GEO:47.81205540000000000000;7.62582130000000000000
SUMMARY:LL W Mä.: VC Müllheim - TB Emmendingen
CLASS:PUBLIC
DTSTART:20151212T130000Z
DTSTAMP:20160324T052000Z
END:VEVENT
BEGIN:VEVENT
UID:357147-2da69939ed67427dc6bf3daba21059e9
X-WR-RELCALID:357147-2da69939ed67427dc6bf3daba21059e9
ORGANIZER:Volleyball
SEQUENCE:261142110
LOCATION:Halle II, Schwarzwaldstraße 12A, 79379 Müllheim
GEO:47.81205540000000000000;7.62582130000000000000
SUMMARY:LL W Mä.: TB Emmendingen - VfR Merzhausen
CLASS:PUBLIC
DTSTART:20151212T130000Z
DTSTAMP:20160324T052000Z
END:VEVENT
BEGIN:VEVENT
UID:357154-2da69939ed67427dc6bf3daba21059e9
X-WR-RELCALID:357154-2da69939ed67427dc6bf3daba21059e9
ORGANIZER:Volleyball
SEQUENCE:261142110
LOCATION:Karl-Faller-Halle, Steinstraße, 79312 Emmendingen
GEO:48.12371430000000000000;7.84557700000000000000
SUMMARY:LL W Mä.: TB Emmendingen - FT 1844 Freiburg 3
CLASS:PUBLIC
DTSTART:20160117T100000Z
DTSTAMP:20160324T052000Z
END:VEVENT
BEGIN:VEVENT
UID:357155-2da69939ed67427dc6bf3daba21059e9
X-WR-RELCALID:357155-2da69939ed67427dc6bf3daba21059e9
ORGANIZER:Volleyball
SEQUENCE:261142110
LOCATION:Karl-Faller-Halle, Steinstraße, 79312 Emmendingen
GEO:48.12371430000000000000;7.84557700000000000000
SUMMARY:LL W Mä.: TB Emmendingen - FT 1844 Freiburg 4
CLASS:PUBLIC
DTSTART:20160117T100000Z
DTSTAMP:20160324T052000Z
END:VEVENT
BEGIN:VEVENT
UID:357160-2da69939ed67427dc6bf3daba21059e9
X-WR-RELCALID:357160-2da69939ed67427dc6bf3daba21059e9
ORGANIZER:Volleyball
SEQUENCE:261142110
LOCATION:Sporthalle Merzhausen, Am Marktplatz 1, 79249 Merzhausen
GEO:47.96630620000000000000;7.82714210000000000000
SUMMARY:LL W Mä.: VfR Merzhausen - TB Emmendingen
CLASS:PUBLIC
DTSTART:20160123T130000Z
DTSTAMP:20160324T052000Z
END:VEVENT
BEGIN:VEVENT
UID:357162-2da69939ed67427dc6bf3daba21059e9
X-WR-RELCALID:357162-2da69939ed67427dc6bf3daba21059e9
ORGANIZER:Volleyball
SEQUENCE:261142110
LOCATION:Sporthalle Merzhausen, Am Marktplatz 1, 79249 Merzhausen
GEO:47.96630620000000000000;7.82714210000000000000
SUMMARY:LL W Mä.: TB Emmendingen - TV Bad Säckingen
CLASS:PUBLIC
DTSTART:20160123T130000Z
DTSTAMP:20160324T052000Z
END:VEVENT
BEGIN:VEVENT
UID:357176-2da69939ed67427dc6bf3daba21059e9
X-WR-RELCALID:357176-2da69939ed67427dc6bf3daba21059e9
ORGANIZER:Volleyball
SEQUENCE:261142110
LOCATION:Wentzinger Halle, Ensisheimer Str. 36, 79098 Freiburg
GEO:48.01173800000000000000;7.82312250000000000000
SUMMARY:LL W Mä.: USC Freiburg III - TB Emmendingen
CLASS:PUBLIC
DTSTART:20160221T103000Z
DTSTAMP:20160324T052000Z
END:VEVENT
BEGIN:VEVENT
UID:357177-2da69939ed67427dc6bf3daba21059e9
X-WR-RELCALID:357177-2da69939ed67427dc6bf3daba21059e9
ORGANIZER:Volleyball
SEQUENCE:261142110
LOCATION:Wentzinger Halle, Ensisheimer Str. 36, 79098 Freiburg
GEO:48.01173800000000000000;7.82312250000000000000
SUMMARY:LL W Mä.: VC Weil 2 - TB Emmendingen
CLASS:PUBLIC
DTSTART:20160221T103000Z
DTSTAMP:20160324T052000Z
END:VEVENT
BEGIN:VEVENT
UID:357184-2da69939ed67427dc6bf3daba21059e9
X-WR-RELCALID:357184-2da69939ed67427dc6bf3daba21059e9
ORGANIZER:Volleyball
SEQUENCE:261142110
LOCATION:Karl-Faller-Halle, Steinstraße, 79312 Emmendingen
GEO:48.12371430000000000000;7.84557700000000000000
SUMMARY:LL W Mä.: TB Emmendingen - VC Offenburg 2
CLASS:PUBLIC
DTSTART:20160312T133000Z
DTSTAMP:20160324T052000Z
END:VEVENT
BEGIN:VEVENT
UID:357185-2da69939ed67427dc6bf3daba21059e9
X-WR-RELCALID:357185-2da69939ed67427dc6bf3daba21059e9
ORGANIZER:Volleyball
SEQUENCE:261142110
LOCATION:Karl-Faller-Halle, Steinstraße, 79312 Emmendingen
GEO:48.12371430000000000000;7.84557700000000000000
SUMMARY:LL W Mä.: TB Emmendingen - TV Zell-Weierbach
CLASS:PUBLIC
DTSTART:20160312T133000Z
DTSTAMP:20160324T052000Z
END:VEVENT
BEGIN:VEVENT
UID:357193-2da69939ed67427dc6bf3daba21059e9
X-WR-RELCALID:357193-2da69939ed67427dc6bf3daba21059e9
ORGANIZER:Volleyball
SEQUENCE:261142110
LOCATION:Turnhalle des Kantgymnasiums, Kantstr. 2, 79576 Weil am Rhein
 
GEO:47.59502000000000000000;7.61262000000000000000
SUMMARY:LL W Mä.: VC Weil 2 - TB Emmendingen
CLASS:PUBLIC
DTSTART:20160320T100000Z
DTSTAMP:20160324T052000Z
END:VEVENT
BEGIN:VEVENT
UID:357195-2da69939ed67427dc6bf3daba21059e9
X-WR-RELCALID:357195-2da69939ed67427dc6bf3daba21059e9
ORGANIZER:Volleyball
SEQUENCE:261142110
LOCATION:Turnhalle des Kantgymnasiums, Kantstr. 2, 79576 Weil am Rhein
 
GEO:47.59502000000000000000;7.61262000000000000000
SUMMARY:LL W Mä.: TB Emmendingen - FT 1844 Freiburg 3
CLASS:PUBLIC
DTSTART:20160320T100000Z
DTSTAMP:20160324T052000Z
END:VEVENT
END:VCALENDAR