BEGIN:VCALENDAR
VERSION:2.0
PRODID:VSD-Portal-www.volley.de
METHOD:PUBLISH
BEGIN:VEVENT
UID:364068-2da69939ed67427dc6bf3daba21059e9
X-WR-RELCALID:364068-2da69939ed67427dc6bf3daba21059e9
ORGANIZER:Volleyball
SEQUENCE:261121629
SUMMARY:TL Fr.: VC Gotha I - SG  ERFURT electronic I
CLASS:PUBLIC
DTSTART;VALUE=DATE:20150912
DTSTAMP:20160319T195500Z
DTEND;VALUE=DATE:20150913
END:VEVENT
BEGIN:VEVENT
UID:364077-2da69939ed67427dc6bf3daba21059e9
X-WR-RELCALID:364077-2da69939ed67427dc6bf3daba21059e9
ORGANIZER:Volleyball
SEQUENCE:261121629
SUMMARY:TL Fr.: VC Blau-Weiß Gebesee I - SG  ERFURT electronic I
CLASS:PUBLIC
DTSTART;VALUE=DATE:20151031
DTSTAMP:20160319T195500Z
DTEND;VALUE=DATE:20151101
END:VEVENT
BEGIN:VEVENT
UID:364085-2da69939ed67427dc6bf3daba21059e9
X-WR-RELCALID:364085-2da69939ed67427dc6bf3daba21059e9
ORGANIZER:Volleyball
SEQUENCE:261121629
SUMMARY:TL Fr.: 1. VSV Jena I - SG  ERFURT electronic I
CLASS:PUBLIC
DTSTART;VALUE=DATE:20151114
DTSTAMP:20160319T195500Z
DTEND;VALUE=DATE:20151115
END:VEVENT
BEGIN:VEVENT
UID:364093-2da69939ed67427dc6bf3daba21059e9
X-WR-RELCALID:364093-2da69939ed67427dc6bf3daba21059e9
ORGANIZER:Volleyball
SEQUENCE:261121629
SUMMARY:TL Fr.: SG  ERFURT electronic I - 1. Sonneberger VC 2004  I
CLASS:PUBLIC
DTSTART;VALUE=DATE:20151128
DTSTAMP:20160319T195500Z
DTEND;VALUE=DATE:20151129
END:VEVENT
BEGIN:VEVENT
UID:364094-2da69939ed67427dc6bf3daba21059e9
X-WR-RELCALID:364094-2da69939ed67427dc6bf3daba21059e9
ORGANIZER:Volleyball
SEQUENCE:261121629
SUMMARY:TL Fr.: SG  ERFURT electronic I - SWE Volley-Team III
CLASS:PUBLIC
DTSTART;VALUE=DATE:20151128
DTSTAMP:20160319T195500Z
DTEND;VALUE=DATE:20151129
END:VEVENT
BEGIN:VEVENT
UID:364098-2da69939ed67427dc6bf3daba21059e9
X-WR-RELCALID:364098-2da69939ed67427dc6bf3daba21059e9
ORGANIZER:Volleyball
SEQUENCE:261121629
SUMMARY:TL Fr.: USV VIMODROM Volleys Jena - SG  ERFURT electronic I
CLASS:PUBLIC
DTSTART;VALUE=DATE:20151205
DTSTAMP:20160319T195500Z
DTEND;VALUE=DATE:20151206
END:VEVENT
BEGIN:VEVENT
UID:364105-2da69939ed67427dc6bf3daba21059e9
X-WR-RELCALID:364105-2da69939ed67427dc6bf3daba21059e9
ORGANIZER:Volleyball
SEQUENCE:261121629
SUMMARY:TL Fr.: SVC Nordhausen I - SG  ERFURT electronic I
CLASS:PUBLIC
DTSTART;VALUE=DATE:20151212
DTSTAMP:20160319T195500Z
DTEND;VALUE=DATE:20151213
END:VEVENT
BEGIN:VEVENT
UID:364111-2da69939ed67427dc6bf3daba21059e9
X-WR-RELCALID:364111-2da69939ed67427dc6bf3daba21059e9
ORGANIZER:Volleyball
SEQUENCE:261121629
SUMMARY:TL Fr.: SG  ERFURT electronic I - VC Blau-Weiß Gebesee I
CLASS:PUBLIC
DTSTART;VALUE=DATE:20160116
DTSTAMP:20160319T195500Z
DTEND;VALUE=DATE:20160117
END:VEVENT
BEGIN:VEVENT
UID:364112-2da69939ed67427dc6bf3daba21059e9
X-WR-RELCALID:364112-2da69939ed67427dc6bf3daba21059e9
ORGANIZER:Volleyball
SEQUENCE:261121629
SUMMARY:TL Fr.: SG  ERFURT electronic I - VC Gotha I
CLASS:PUBLIC
DTSTART;VALUE=DATE:20160116
DTSTAMP:20160319T195500Z
DTEND;VALUE=DATE:20160117
END:VEVENT
BEGIN:VEVENT
UID:364116-2da69939ed67427dc6bf3daba21059e9
X-WR-RELCALID:364116-2da69939ed67427dc6bf3daba21059e9
ORGANIZER:Volleyball
SEQUENCE:261121629
SUMMARY:TL Fr.: Erfurter VC I - SG  ERFURT electronic I
CLASS:PUBLIC
DTSTART;VALUE=DATE:20160123
DTSTAMP:20160319T195500Z
DTEND;VALUE=DATE:20160124
END:VEVENT
BEGIN:VEVENT
UID:364119-2da69939ed67427dc6bf3daba21059e9
X-WR-RELCALID:364119-2da69939ed67427dc6bf3daba21059e9
ORGANIZER:Volleyball
SEQUENCE:261121629
SUMMARY:TL Fr.: SG  ERFURT electronic I - SVC Nordhausen I
CLASS:PUBLIC
DTSTART;VALUE=DATE:20160130
DTSTAMP:20160319T195500Z
DTEND;VALUE=DATE:20160131
END:VEVENT
BEGIN:VEVENT
UID:364120-2da69939ed67427dc6bf3daba21059e9
X-WR-RELCALID:364120-2da69939ed67427dc6bf3daba21059e9
ORGANIZER:Volleyball
SEQUENCE:261121629
SUMMARY:TL Fr.: SG  ERFURT electronic I - Erfurter VC I
CLASS:PUBLIC
DTSTART;VALUE=DATE:20160130
DTSTAMP:20160319T195500Z
DTEND;VALUE=DATE:20160131
END:VEVENT
BEGIN:VEVENT
UID:364124-2da69939ed67427dc6bf3daba21059e9
X-WR-RELCALID:364124-2da69939ed67427dc6bf3daba21059e9
ORGANIZER:Volleyball
SEQUENCE:261121629
SUMMARY:TL Fr.: SWE Volley-Team III - SG  ERFURT electronic I
CLASS:PUBLIC
DTSTART;VALUE=DATE:20160220
DTSTAMP:20160319T195500Z
DTEND;VALUE=DATE:20160221
END:VEVENT
BEGIN:VEVENT
UID:364131-2da69939ed67427dc6bf3daba21059e9
X-WR-RELCALID:364131-2da69939ed67427dc6bf3daba21059e9
ORGANIZER:Volleyball
SEQUENCE:261121629
SUMMARY:TL Fr.: SG  ERFURT electronic I - 1. VSV Jena I
CLASS:PUBLIC
DTSTART;VALUE=DATE:20160305
DTSTAMP:20160319T195500Z
DTEND;VALUE=DATE:20160306
END:VEVENT
BEGIN:VEVENT
UID:364132-2da69939ed67427dc6bf3daba21059e9
X-WR-RELCALID:364132-2da69939ed67427dc6bf3daba21059e9
ORGANIZER:Volleyball
SEQUENCE:261121629
SUMMARY:TL Fr.: SG  ERFURT electronic I - USV VIMODROM Volleys Jena
CLASS:PUBLIC
DTSTART;VALUE=DATE:20160305
DTSTAMP:20160319T195500Z
DTEND;VALUE=DATE:20160306
END:VEVENT
BEGIN:VEVENT
UID:364137-2da69939ed67427dc6bf3daba21059e9
X-WR-RELCALID:364137-2da69939ed67427dc6bf3daba21059e9
ORGANIZER:Volleyball
SEQUENCE:261121629
SUMMARY:TL Fr.: 1. Sonneberger VC 2004  I - SG  ERFURT electronic I
CLASS:PUBLIC
DTSTART;VALUE=DATE:20160319
DTSTAMP:20160319T195500Z
DTEND;VALUE=DATE:20160320
END:VEVENT
END:VCALENDAR