BEGIN:VCALENDAR
VERSION:2.0
PRODID:VSD-Portal-www.volley.de
METHOD:PUBLISH
BEGIN:VEVENT
UID:367382-2da69939ed67427dc6bf3daba21059e9
X-WR-RELCALID:367382-2da69939ed67427dc6bf3daba21059e9
ORGANIZER:Volleyball
SEQUENCE:261091706
LOCATION:Rheinauhalle, Jahnstraße 3, 76474 Au am Rhein
GEO:48.95149200000000000000;8.23392100000000000000
SUMMARY:BL 3 Fr.: TV Au am Rhein - TSG Bruchsal
CLASS:PUBLIC
DTSTART:20151004T090000Z
DTSTAMP:20160327T162000Z
END:VEVENT
BEGIN:VEVENT
UID:367383-2da69939ed67427dc6bf3daba21059e9
X-WR-RELCALID:367383-2da69939ed67427dc6bf3daba21059e9
ORGANIZER:Volleyball
SEQUENCE:261091706
LOCATION:Rheinauhalle, Jahnstraße 3, 76474 Au am Rhein
GEO:48.95149200000000000000;8.23392100000000000000
SUMMARY:BL 3 Fr.: TV Au am Rhein - TV Brötzingen
CLASS:PUBLIC
DTSTART:20151004T090000Z
DTSTAMP:20160327T162000Z
END:VEVENT
BEGIN:VEVENT
UID:367390-2da69939ed67427dc6bf3daba21059e9
X-WR-RELCALID:367390-2da69939ed67427dc6bf3daba21059e9
ORGANIZER:Volleyball
SEQUENCE:261091706
LOCATION:Maihäldenhalle, Leonhard-Kleber-Str. 5, 75179 Pforzheim
GEO:48.89544300000000000000;8.68167040000000000000
SUMMARY:BL 3 Fr.: SG Ersingen-Ispringen-Pforzheim - TV Au am Rhein
CLASS:PUBLIC
DTSTART:20151018T090000Z
DTSTAMP:20160327T162000Z
END:VEVENT
BEGIN:VEVENT
UID:367393-2da69939ed67427dc6bf3daba21059e9
X-WR-RELCALID:367393-2da69939ed67427dc6bf3daba21059e9
ORGANIZER:Volleyball
SEQUENCE:261091706
LOCATION:Otto-Hahn-Gymnasium, Ecke Glogauer Str./Kösliner Str., 76139 
 Karlsruhe
GEO:49.03380890000000000000;8.44417560000000000000
SUMMARY:BL 3 Fr.: SSC Karlsruhe 2 - TV Au am Rhein
CLASS:PUBLIC
DTSTART:20151024T120000Z
DTSTAMP:20160327T162000Z
END:VEVENT
BEGIN:VEVENT
UID:367399-2da69939ed67427dc6bf3daba21059e9
X-WR-RELCALID:367399-2da69939ed67427dc6bf3daba21059e9
ORGANIZER:Volleyball
SEQUENCE:261091706
LOCATION:Turnhalle der Grundschule Hochstetten, Schulstraße 15, 76351 
 Linkenheim-Hochstetten
GEO:49.13654170000000000000;8.41248860000000000000
SUMMARY:BL 3 Fr.: TV Hochstetten - TV Au am Rhein
CLASS:PUBLIC
DTSTART:20151114T130000Z
DTSTAMP:20160327T162000Z
END:VEVENT
BEGIN:VEVENT
UID:367406-2da69939ed67427dc6bf3daba21059e9
X-WR-RELCALID:367406-2da69939ed67427dc6bf3daba21059e9
ORGANIZER:Volleyball
SEQUENCE:261091706
LOCATION:Rheinwaldschule, Goethestraße 2, 76477 Elchsheim-Illingen
GEO:48.93126000000000000000;8.21096800000000000000
SUMMARY:BL 3 Fr.: TV Au am Rhein - TG Ötigheim
CLASS:PUBLIC
DTSTART:20151122T100000Z
DTSTAMP:20160327T162000Z
END:VEVENT
BEGIN:VEVENT
UID:367407-2da69939ed67427dc6bf3daba21059e9
X-WR-RELCALID:367407-2da69939ed67427dc6bf3daba21059e9
ORGANIZER:Volleyball
SEQUENCE:261091706
LOCATION:Rheinwaldschule, Goethestraße 2, 76477 Elchsheim-Illingen
GEO:48.93126000000000000000;8.21096800000000000000
SUMMARY:BL 3 Fr.: TV Au am Rhein - VC Neureut
CLASS:PUBLIC
DTSTART:20151122T100000Z
DTSTAMP:20160327T162000Z
END:VEVENT
BEGIN:VEVENT
UID:367414-2da69939ed67427dc6bf3daba21059e9
X-WR-RELCALID:367414-2da69939ed67427dc6bf3daba21059e9
ORGANIZER:Volleyball
SEQUENCE:261091706
LOCATION:KVJS-Halle, Kraichtalstraße 6, 75038 Flehingen
GEO:49.08691270000000000000;8.77281420000000000000
SUMMARY:BL 3 Fr.: TV Flehingen - TV Au am Rhein
CLASS:PUBLIC
DTSTART:20151129T130000Z
DTSTAMP:20160327T162000Z
END:VEVENT
BEGIN:VEVENT
UID:367420-2da69939ed67427dc6bf3daba21059e9
X-WR-RELCALID:367420-2da69939ed67427dc6bf3daba21059e9
ORGANIZER:Volleyball
SEQUENCE:261091706
LOCATION:Rheinauhalle, Jahnstraße 3, 76474 Au am Rhein
GEO:48.95149200000000000000;8.23392100000000000000
SUMMARY:BL 3 Fr.: TV Au am Rhein - SSC Karlsruhe 2
CLASS:PUBLIC
DTSTART:20151213T100000Z
DTSTAMP:20160327T162000Z
END:VEVENT
BEGIN:VEVENT
UID:367421-2da69939ed67427dc6bf3daba21059e9
X-WR-RELCALID:367421-2da69939ed67427dc6bf3daba21059e9
ORGANIZER:Volleyball
SEQUENCE:261091706
LOCATION:Rheinauhalle, Jahnstraße 3, 76474 Au am Rhein
GEO:48.95149200000000000000;8.23392100000000000000
SUMMARY:BL 3 Fr.: TV Au am Rhein - SG Ersingen-Ispringen-Pforzheim
CLASS:PUBLIC
DTSTART:20151213T100000Z
DTSTAMP:20160327T162000Z
END:VEVENT
BEGIN:VEVENT
UID:367426-2da69939ed67427dc6bf3daba21059e9
X-WR-RELCALID:367426-2da69939ed67427dc6bf3daba21059e9
ORGANIZER:Volleyball
SEQUENCE:261091706
LOCATION:Maihäldenhalle, Leonhard-Kleber-Str. 5, 75179 Pforzheim
GEO:48.89544300000000000000;8.68167040000000000000
SUMMARY:BL 3 Fr.: TV Brötzingen - TV Au am Rhein
CLASS:PUBLIC
DTSTART:20160124T110000Z
DTSTAMP:20160327T162000Z
END:VEVENT
BEGIN:VEVENT
UID:367431-2da69939ed67427dc6bf3daba21059e9
X-WR-RELCALID:367431-2da69939ed67427dc6bf3daba21059e9
ORGANIZER:Volleyball
SEQUENCE:261091706
LOCATION:Gewerbliches Bildungszentrum, Franz-Sigel-Str. 59a, 76646 Bru
 chsal
GEO:49.11242000000000000000;8.57186000000000000000
SUMMARY:BL 3 Fr.: TSG Bruchsal - TV Au am Rhein
CLASS:PUBLIC
DTSTART:20160213T140000Z
DTSTAMP:20160327T162000Z
END:VEVENT
BEGIN:VEVENT
UID:367436-2da69939ed67427dc6bf3daba21059e9
X-WR-RELCALID:367436-2da69939ed67427dc6bf3daba21059e9
ORGANIZER:Volleyball
SEQUENCE:261091706
LOCATION:Rheinauhalle, Jahnstraße 3, 76474 Au am Rhein
GEO:48.95149200000000000000;8.23392100000000000000
SUMMARY:BL 3 Fr.: TV Au am Rhein - TV Hochstetten
CLASS:PUBLIC
DTSTART:20160221T100000Z
DTSTAMP:20160327T162000Z
END:VEVENT
BEGIN:VEVENT
UID:367437-2da69939ed67427dc6bf3daba21059e9
X-WR-RELCALID:367437-2da69939ed67427dc6bf3daba21059e9
ORGANIZER:Volleyball
SEQUENCE:261091706
LOCATION:Rheinauhalle, Jahnstraße 3, 76474 Au am Rhein
GEO:48.95149200000000000000;8.23392100000000000000
SUMMARY:BL 3 Fr.: TV Au am Rhein - TV Flehingen
CLASS:PUBLIC
DTSTART:20160221T100000Z
DTSTAMP:20160327T162000Z
END:VEVENT
BEGIN:VEVENT
UID:367442-2da69939ed67427dc6bf3daba21059e9
X-WR-RELCALID:367442-2da69939ed67427dc6bf3daba21059e9
ORGANIZER:Volleyball
SEQUENCE:261091706
LOCATION:Schulzentrum Neureut, Unterfeldstr. 6, 76149 Neureut
GEO:49.04586000000000000000;8.37708000000000000000
SUMMARY:BL 3 Fr.: VC Neureut - TV Au am Rhein
CLASS:PUBLIC
DTSTART:20160305T140000Z
DTSTAMP:20160327T162000Z
END:VEVENT
BEGIN:VEVENT
UID:367451-2da69939ed67427dc6bf3daba21059e9
X-WR-RELCALID:367451-2da69939ed67427dc6bf3daba21059e9
ORGANIZER:Volleyball
SEQUENCE:261091706
LOCATION:Brüchelwaldhalle, Am Tellplatzweg 6, 76470 Ötigheim
GEO:48.88707000000000000000;8.23151000000000000000
SUMMARY:BL 3 Fr.: TG Ötigheim - TV Au am Rhein
CLASS:PUBLIC
DTSTART:20160319T140000Z
DTSTAMP:20160327T162000Z
END:VEVENT
END:VCALENDAR