BEGIN:VCALENDAR
VERSION:2.0
PRODID:VSD-Portal-www.volley.de
METHOD:PUBLISH
BEGIN:VEVENT
UID:387853-2da69939ed67427dc6bf3daba21059e9
X-WR-RELCALID:387853-2da69939ed67427dc6bf3daba21059e9
ORGANIZER:Volleyball
SEQUENCE:261131919
LOCATION:Realschule Plus Bitburg, Talweg 7, 54634 Bitburg
GEO:49.97485000000000000000;6.53170000000000000000
SUMMARY:BL Rh/Mos. Fr.: TV Bitburg - TV Vallendar III
CLASS:PUBLIC
DTSTART:20160917T130000Z
DTSTAMP:20170325T183000Z
END:VEVENT
BEGIN:VEVENT
UID:387861-2da69939ed67427dc6bf3daba21059e9
X-WR-RELCALID:387861-2da69939ed67427dc6bf3daba21059e9
ORGANIZER:Volleyball
SEQUENCE:261131919
LOCATION:RS Mallendarer Berg - Vallendar, Albert-Schweitzer-Straße, 56
 179 Vallendar
GEO:50.39010520000000000000;7.62964430000000000000
SUMMARY:BL Rh/Mos. Fr.: TV Vallendar III - TV Feldkirchen II
CLASS:PUBLIC
DTSTART:20160925T130000Z
DTSTAMP:20170325T183000Z
END:VEVENT
BEGIN:VEVENT
UID:387862-2da69939ed67427dc6bf3daba21059e9
X-WR-RELCALID:387862-2da69939ed67427dc6bf3daba21059e9
ORGANIZER:Volleyball
SEQUENCE:261131919
LOCATION:RS Mallendarer Berg - Vallendar, Albert-Schweitzer-Straße, 56
 179 Vallendar
GEO:50.39010520000000000000;7.62964430000000000000
SUMMARY:BL Rh/Mos. Fr.: TV Vallendar III - SV Hentern
CLASS:PUBLIC
DTSTART:20160925T130000Z
DTSTAMP:20170325T183000Z
END:VEVENT
BEGIN:VEVENT
UID:387866-2da69939ed67427dc6bf3daba21059e9
X-WR-RELCALID:387866-2da69939ed67427dc6bf3daba21059e9
ORGANIZER:Volleyball
SEQUENCE:261131919
LOCATION:Turnhalle Bremm, Auf Cales 36, 56814 Bremm
GEO:50.09750400000000000000;7.11871150000000000000
SUMMARY:BL Rh/Mos. Fr.: VBC Ediger - TV Vallendar III
CLASS:PUBLIC
DTSTART:20161029T130000Z
DTSTAMP:20170325T183000Z
END:VEVENT
BEGIN:VEVENT
UID:387870-2da69939ed67427dc6bf3daba21059e9
X-WR-RELCALID:387870-2da69939ed67427dc6bf3daba21059e9
ORGANIZER:Volleyball
SEQUENCE:261131919
LOCATION:Schackberghalle - Morbach-Gonzerath, , 54497 Morbach-Gonzerat
 h
GEO:49.85819600000000000000;7.11843810000000000000
SUMMARY:BL Rh/Mos. Fr.: SV Gonzerath I - TV Vallendar III
CLASS:PUBLIC
DTSTART:20161112T130000Z
DTSTAMP:20170325T183000Z
END:VEVENT
BEGIN:VEVENT
UID:387877-2da69939ed67427dc6bf3daba21059e9
X-WR-RELCALID:387877-2da69939ed67427dc6bf3daba21059e9
ORGANIZER:Volleyball
SEQUENCE:261131919
LOCATION:RS Mallendarer Berg - Vallendar, Albert-Schweitzer-Straße, 56
 179 Vallendar
GEO:50.39010520000000000000;7.62964430000000000000
SUMMARY:BL Rh/Mos. Fr.: TV Vallendar III - FC Wierschem II
CLASS:PUBLIC
DTSTART:20161127T100000Z
DTSTAMP:20170325T183000Z
END:VEVENT
BEGIN:VEVENT
UID:387878-2da69939ed67427dc6bf3daba21059e9
X-WR-RELCALID:387878-2da69939ed67427dc6bf3daba21059e9
ORGANIZER:Volleyball
SEQUENCE:261131919
LOCATION:RS Mallendarer Berg - Vallendar, Albert-Schweitzer-Straße, 56
 179 Vallendar
GEO:50.39010520000000000000;7.62964430000000000000
SUMMARY:BL Rh/Mos. Fr.: TV Vallendar III - TG Trier
CLASS:PUBLIC
DTSTART:20161127T100000Z
DTSTAMP:20170325T183000Z
END:VEVENT
BEGIN:VEVENT
UID:387885-2da69939ed67427dc6bf3daba21059e9
X-WR-RELCALID:387885-2da69939ed67427dc6bf3daba21059e9
ORGANIZER:Volleyball
SEQUENCE:261131919
LOCATION:Franz-Mohrs-Halle Rübenach, Am Mühlteich, 56072 Koblenz-Rüben
 ach
GEO:50.36944000000000000000;7.52314950000000000000
SUMMARY:BL Rh/Mos. Fr.: TV Rübenach - TV Vallendar III
CLASS:PUBLIC
DTSTART:20161218T110000Z
DTSTAMP:20170325T183000Z
END:VEVENT
BEGIN:VEVENT
UID:387889-2da69939ed67427dc6bf3daba21059e9
X-WR-RELCALID:387889-2da69939ed67427dc6bf3daba21059e9
ORGANIZER:Volleyball
SEQUENCE:261131919
LOCATION:Sporthalle, , 54429 Schillingen
GEO:49.63469710000000000000;6.78632090000000000000
SUMMARY:BL Rh/Mos. Fr.: SV Hentern - TV Vallendar III
CLASS:PUBLIC
DTSTART:20170114T130000Z
DTSTAMP:20170325T183000Z
END:VEVENT
BEGIN:VEVENT
UID:387897-2da69939ed67427dc6bf3daba21059e9
X-WR-RELCALID:387897-2da69939ed67427dc6bf3daba21059e9
ORGANIZER:Volleyball
SEQUENCE:261131919
LOCATION:RS Mallendarer Berg - Vallendar, Albert-Schweitzer-Straße, 56
 179 Vallendar
GEO:50.39010520000000000000;7.62964430000000000000
SUMMARY:BL Rh/Mos. Fr.: TV Vallendar III - VBC Ediger
CLASS:PUBLIC
DTSTART:20170129T140000Z
DTSTAMP:20170325T183000Z
END:VEVENT
BEGIN:VEVENT
UID:387898-2da69939ed67427dc6bf3daba21059e9
X-WR-RELCALID:387898-2da69939ed67427dc6bf3daba21059e9
ORGANIZER:Volleyball
SEQUENCE:261131919
LOCATION:RS Mallendarer Berg - Vallendar, Albert-Schweitzer-Straße, 56
 179 Vallendar
GEO:50.39010520000000000000;7.62964430000000000000
SUMMARY:BL Rh/Mos. Fr.: TV Vallendar III - SV Gonzerath I
CLASS:PUBLIC
DTSTART:20170129T140000Z
DTSTAMP:20170325T183000Z
END:VEVENT
BEGIN:VEVENT
UID:387900-2da69939ed67427dc6bf3daba21059e9
X-WR-RELCALID:387900-2da69939ed67427dc6bf3daba21059e9
ORGANIZER:Volleyball
SEQUENCE:261131919
LOCATION:Sporthalle Gymnasium, Kurfürst-Balduin-Str. 16, 56294 Münster
 maifeld
GEO:50.24422340000000000000;7.36343130000000000000
SUMMARY:BL Rh/Mos. Fr.: FC Wierschem II - TV Vallendar III
CLASS:PUBLIC
DTSTART:20170204T140000Z
DTSTAMP:20170325T183000Z
END:VEVENT
BEGIN:VEVENT
UID:387909-2da69939ed67427dc6bf3daba21059e9
X-WR-RELCALID:387909-2da69939ed67427dc6bf3daba21059e9
ORGANIZER:Volleyball
SEQUENCE:261131919
LOCATION:RS Mallendarer Berg - Vallendar, Albert-Schweitzer-Straße, 56
 179 Vallendar
GEO:50.39010520000000000000;7.62964430000000000000
SUMMARY:BL Rh/Mos. Fr.: TV Vallendar III - TV Bitburg
CLASS:PUBLIC
DTSTART:20170212T100000Z
DTSTAMP:20170325T183000Z
END:VEVENT
BEGIN:VEVENT
UID:387910-2da69939ed67427dc6bf3daba21059e9
X-WR-RELCALID:387910-2da69939ed67427dc6bf3daba21059e9
ORGANIZER:Volleyball
SEQUENCE:261131919
LOCATION:RS Mallendarer Berg - Vallendar, Albert-Schweitzer-Straße, 56
 179 Vallendar
GEO:50.39010520000000000000;7.62964430000000000000
SUMMARY:BL Rh/Mos. Fr.: TV Vallendar III - TV Rübenach
CLASS:PUBLIC
DTSTART:20170212T100000Z
DTSTAMP:20170325T183000Z
END:VEVENT
BEGIN:VEVENT
UID:387911-2da69939ed67427dc6bf3daba21059e9
X-WR-RELCALID:387911-2da69939ed67427dc6bf3daba21059e9
ORGANIZER:Volleyball
SEQUENCE:261131919
LOCATION:SH Niederbieber Neuwied, In der Laach 4, 56567 Neuwied
GEO:50.46551000000000000000;7.46822000000000000000
SUMMARY:BL Rh/Mos. Fr.: TV Feldkirchen II - TV Vallendar III
CLASS:PUBLIC
DTSTART:20170311T130000Z
DTSTAMP:20170325T183000Z
END:VEVENT
BEGIN:VEVENT
UID:387918-2da69939ed67427dc6bf3daba21059e9
X-WR-RELCALID:387918-2da69939ed67427dc6bf3daba21059e9
ORGANIZER:Volleyball
SEQUENCE:261131919
LOCATION:Toni-Chorus-Sporthalle, Ausoniusstr. 5, 54290 Trier
GEO:49.76126000000000000000;6.63442000000000000000
SUMMARY:BL Rh/Mos. Fr.: TG Trier - TV Vallendar III
CLASS:PUBLIC
DTSTART:20170325T120000Z
DTSTAMP:20170325T183000Z
END:VEVENT
END:VCALENDAR