BEGIN:VCALENDAR
VERSION:2.0
PRODID:VSD-Portal-www.volley.de
METHOD:PUBLISH
BEGIN:VEVENT
UID:387857-2da69939ed67427dc6bf3daba21059e9
X-WR-RELCALID:387857-2da69939ed67427dc6bf3daba21059e9
ORGANIZER:Volleyball
SEQUENCE:261141253
LOCATION:Toni-Chorus-Sporthalle, Ausoniusstr. 5, 54290 Trier
GEO:49.76126000000000000000;6.63442000000000000000
SUMMARY:BL Rh/Mos. Fr.: TG Trier - VBC Ediger
CLASS:PUBLIC
DTSTART:20160925T090000Z
DTSTAMP:20170325T183000Z
END:VEVENT
BEGIN:VEVENT
UID:387858-2da69939ed67427dc6bf3daba21059e9
X-WR-RELCALID:387858-2da69939ed67427dc6bf3daba21059e9
ORGANIZER:Volleyball
SEQUENCE:261141253
LOCATION:Toni-Chorus-Sporthalle, Ausoniusstr. 5, 54290 Trier
GEO:49.76126000000000000000;6.63442000000000000000
SUMMARY:BL Rh/Mos. Fr.: TG Trier - TV Bitburg
CLASS:PUBLIC
DTSTART:20160925T090000Z
DTSTAMP:20170325T183000Z
END:VEVENT
BEGIN:VEVENT
UID:387873-2da69939ed67427dc6bf3daba21059e9
X-WR-RELCALID:387873-2da69939ed67427dc6bf3daba21059e9
ORGANIZER:Volleyball
SEQUENCE:261141253
LOCATION:Toni-Chorus-Sporthalle, Ausoniusstr. 5, 54290 Trier
GEO:49.76126000000000000000;6.63442000000000000000
SUMMARY:BL Rh/Mos. Fr.: TG Trier - TV Rübenach
CLASS:PUBLIC
DTSTART:20161113T100000Z
DTSTAMP:20170325T183000Z
END:VEVENT
BEGIN:VEVENT
UID:387874-2da69939ed67427dc6bf3daba21059e9
X-WR-RELCALID:387874-2da69939ed67427dc6bf3daba21059e9
ORGANIZER:Volleyball
SEQUENCE:261141253
LOCATION:Toni-Chorus-Sporthalle, Ausoniusstr. 5, 54290 Trier
GEO:49.76126000000000000000;6.63442000000000000000
SUMMARY:BL Rh/Mos. Fr.: TG Trier - SV Hentern
CLASS:PUBLIC
DTSTART:20161113T100000Z
DTSTAMP:20170325T183000Z
END:VEVENT
BEGIN:VEVENT
UID:387903-2da69939ed67427dc6bf3daba21059e9
X-WR-RELCALID:387903-2da69939ed67427dc6bf3daba21059e9
ORGANIZER:Volleyball
SEQUENCE:261141253
LOCATION:Toni-Chorus-Sporthalle, Ausoniusstr. 5, 54290 Trier
GEO:49.76126000000000000000;6.63442000000000000000
SUMMARY:BL Rh/Mos. Fr.: TG Trier - SV Gonzerath I
CLASS:PUBLIC
DTSTART:20170205T100000Z
DTSTAMP:20170325T183000Z
END:VEVENT
BEGIN:VEVENT
UID:387904-2da69939ed67427dc6bf3daba21059e9
X-WR-RELCALID:387904-2da69939ed67427dc6bf3daba21059e9
ORGANIZER:Volleyball
SEQUENCE:261141253
LOCATION:Toni-Chorus-Sporthalle, Ausoniusstr. 5, 54290 Trier
GEO:49.76126000000000000000;6.63442000000000000000
SUMMARY:BL Rh/Mos. Fr.: TG Trier - TV Feldkirchen II
CLASS:PUBLIC
DTSTART:20170205T100000Z
DTSTAMP:20170325T183000Z
END:VEVENT
BEGIN:VEVENT
UID:387917-2da69939ed67427dc6bf3daba21059e9
X-WR-RELCALID:387917-2da69939ed67427dc6bf3daba21059e9
ORGANIZER:Volleyball
SEQUENCE:261141253
LOCATION:Toni-Chorus-Sporthalle, Ausoniusstr. 5, 54290 Trier
GEO:49.76126000000000000000;6.63442000000000000000
SUMMARY:BL Rh/Mos. Fr.: TG Trier - FC Wierschem II
CLASS:PUBLIC
DTSTART:20170325T120000Z
DTSTAMP:20170325T183000Z
END:VEVENT
BEGIN:VEVENT
UID:387918-2da69939ed67427dc6bf3daba21059e9
X-WR-RELCALID:387918-2da69939ed67427dc6bf3daba21059e9
ORGANIZER:Volleyball
SEQUENCE:261141253
LOCATION:Toni-Chorus-Sporthalle, Ausoniusstr. 5, 54290 Trier
GEO:49.76126000000000000000;6.63442000000000000000
SUMMARY:BL Rh/Mos. Fr.: TG Trier - TV Vallendar III
CLASS:PUBLIC
DTSTART:20170325T120000Z
DTSTAMP:20170325T183000Z
END:VEVENT
END:VCALENDAR