BEGIN:VCALENDAR
VERSION:2.0
PRODID:VSD-Portal-www.volley.de
METHOD:PUBLISH
BEGIN:VEVENT
UID:387856-2da69939ed67427dc6bf3daba21059e9
X-WR-RELCALID:387856-2da69939ed67427dc6bf3daba21059e9
ORGANIZER:Volleyball
SEQUENCE:261140241
LOCATION:Sporthalle Gymnasium, Kurfürst-Balduin-Str. 16, 56294 Münster
 maifeld
GEO:50.24422340000000000000;7.36343130000000000000
SUMMARY:BL Rh/Mos. Fr.: FC Wierschem II - TV Feldkirchen II
CLASS:PUBLIC
DTSTART:20160918T090000Z
DTSTAMP:20170325T183000Z
END:VEVENT
BEGIN:VEVENT
UID:387861-2da69939ed67427dc6bf3daba21059e9
X-WR-RELCALID:387861-2da69939ed67427dc6bf3daba21059e9
ORGANIZER:Volleyball
SEQUENCE:261140241
LOCATION:RS Mallendarer Berg - Vallendar, Albert-Schweitzer-Straße, 56
 179 Vallendar
GEO:50.39010520000000000000;7.62964430000000000000
SUMMARY:BL Rh/Mos. Fr.: TV Vallendar III - TV Feldkirchen II
CLASS:PUBLIC
DTSTART:20160925T130000Z
DTSTAMP:20170325T183000Z
END:VEVENT
BEGIN:VEVENT
UID:387867-2da69939ed67427dc6bf3daba21059e9
X-WR-RELCALID:387867-2da69939ed67427dc6bf3daba21059e9
ORGANIZER:Volleyball
SEQUENCE:261140241
LOCATION:SH Niederbieber Neuwied, In der Laach 4, 56567 Neuwied
GEO:50.46551000000000000000;7.46822000000000000000
SUMMARY:BL Rh/Mos. Fr.: TV Feldkirchen II - TV Bitburg
CLASS:PUBLIC
DTSTART:20161030T090000Z
DTSTAMP:20170325T183000Z
END:VEVENT
BEGIN:VEVENT
UID:387868-2da69939ed67427dc6bf3daba21059e9
X-WR-RELCALID:387868-2da69939ed67427dc6bf3daba21059e9
ORGANIZER:Volleyball
SEQUENCE:261140241
LOCATION:SH Niederbieber Neuwied, In der Laach 4, 56567 Neuwied
GEO:50.46551000000000000000;7.46822000000000000000
SUMMARY:BL Rh/Mos. Fr.: TV Feldkirchen II - TV Rübenach
CLASS:PUBLIC
DTSTART:20161030T090000Z
DTSTAMP:20170325T183000Z
END:VEVENT
BEGIN:VEVENT
UID:387869-2da69939ed67427dc6bf3daba21059e9
X-WR-RELCALID:387869-2da69939ed67427dc6bf3daba21059e9
ORGANIZER:Volleyball
SEQUENCE:261140241
LOCATION:Schackberghalle - Morbach-Gonzerath, , 54497 Morbach-Gonzerat
 h
GEO:49.85819600000000000000;7.11843810000000000000
SUMMARY:BL Rh/Mos. Fr.: SV Gonzerath I - TV Feldkirchen II
CLASS:PUBLIC
DTSTART:20161112T130000Z
DTSTAMP:20170325T183000Z
END:VEVENT
BEGIN:VEVENT
UID:387876-2da69939ed67427dc6bf3daba21059e9
X-WR-RELCALID:387876-2da69939ed67427dc6bf3daba21059e9
ORGANIZER:Volleyball
SEQUENCE:261140241
LOCATION:Sporthalle, , 54429 Schillingen
GEO:49.63469710000000000000;6.78632090000000000000
SUMMARY:BL Rh/Mos. Fr.: SV Hentern - TV Feldkirchen II
CLASS:PUBLIC
DTSTART:20161126T130000Z
DTSTAMP:20170325T183000Z
END:VEVENT
BEGIN:VEVENT
UID:387881-2da69939ed67427dc6bf3daba21059e9
X-WR-RELCALID:387881-2da69939ed67427dc6bf3daba21059e9
ORGANIZER:Volleyball
SEQUENCE:261140241
LOCATION:SH Niederbieber Neuwied, In der Laach 4, 56567 Neuwied
GEO:50.46551000000000000000;7.46822000000000000000
SUMMARY:BL Rh/Mos. Fr.: TV Feldkirchen II - TG Trier
CLASS:PUBLIC
DTSTART:20161217T130000Z
DTSTAMP:20170325T183000Z
END:VEVENT
BEGIN:VEVENT
UID:387882-2da69939ed67427dc6bf3daba21059e9
X-WR-RELCALID:387882-2da69939ed67427dc6bf3daba21059e9
ORGANIZER:Volleyball
SEQUENCE:261140241
LOCATION:SH Niederbieber Neuwied, In der Laach 4, 56567 Neuwied
GEO:50.46551000000000000000;7.46822000000000000000
SUMMARY:BL Rh/Mos. Fr.: TV Feldkirchen II - VBC Ediger
CLASS:PUBLIC
DTSTART:20161217T130000Z
DTSTAMP:20170325T183000Z
END:VEVENT
BEGIN:VEVENT
UID:387891-2da69939ed67427dc6bf3daba21059e9
X-WR-RELCALID:387891-2da69939ed67427dc6bf3daba21059e9
ORGANIZER:Volleyball
SEQUENCE:261140241
LOCATION:Franz-Mohrs-Halle Rübenach, Am Mühlteich, 56072 Koblenz-Rüben
 ach
GEO:50.36944000000000000000;7.52314950000000000000
SUMMARY:BL Rh/Mos. Fr.: TV Rübenach - TV Feldkirchen II
CLASS:PUBLIC
DTSTART:20170115T110000Z
DTSTAMP:20170325T183000Z
END:VEVENT
BEGIN:VEVENT
UID:387895-2da69939ed67427dc6bf3daba21059e9
X-WR-RELCALID:387895-2da69939ed67427dc6bf3daba21059e9
ORGANIZER:Volleyball
SEQUENCE:261140241
LOCATION:SH Niederbieber Neuwied, In der Laach 4, 56567 Neuwied
GEO:50.46551000000000000000;7.46822000000000000000
SUMMARY:BL Rh/Mos. Fr.: TV Feldkirchen II - FC Wierschem II
CLASS:PUBLIC
DTSTART:20170122T090000Z
DTSTAMP:20170325T183000Z
END:VEVENT
BEGIN:VEVENT
UID:387896-2da69939ed67427dc6bf3daba21059e9
X-WR-RELCALID:387896-2da69939ed67427dc6bf3daba21059e9
ORGANIZER:Volleyball
SEQUENCE:261140241
LOCATION:SH Niederbieber Neuwied, In der Laach 4, 56567 Neuwied
GEO:50.46551000000000000000;7.46822000000000000000
SUMMARY:BL Rh/Mos. Fr.: TV Feldkirchen II - SV Hentern
CLASS:PUBLIC
DTSTART:20170122T090000Z
DTSTAMP:20170325T183000Z
END:VEVENT
BEGIN:VEVENT
UID:387904-2da69939ed67427dc6bf3daba21059e9
X-WR-RELCALID:387904-2da69939ed67427dc6bf3daba21059e9
ORGANIZER:Volleyball
SEQUENCE:261140241
LOCATION:Toni-Chorus-Sporthalle, Ausoniusstr. 5, 54290 Trier
GEO:49.76126000000000000000;6.63442000000000000000
SUMMARY:BL Rh/Mos. Fr.: TG Trier - TV Feldkirchen II
CLASS:PUBLIC
DTSTART:20170205T100000Z
DTSTAMP:20170325T183000Z
END:VEVENT
BEGIN:VEVENT
UID:387908-2da69939ed67427dc6bf3daba21059e9
X-WR-RELCALID:387908-2da69939ed67427dc6bf3daba21059e9
ORGANIZER:Volleyball
SEQUENCE:261140241
LOCATION:Turnhalle Bremm, Auf Cales 36, 56814 Bremm
GEO:50.09750400000000000000;7.11871150000000000000
SUMMARY:BL Rh/Mos. Fr.: VBC Ediger - TV Feldkirchen II
CLASS:PUBLIC
DTSTART:20170211T140000Z
DTSTAMP:20170325T183000Z
END:VEVENT
BEGIN:VEVENT
UID:387911-2da69939ed67427dc6bf3daba21059e9
X-WR-RELCALID:387911-2da69939ed67427dc6bf3daba21059e9
ORGANIZER:Volleyball
SEQUENCE:261140241
LOCATION:SH Niederbieber Neuwied, In der Laach 4, 56567 Neuwied
GEO:50.46551000000000000000;7.46822000000000000000
SUMMARY:BL Rh/Mos. Fr.: TV Feldkirchen II - TV Vallendar III
CLASS:PUBLIC
DTSTART:20170311T130000Z
DTSTAMP:20170325T183000Z
END:VEVENT
BEGIN:VEVENT
UID:387912-2da69939ed67427dc6bf3daba21059e9
X-WR-RELCALID:387912-2da69939ed67427dc6bf3daba21059e9
ORGANIZER:Volleyball
SEQUENCE:261140241
LOCATION:SH Niederbieber Neuwied, In der Laach 4, 56567 Neuwied
GEO:50.46551000000000000000;7.46822000000000000000
SUMMARY:BL Rh/Mos. Fr.: TV Feldkirchen II - SV Gonzerath I
CLASS:PUBLIC
DTSTART:20170311T130000Z
DTSTAMP:20170325T183000Z
END:VEVENT
BEGIN:VEVENT
UID:387921-2da69939ed67427dc6bf3daba21059e9
X-WR-RELCALID:387921-2da69939ed67427dc6bf3daba21059e9
ORGANIZER:Volleyball
SEQUENCE:261140241
LOCATION:Realschule Plus Bitburg, Talweg 7, 54634 Bitburg
GEO:49.97485000000000000000;6.53170000000000000000
SUMMARY:BL Rh/Mos. Fr.: TV Bitburg - TV Feldkirchen II
CLASS:PUBLIC
DTSTART:20170325T140000Z
DTSTAMP:20170325T183000Z
END:VEVENT
END:VCALENDAR