BEGIN:VCALENDAR
VERSION:2.0
PRODID:VSD-Portal-www.volley.de
METHOD:PUBLISH
BEGIN:VEVENT
UID:387925-2da69939ed67427dc6bf3daba21059e9
X-WR-RELCALID:387925-2da69939ed67427dc6bf3daba21059e9
ORGANIZER:Volleyball
SEQUENCE:261111920
LOCATION:BBS - Andernach, Schillerring 5-7, 56626 Andernach
GEO:50.43166000000000000000;7.41128000000000000000
SUMMARY:OL RP/S Fr.: DJK Andernach - FC Wierschem
CLASS:PUBLIC
DTSTART:20160924T170000Z
DTSTAMP:20170325T211000Z
END:VEVENT
BEGIN:VEVENT
UID:387932-2da69939ed67427dc6bf3daba21059e9
X-WR-RELCALID:387932-2da69939ed67427dc6bf3daba21059e9
ORGANIZER:Volleyball
SEQUENCE:261111920
LOCATION:Jahnsporthalle, Schwalbach, Vier-Winde-Str., 66773 Schwalbach
 
GEO:49.29631550000000000000;6.81314150000000000000
SUMMARY:OL RP/S Fr.: VSG Saarlouis - FC Wierschem
CLASS:PUBLIC
DTSTART:20161009T130000Z
DTSTAMP:20170325T211000Z
END:VEVENT
BEGIN:VEVENT
UID:387934-2da69939ed67427dc6bf3daba21059e9
X-WR-RELCALID:387934-2da69939ed67427dc6bf3daba21059e9
ORGANIZER:Volleyball
SEQUENCE:261111920
LOCATION:Kreissporthalle - Mendig, Fallerstraße 65, 56743 Mendig
GEO:50.36982490000000000000;7.26643820000000000000
SUMMARY:OL RP/S Fr.: FC Wierschem - TV Quierschied
CLASS:PUBLIC
DTSTART:20161015T180000Z
DTSTAMP:20170325T211000Z
END:VEVENT
BEGIN:VEVENT
UID:387945-2da69939ed67427dc6bf3daba21059e9
X-WR-RELCALID:387945-2da69939ed67427dc6bf3daba21059e9
ORGANIZER:Volleyball
SEQUENCE:261111920
LOCATION:Halle Im Mandelgraben, Pfalzring 88, 67112 Mutterstadt
GEO:49.43951000000000000000;8.36771000000000000000
SUMMARY:OL RP/S Fr.: SC Mutterstadt - FC Wierschem
CLASS:PUBLIC
DTSTART:20161030T140000Z
DTSTAMP:20170325T211000Z
END:VEVENT
BEGIN:VEVENT
UID:387939-2da69939ed67427dc6bf3daba21059e9
X-WR-RELCALID:387939-2da69939ed67427dc6bf3daba21059e9
ORGANIZER:Volleyball
SEQUENCE:261111920
LOCATION:SH Goethe-Gymnasium Germersheim, August-Keiler-Str. 34, 76726
  Germersheim
GEO:49.21292000000000000000;8.37371200000000000000
SUMMARY:OL RP/S Fr.: TS Germersheim - FC Wierschem
CLASS:PUBLIC
DTSTART:20161105T183000Z
DTSTAMP:20170325T211000Z
END:VEVENT
BEGIN:VEVENT
UID:387947-2da69939ed67427dc6bf3daba21059e9
X-WR-RELCALID:387947-2da69939ed67427dc6bf3daba21059e9
ORGANIZER:Volleyball
SEQUENCE:261111920
LOCATION:Kreissporthalle - Mendig, Fallerstraße 65, 56743 Mendig
GEO:50.36982490000000000000;7.26643820000000000000
SUMMARY:OL RP/S Fr.: FC Wierschem - VfL Oberbieber
CLASS:PUBLIC
DTSTART:20161106T150000Z
DTSTAMP:20170325T211000Z
END:VEVENT
BEGIN:VEVENT
UID:387951-2da69939ed67427dc6bf3daba21059e9
X-WR-RELCALID:387951-2da69939ed67427dc6bf3daba21059e9
ORGANIZER:Volleyball
SEQUENCE:261111920
LOCATION:Kreissporthalle - Mendig, Fallerstraße 65, 56743 Mendig
GEO:50.36982490000000000000;7.26643820000000000000
SUMMARY:OL RP/S Fr.: FC Wierschem - SV Haag
CLASS:PUBLIC
DTSTART:20161113T150000Z
DTSTAMP:20170325T211000Z
END:VEVENT
BEGIN:VEVENT
UID:387961-2da69939ed67427dc6bf3daba21059e9
X-WR-RELCALID:387961-2da69939ed67427dc6bf3daba21059e9
ORGANIZER:Volleyball
SEQUENCE:261111920
LOCATION:Leibniz-Halle, Im Schmelzerwald, 66386 St. Ingbert
GEO:49.26876400000000000000;7.10341700000000000000
SUMMARY:OL RP/S Fr.: TV Rohrbach - FC Wierschem
CLASS:PUBLIC
DTSTART:20161127T150000Z
DTSTAMP:20170325T211000Z
END:VEVENT
BEGIN:VEVENT
UID:387965-2da69939ed67427dc6bf3daba21059e9
X-WR-RELCALID:387965-2da69939ed67427dc6bf3daba21059e9
ORGANIZER:Volleyball
SEQUENCE:261111920
LOCATION:Kreissporthalle - Mendig, Fallerstraße 65, 56743 Mendig
GEO:50.36982490000000000000;7.26643820000000000000
SUMMARY:OL RP/S Fr.: FC Wierschem - ASV Landau
CLASS:PUBLIC
DTSTART:20161210T190000Z
DTSTAMP:20170325T211000Z
END:VEVENT
BEGIN:VEVENT
UID:387971-2da69939ed67427dc6bf3daba21059e9
X-WR-RELCALID:387971-2da69939ed67427dc6bf3daba21059e9
ORGANIZER:Volleyball
SEQUENCE:261111920
LOCATION:Kreissporthalle - Mendig, Fallerstraße 65, 56743 Mendig
GEO:50.36982490000000000000;7.26643820000000000000
SUMMARY:OL RP/S Fr.: FC Wierschem - VSG Saarlouis
CLASS:PUBLIC
DTSTART:20170108T150000Z
DTSTAMP:20170325T211000Z
END:VEVENT
BEGIN:VEVENT
UID:387976-2da69939ed67427dc6bf3daba21059e9
X-WR-RELCALID:387976-2da69939ed67427dc6bf3daba21059e9
ORGANIZER:Volleyball
SEQUENCE:261111920
LOCATION:Taubenfeldhalle, -, - Quierschied
GEO:49.32476400000000000000;7.04810050000000000000
SUMMARY:OL RP/S Fr.: TV Quierschied - FC Wierschem
CLASS:PUBLIC
DTSTART:20170115T140000Z
DTSTAMP:20170325T211000Z
END:VEVENT
BEGIN:VEVENT
UID:387982-2da69939ed67427dc6bf3daba21059e9
X-WR-RELCALID:387982-2da69939ed67427dc6bf3daba21059e9
ORGANIZER:Volleyball
SEQUENCE:261111920
LOCATION:Kreissporthalle - Mendig, Fallerstraße 65, 56743 Mendig
GEO:50.36982490000000000000;7.26643820000000000000
SUMMARY:OL RP/S Fr.: FC Wierschem - TS Germersheim
CLASS:PUBLIC
DTSTART:20170122T150000Z
DTSTAMP:20170325T211000Z
END:VEVENT
BEGIN:VEVENT
UID:387987-2da69939ed67427dc6bf3daba21059e9
X-WR-RELCALID:387987-2da69939ed67427dc6bf3daba21059e9
ORGANIZER:Volleyball
SEQUENCE:261111920
LOCATION:Kreissporthalle - Mendig, Fallerstraße 65, 56743 Mendig
GEO:50.36982490000000000000;7.26643820000000000000
SUMMARY:OL RP/S Fr.: FC Wierschem - SC Mutterstadt
CLASS:PUBLIC
DTSTART:20170128T190000Z
DTSTAMP:20170325T211000Z
END:VEVENT
BEGIN:VEVENT
UID:387988-2da69939ed67427dc6bf3daba21059e9
X-WR-RELCALID:387988-2da69939ed67427dc6bf3daba21059e9
ORGANIZER:Volleyball
SEQUENCE:261111920
LOCATION:Baldenauhalle Morbach, -, 54497 Morbach
GEO:49.80824300000000000000;7.12713800000000000000
SUMMARY:OL RP/S Fr.: SV Haag - FC Wierschem
CLASS:PUBLIC
DTSTART:20170205T150000Z
DTSTAMP:20170325T211000Z
END:VEVENT
BEGIN:VEVENT
UID:387993-2da69939ed67427dc6bf3daba21059e9
X-WR-RELCALID:387993-2da69939ed67427dc6bf3daba21059e9
ORGANIZER:Volleyball
SEQUENCE:261111920
LOCATION:Kreissporthalle - Mendig, Fallerstraße 65, 56743 Mendig
GEO:50.36982490000000000000;7.26643820000000000000
SUMMARY:OL RP/S Fr.: FC Wierschem - DJK Andernach
CLASS:PUBLIC
DTSTART:20170212T150000Z
DTSTAMP:20170325T211000Z
END:VEVENT
BEGIN:VEVENT
UID:388000-2da69939ed67427dc6bf3daba21059e9
X-WR-RELCALID:388000-2da69939ed67427dc6bf3daba21059e9
ORGANIZER:Volleyball
SEQUENCE:261111920
LOCATION:Sporthalle Engers, -, - Neuwied-Engers
GEO:50.42598000000000000000;7.54682700000000000000
SUMMARY:OL RP/S Fr.: VfL Oberbieber - FC Wierschem
CLASS:PUBLIC
DTSTART:20170311T180000Z
DTSTAMP:20170325T211000Z
END:VEVENT
BEGIN:VEVENT
UID:388007-2da69939ed67427dc6bf3daba21059e9
X-WR-RELCALID:388007-2da69939ed67427dc6bf3daba21059e9
ORGANIZER:Volleyball
SEQUENCE:261111920
LOCATION:Kreissporthalle - Mendig, Fallerstraße 65, 56743 Mendig
GEO:50.36982490000000000000;7.26643820000000000000
SUMMARY:OL RP/S Fr.: FC Wierschem - TV Rohrbach
CLASS:PUBLIC
DTSTART:20170319T150000Z
DTSTAMP:20170325T211000Z
END:VEVENT
BEGIN:VEVENT
UID:388009-2da69939ed67427dc6bf3daba21059e9
X-WR-RELCALID:388009-2da69939ed67427dc6bf3daba21059e9
ORGANIZER:Volleyball
SEQUENCE:261111920
LOCATION:SH SZ Ost Landau, Woogstr. 2, 76829 Landau
GEO:49.19700210000000000000;8.12888270000000000000
SUMMARY:OL RP/S Fr.: ASV Landau - FC Wierschem
CLASS:PUBLIC
DTSTART:20170325T183000Z
DTSTAMP:20170325T211000Z
END:VEVENT
END:VCALENDAR