BEGIN:VCALENDAR
VERSION:2.0
PRODID:VSD-Portal-www.volley.de
METHOD:PUBLISH
BEGIN:VEVENT
UID:408718-2da69939ed67427dc6bf3daba21059e9
X-WR-RELCALID:408718-2da69939ed67427dc6bf3daba21059e9
ORGANIZER:Volleyball
SEQUENCE:261150209
SUMMARY:LL S Mä.: DSW Darmstadt II - TSV Auerbach
CLASS:PUBLIC
DTSTART:20160924T120000Z
DTSTAMP:20170326T174500Z
END:VEVENT
BEGIN:VEVENT
UID:408716-2da69939ed67427dc6bf3daba21059e9
X-WR-RELCALID:408716-2da69939ed67427dc6bf3daba21059e9
ORGANIZER:Volleyball
SEQUENCE:261150209
SUMMARY:LL S Mä.: TV Idstein - TG Naurod
CLASS:PUBLIC
DTSTART:20160924T130000Z
DTSTAMP:20170326T174500Z
END:VEVENT
BEGIN:VEVENT
UID:408719-2da69939ed67427dc6bf3daba21059e9
X-WR-RELCALID:408719-2da69939ed67427dc6bf3daba21059e9
ORGANIZER:Volleyball
SEQUENCE:261150209
SUMMARY:LL S Mä.: DSW Darmstadt II - SV Mörlenbach
CLASS:PUBLIC
DTSTART:20160924T130000Z
DTSTAMP:20170326T174500Z
END:VEVENT
BEGIN:VEVENT
UID:408720-2da69939ed67427dc6bf3daba21059e9
X-WR-RELCALID:408720-2da69939ed67427dc6bf3daba21059e9
ORGANIZER:Volleyball
SEQUENCE:261150209
SUMMARY:LL S Mä.: VFL Goldstein - TGB Darmstadt
CLASS:PUBLIC
DTSTART:20160924T140000Z
DTSTAMP:20170326T174500Z
END:VEVENT
BEGIN:VEVENT
UID:408717-2da69939ed67427dc6bf3daba21059e9
X-WR-RELCALID:408717-2da69939ed67427dc6bf3daba21059e9
ORGANIZER:Volleyball
SEQUENCE:261150209
SUMMARY:LL S Mä.: TV Idstein - Eintracht Wiesbaden
CLASS:PUBLIC
DTSTART:20160924T150000Z
DTSTAMP:20170326T174500Z
END:VEVENT
BEGIN:VEVENT
UID:408721-2da69939ed67427dc6bf3daba21059e9
X-WR-RELCALID:408721-2da69939ed67427dc6bf3daba21059e9
ORGANIZER:Volleyball
SEQUENCE:261150209
SUMMARY:LL S Mä.: VFL Goldstein - SSV Brensbach
CLASS:PUBLIC
DTSTART:20160924T150000Z
DTSTAMP:20170326T174500Z
END:VEVENT
BEGIN:VEVENT
UID:408728-2da69939ed67427dc6bf3daba21059e9
X-WR-RELCALID:408728-2da69939ed67427dc6bf3daba21059e9
ORGANIZER:Volleyball
SEQUENCE:261150209
SUMMARY:LL S Mä.: Eintracht Wiesbaden - TGB Darmstadt
CLASS:PUBLIC
DTSTART:20161008T130000Z
DTSTAMP:20170326T174500Z
END:VEVENT
BEGIN:VEVENT
UID:408730-2da69939ed67427dc6bf3daba21059e9
X-WR-RELCALID:408730-2da69939ed67427dc6bf3daba21059e9
ORGANIZER:Volleyball
SEQUENCE:261150209
SUMMARY:LL S Mä.: SV Mörlenbach - TG Naurod
CLASS:PUBLIC
DTSTART:20161008T130000Z
DTSTAMP:20170326T174500Z
END:VEVENT
BEGIN:VEVENT
UID:408729-2da69939ed67427dc6bf3daba21059e9
X-WR-RELCALID:408729-2da69939ed67427dc6bf3daba21059e9
ORGANIZER:Volleyball
SEQUENCE:261150209
SUMMARY:LL S Mä.: Eintracht Wiesbaden - DSW Darmstadt II
CLASS:PUBLIC
DTSTART:20161008T140000Z
DTSTAMP:20170326T174500Z
END:VEVENT
BEGIN:VEVENT
UID:408731-2da69939ed67427dc6bf3daba21059e9
X-WR-RELCALID:408731-2da69939ed67427dc6bf3daba21059e9
ORGANIZER:Volleyball
SEQUENCE:261150209
SUMMARY:LL S Mä.: SV Mörlenbach - VFL Goldstein
CLASS:PUBLIC
DTSTART:20161008T140000Z
DTSTAMP:20170326T174500Z
END:VEVENT
BEGIN:VEVENT
UID:408736-2da69939ed67427dc6bf3daba21059e9
X-WR-RELCALID:408736-2da69939ed67427dc6bf3daba21059e9
ORGANIZER:Volleyball
SEQUENCE:261150209
SUMMARY:LL S Mä.: TG Naurod - SSV Brensbach
CLASS:PUBLIC
DTSTART:20161112T140000Z
DTSTAMP:20170326T174500Z
END:VEVENT
BEGIN:VEVENT
UID:408737-2da69939ed67427dc6bf3daba21059e9
X-WR-RELCALID:408737-2da69939ed67427dc6bf3daba21059e9
ORGANIZER:Volleyball
SEQUENCE:261150209
SUMMARY:LL S Mä.: TG Naurod - DSW Darmstadt II
CLASS:PUBLIC
DTSTART:20161112T150000Z
DTSTAMP:20170326T174500Z
END:VEVENT
BEGIN:VEVENT
UID:408738-2da69939ed67427dc6bf3daba21059e9
X-WR-RELCALID:408738-2da69939ed67427dc6bf3daba21059e9
ORGANIZER:Volleyball
SEQUENCE:261150209
SUMMARY:LL S Mä.: TSV Auerbach - Eintracht Wiesbaden
CLASS:PUBLIC
DTSTART:20161112T150000Z
DTSTAMP:20170326T174500Z
END:VEVENT
BEGIN:VEVENT
UID:408739-2da69939ed67427dc6bf3daba21059e9
X-WR-RELCALID:408739-2da69939ed67427dc6bf3daba21059e9
ORGANIZER:Volleyball
SEQUENCE:261150209
SUMMARY:LL S Mä.: TSV Auerbach - VFL Goldstein
CLASS:PUBLIC
DTSTART:20161112T160000Z
DTSTAMP:20170326T174500Z
END:VEVENT
BEGIN:VEVENT
UID:408734-2da69939ed67427dc6bf3daba21059e9
X-WR-RELCALID:408734-2da69939ed67427dc6bf3daba21059e9
ORGANIZER:Volleyball
SEQUENCE:261150209
SUMMARY:LL S Mä.: TGB Darmstadt - SV Mörlenbach
CLASS:PUBLIC
DTSTART:20161113T110000Z
DTSTAMP:20170326T174500Z
END:VEVENT
BEGIN:VEVENT
UID:408735-2da69939ed67427dc6bf3daba21059e9
X-WR-RELCALID:408735-2da69939ed67427dc6bf3daba21059e9
ORGANIZER:Volleyball
SEQUENCE:261150209
SUMMARY:LL S Mä.: TGB Darmstadt - TV Idstein
CLASS:PUBLIC
DTSTART:20161113T120000Z
DTSTAMP:20170326T174500Z
END:VEVENT
BEGIN:VEVENT
UID:408742-2da69939ed67427dc6bf3daba21059e9
X-WR-RELCALID:408742-2da69939ed67427dc6bf3daba21059e9
ORGANIZER:Volleyball
SEQUENCE:261150209
SUMMARY:LL S Mä.: SV Mörlenbach - TV Idstein
CLASS:PUBLIC
DTSTART:20161120T110000Z
DTSTAMP:20170326T174500Z
END:VEVENT
BEGIN:VEVENT
UID:408740-2da69939ed67427dc6bf3daba21059e9
X-WR-RELCALID:408740-2da69939ed67427dc6bf3daba21059e9
ORGANIZER:Volleyball
SEQUENCE:261150209
SUMMARY:LL S Mä.: DSW Darmstadt II - VFL Goldstein
CLASS:PUBLIC
DTSTART:20161120T120000Z
DTSTAMP:20170326T174500Z
END:VEVENT
BEGIN:VEVENT
UID:408743-2da69939ed67427dc6bf3daba21059e9
X-WR-RELCALID:408743-2da69939ed67427dc6bf3daba21059e9
ORGANIZER:Volleyball
SEQUENCE:261150209
SUMMARY:LL S Mä.: SV Mörlenbach - SSV Brensbach
CLASS:PUBLIC
DTSTART:20161120T120000Z
DTSTAMP:20170326T174500Z
END:VEVENT
BEGIN:VEVENT
UID:408741-2da69939ed67427dc6bf3daba21059e9
X-WR-RELCALID:408741-2da69939ed67427dc6bf3daba21059e9
ORGANIZER:Volleyball
SEQUENCE:261150209
SUMMARY:LL S Mä.: DSW Darmstadt II - TGB Darmstadt
CLASS:PUBLIC
DTSTART:20161120T130000Z
DTSTAMP:20170326T174500Z
END:VEVENT
BEGIN:VEVENT
UID:408744-2da69939ed67427dc6bf3daba21059e9
X-WR-RELCALID:408744-2da69939ed67427dc6bf3daba21059e9
ORGANIZER:Volleyball
SEQUENCE:261150209
SUMMARY:LL S Mä.: TG Naurod - Eintracht Wiesbaden
CLASS:PUBLIC
DTSTART:20161120T130000Z
DTSTAMP:20170326T174500Z
END:VEVENT
BEGIN:VEVENT
UID:408745-2da69939ed67427dc6bf3daba21059e9
X-WR-RELCALID:408745-2da69939ed67427dc6bf3daba21059e9
ORGANIZER:Volleyball
SEQUENCE:261150209
SUMMARY:LL S Mä.: TG Naurod - TSV Auerbach
CLASS:PUBLIC
DTSTART:20161120T140000Z
DTSTAMP:20170326T174500Z
END:VEVENT
BEGIN:VEVENT
UID:408746-2da69939ed67427dc6bf3daba21059e9
X-WR-RELCALID:408746-2da69939ed67427dc6bf3daba21059e9
ORGANIZER:Volleyball
SEQUENCE:261150209
SUMMARY:LL S Mä.: TV Idstein - DSW Darmstadt II
CLASS:PUBLIC
DTSTART:20161126T130000Z
DTSTAMP:20170326T174500Z
END:VEVENT
BEGIN:VEVENT
UID:408747-2da69939ed67427dc6bf3daba21059e9
X-WR-RELCALID:408747-2da69939ed67427dc6bf3daba21059e9
ORGANIZER:Volleyball
SEQUENCE:261150209
SUMMARY:LL S Mä.: TV Idstein - TSV Auerbach
CLASS:PUBLIC
DTSTART:20161126T140000Z
DTSTAMP:20170326T174500Z
END:VEVENT
BEGIN:VEVENT
UID:408750-2da69939ed67427dc6bf3daba21059e9
X-WR-RELCALID:408750-2da69939ed67427dc6bf3daba21059e9
ORGANIZER:Volleyball
SEQUENCE:261150209
SUMMARY:LL S Mä.: TGB Darmstadt - SSV Brensbach
CLASS:PUBLIC
DTSTART:20161126T140000Z
DTSTAMP:20170326T174500Z
END:VEVENT
BEGIN:VEVENT
UID:408751-2da69939ed67427dc6bf3daba21059e9
X-WR-RELCALID:408751-2da69939ed67427dc6bf3daba21059e9
ORGANIZER:Volleyball
SEQUENCE:261150209
SUMMARY:LL S Mä.: TGB Darmstadt - TG Naurod
CLASS:PUBLIC
DTSTART:20161126T150000Z
DTSTAMP:20170326T174500Z
END:VEVENT
BEGIN:VEVENT
UID:408748-2da69939ed67427dc6bf3daba21059e9
X-WR-RELCALID:408748-2da69939ed67427dc6bf3daba21059e9
ORGANIZER:Volleyball
SEQUENCE:261150209
SUMMARY:LL S Mä.: Eintracht Wiesbaden - VFL Goldstein
CLASS:PUBLIC
DTSTART:20161127T100000Z
DTSTAMP:20170326T174500Z
END:VEVENT
BEGIN:VEVENT
UID:408749-2da69939ed67427dc6bf3daba21059e9
X-WR-RELCALID:408749-2da69939ed67427dc6bf3daba21059e9
ORGANIZER:Volleyball
SEQUENCE:261150209
SUMMARY:LL S Mä.: Eintracht Wiesbaden - SV Mörlenbach
CLASS:PUBLIC
DTSTART:20161127T110000Z
DTSTAMP:20170326T174500Z
END:VEVENT
BEGIN:VEVENT
UID:408754-2da69939ed67427dc6bf3daba21059e9
X-WR-RELCALID:408754-2da69939ed67427dc6bf3daba21059e9
ORGANIZER:Volleyball
SEQUENCE:261150209
SUMMARY:LL S Mä.: SSV Brensbach - DSW Darmstadt II
CLASS:PUBLIC
DTSTART:20161210T140000Z
DTSTAMP:20170326T174500Z
END:VEVENT
BEGIN:VEVENT
UID:408755-2da69939ed67427dc6bf3daba21059e9
X-WR-RELCALID:408755-2da69939ed67427dc6bf3daba21059e9
ORGANIZER:Volleyball
SEQUENCE:261150209
SUMMARY:LL S Mä.: SSV Brensbach - Eintracht Wiesbaden
CLASS:PUBLIC
DTSTART:20161210T150000Z
DTSTAMP:20170326T174500Z
END:VEVENT
BEGIN:VEVENT
UID:408756-2da69939ed67427dc6bf3daba21059e9
X-WR-RELCALID:408756-2da69939ed67427dc6bf3daba21059e9
ORGANIZER:Volleyball
SEQUENCE:261150209
SUMMARY:LL S Mä.: TSV Auerbach - SV Mörlenbach
CLASS:PUBLIC
DTSTART:20161210T150000Z
DTSTAMP:20170326T174500Z
END:VEVENT
BEGIN:VEVENT
UID:408757-2da69939ed67427dc6bf3daba21059e9
X-WR-RELCALID:408757-2da69939ed67427dc6bf3daba21059e9
ORGANIZER:Volleyball
SEQUENCE:261150209
SUMMARY:LL S Mä.: TSV Auerbach - TGB Darmstadt
CLASS:PUBLIC
DTSTART:20161210T160000Z
DTSTAMP:20170326T174500Z
END:VEVENT
BEGIN:VEVENT
UID:408752-2da69939ed67427dc6bf3daba21059e9
X-WR-RELCALID:408752-2da69939ed67427dc6bf3daba21059e9
ORGANIZER:Volleyball
SEQUENCE:261150209
SUMMARY:LL S Mä.: VFL Goldstein - TV Idstein
CLASS:PUBLIC
DTSTART:20161211T090000Z
DTSTAMP:20170326T174500Z
END:VEVENT
BEGIN:VEVENT
UID:408753-2da69939ed67427dc6bf3daba21059e9
X-WR-RELCALID:408753-2da69939ed67427dc6bf3daba21059e9
ORGANIZER:Volleyball
SEQUENCE:261150209
SUMMARY:LL S Mä.: VFL Goldstein - TG Naurod
CLASS:PUBLIC
DTSTART:20161211T100000Z
DTSTAMP:20170326T174500Z
END:VEVENT
BEGIN:VEVENT
UID:408758-2da69939ed67427dc6bf3daba21059e9
X-WR-RELCALID:408758-2da69939ed67427dc6bf3daba21059e9
ORGANIZER:Volleyball
SEQUENCE:261150209
SUMMARY:LL S Mä.: TV Idstein - TGB Darmstadt
CLASS:PUBLIC
DTSTART:20161217T140000Z
DTSTAMP:20170326T174500Z
END:VEVENT
BEGIN:VEVENT
UID:408759-2da69939ed67427dc6bf3daba21059e9
X-WR-RELCALID:408759-2da69939ed67427dc6bf3daba21059e9
ORGANIZER:Volleyball
SEQUENCE:261150209
SUMMARY:LL S Mä.: TV Idstein - SV Mörlenbach
CLASS:PUBLIC
DTSTART:20161217T150000Z
DTSTAMP:20170326T174500Z
END:VEVENT
BEGIN:VEVENT
UID:408732-2da69939ed67427dc6bf3daba21059e9
X-WR-RELCALID:408732-2da69939ed67427dc6bf3daba21059e9
ORGANIZER:Volleyball
SEQUENCE:261150209
SUMMARY:LL S Mä.: SSV Brensbach - TSV Auerbach
CLASS:PUBLIC
DTSTART:20170114T140000Z
DTSTAMP:20170326T174500Z
END:VEVENT
BEGIN:VEVENT
UID:408733-2da69939ed67427dc6bf3daba21059e9
X-WR-RELCALID:408733-2da69939ed67427dc6bf3daba21059e9
ORGANIZER:Volleyball
SEQUENCE:261150209
SUMMARY:LL S Mä.: SSV Brensbach - TV Idstein
CLASS:PUBLIC
DTSTART:20170114T150000Z
DTSTAMP:20170326T174500Z
END:VEVENT
BEGIN:VEVENT
UID:408766-2da69939ed67427dc6bf3daba21059e9
X-WR-RELCALID:408766-2da69939ed67427dc6bf3daba21059e9
ORGANIZER:Volleyball
SEQUENCE:261150209
SUMMARY:LL S Mä.: SV Mörlenbach - TSV Auerbach
CLASS:PUBLIC
DTSTART:20170121T140000Z
DTSTAMP:20170326T174500Z
END:VEVENT
BEGIN:VEVENT
UID:408768-2da69939ed67427dc6bf3daba21059e9
X-WR-RELCALID:408768-2da69939ed67427dc6bf3daba21059e9
ORGANIZER:Volleyball
SEQUENCE:261150209
SUMMARY:LL S Mä.: SSV Brensbach - TGB Darmstadt
CLASS:PUBLIC
DTSTART:20170121T140000Z
DTSTAMP:20170326T174500Z
END:VEVENT
BEGIN:VEVENT
UID:408767-2da69939ed67427dc6bf3daba21059e9
X-WR-RELCALID:408767-2da69939ed67427dc6bf3daba21059e9
ORGANIZER:Volleyball
SEQUENCE:261150209
SUMMARY:LL S Mä.: SV Mörlenbach - DSW Darmstadt II
CLASS:PUBLIC
DTSTART:20170121T150000Z
DTSTAMP:20170326T174500Z
END:VEVENT
BEGIN:VEVENT
UID:408769-2da69939ed67427dc6bf3daba21059e9
X-WR-RELCALID:408769-2da69939ed67427dc6bf3daba21059e9
ORGANIZER:Volleyball
SEQUENCE:261150209
SUMMARY:LL S Mä.: SSV Brensbach - VFL Goldstein
CLASS:PUBLIC
DTSTART:20170121T150000Z
DTSTAMP:20170326T174500Z
END:VEVENT
BEGIN:VEVENT
UID:408764-2da69939ed67427dc6bf3daba21059e9
X-WR-RELCALID:408764-2da69939ed67427dc6bf3daba21059e9
ORGANIZER:Volleyball
SEQUENCE:261150209
SUMMARY:LL S Mä.: Eintracht Wiesbaden - TG Naurod
CLASS:PUBLIC
DTSTART:20170122T100000Z
DTSTAMP:20170326T174500Z
END:VEVENT
BEGIN:VEVENT
UID:408765-2da69939ed67427dc6bf3daba21059e9
X-WR-RELCALID:408765-2da69939ed67427dc6bf3daba21059e9
ORGANIZER:Volleyball
SEQUENCE:261150209
SUMMARY:LL S Mä.: Eintracht Wiesbaden - TV Idstein
CLASS:PUBLIC
DTSTART:20170122T110000Z
DTSTAMP:20170326T174500Z
END:VEVENT
BEGIN:VEVENT
UID:408772-2da69939ed67427dc6bf3daba21059e9
X-WR-RELCALID:408772-2da69939ed67427dc6bf3daba21059e9
ORGANIZER:Volleyball
SEQUENCE:261150209
SUMMARY:LL S Mä.: TG Naurod - SV Mörlenbach
CLASS:PUBLIC
DTSTART:20170128T140000Z
DTSTAMP:20170326T174500Z
END:VEVENT
BEGIN:VEVENT
UID:408773-2da69939ed67427dc6bf3daba21059e9
X-WR-RELCALID:408773-2da69939ed67427dc6bf3daba21059e9
ORGANIZER:Volleyball
SEQUENCE:261150209
SUMMARY:LL S Mä.: TG Naurod - VFL Goldstein
CLASS:PUBLIC
DTSTART:20170128T150000Z
DTSTAMP:20170326T174500Z
END:VEVENT
BEGIN:VEVENT
UID:408774-2da69939ed67427dc6bf3daba21059e9
X-WR-RELCALID:408774-2da69939ed67427dc6bf3daba21059e9
ORGANIZER:Volleyball
SEQUENCE:261150209
SUMMARY:LL S Mä.: TSV Auerbach - SSV Brensbach
CLASS:PUBLIC
DTSTART:20170128T150000Z
DTSTAMP:20170326T174500Z
END:VEVENT
BEGIN:VEVENT
UID:408770-2da69939ed67427dc6bf3daba21059e9
X-WR-RELCALID:408770-2da69939ed67427dc6bf3daba21059e9
ORGANIZER:Volleyball
SEQUENCE:261150209
SUMMARY:LL S Mä.: TGB Darmstadt - Eintracht Wiesbaden
CLASS:PUBLIC
DTSTART:20170128T160000Z
DTSTAMP:20170326T174500Z
END:VEVENT
BEGIN:VEVENT
UID:408775-2da69939ed67427dc6bf3daba21059e9
X-WR-RELCALID:408775-2da69939ed67427dc6bf3daba21059e9
ORGANIZER:Volleyball
SEQUENCE:261150209
SUMMARY:LL S Mä.: TSV Auerbach - TV Idstein
CLASS:PUBLIC
DTSTART:20170128T160000Z
DTSTAMP:20170326T174500Z
END:VEVENT
BEGIN:VEVENT
UID:408771-2da69939ed67427dc6bf3daba21059e9
X-WR-RELCALID:408771-2da69939ed67427dc6bf3daba21059e9
ORGANIZER:Volleyball
SEQUENCE:261150209
SUMMARY:LL S Mä.: TGB Darmstadt - DSW Darmstadt II
CLASS:PUBLIC
DTSTART:20170128T170000Z
DTSTAMP:20170326T174500Z
END:VEVENT
BEGIN:VEVENT
UID:408784-2da69939ed67427dc6bf3daba21059e9
X-WR-RELCALID:408784-2da69939ed67427dc6bf3daba21059e9
ORGANIZER:Volleyball
SEQUENCE:261150209
SUMMARY:LL S Mä.: SSV Brensbach - SV Mörlenbach
CLASS:PUBLIC
DTSTART:20170211T140000Z
DTSTAMP:20170326T174500Z
END:VEVENT
BEGIN:VEVENT
UID:408785-2da69939ed67427dc6bf3daba21059e9
X-WR-RELCALID:408785-2da69939ed67427dc6bf3daba21059e9
ORGANIZER:Volleyball
SEQUENCE:261150209
SUMMARY:LL S Mä.: SSV Brensbach - TG Naurod
CLASS:PUBLIC
DTSTART:20170211T150000Z
DTSTAMP:20170326T174500Z
END:VEVENT
BEGIN:VEVENT
UID:408782-2da69939ed67427dc6bf3daba21059e9
X-WR-RELCALID:408782-2da69939ed67427dc6bf3daba21059e9
ORGANIZER:Volleyball
SEQUENCE:261150209
SUMMARY:LL S Mä.: DSW Darmstadt II - TV Idstein
CLASS:PUBLIC
DTSTART:20170212T090000Z
DTSTAMP:20170326T174500Z
END:VEVENT
BEGIN:VEVENT
UID:408783-2da69939ed67427dc6bf3daba21059e9
X-WR-RELCALID:408783-2da69939ed67427dc6bf3daba21059e9
ORGANIZER:Volleyball
SEQUENCE:261150209
SUMMARY:LL S Mä.: DSW Darmstadt II - Eintracht Wiesbaden
CLASS:PUBLIC
DTSTART:20170212T100000Z
DTSTAMP:20170326T174500Z
END:VEVENT
BEGIN:VEVENT
UID:408787-2da69939ed67427dc6bf3daba21059e9
X-WR-RELCALID:408787-2da69939ed67427dc6bf3daba21059e9
ORGANIZER:Volleyball
SEQUENCE:261150209
SUMMARY:LL S Mä.: TGB Darmstadt - TSV Auerbach
CLASS:PUBLIC
DTSTART:20170212T110000Z
DTSTAMP:20170326T174500Z
END:VEVENT
BEGIN:VEVENT
UID:408786-2da69939ed67427dc6bf3daba21059e9
X-WR-RELCALID:408786-2da69939ed67427dc6bf3daba21059e9
ORGANIZER:Volleyball
SEQUENCE:261150209
SUMMARY:LL S Mä.: TGB Darmstadt - VFL Goldstein
CLASS:PUBLIC
DTSTART:20170212T120000Z
DTSTAMP:20170326T174500Z
END:VEVENT
BEGIN:VEVENT
UID:408792-2da69939ed67427dc6bf3daba21059e9
X-WR-RELCALID:408792-2da69939ed67427dc6bf3daba21059e9
ORGANIZER:Volleyball
SEQUENCE:261150209
SUMMARY:LL S Mä.: TG Naurod - TV Idstein
CLASS:PUBLIC
DTSTART:20170218T140000Z
DTSTAMP:20170326T174500Z
END:VEVENT
BEGIN:VEVENT
UID:408788-2da69939ed67427dc6bf3daba21059e9
X-WR-RELCALID:408788-2da69939ed67427dc6bf3daba21059e9
ORGANIZER:Volleyball
SEQUENCE:261150209
SUMMARY:LL S Mä.: VFL Goldstein - DSW Darmstadt II
CLASS:PUBLIC
DTSTART:20170218T150000Z
DTSTAMP:20170326T174500Z
END:VEVENT
BEGIN:VEVENT
UID:408793-2da69939ed67427dc6bf3daba21059e9
X-WR-RELCALID:408793-2da69939ed67427dc6bf3daba21059e9
ORGANIZER:Volleyball
SEQUENCE:261150209
SUMMARY:LL S Mä.: TG Naurod - TGB Darmstadt
CLASS:PUBLIC
DTSTART:20170218T150000Z
DTSTAMP:20170326T174500Z
END:VEVENT
BEGIN:VEVENT
UID:408789-2da69939ed67427dc6bf3daba21059e9
X-WR-RELCALID:408789-2da69939ed67427dc6bf3daba21059e9
ORGANIZER:Volleyball
SEQUENCE:261150209
SUMMARY:LL S Mä.: VFL Goldstein - SV Mörlenbach
CLASS:PUBLIC
DTSTART:20170218T160000Z
DTSTAMP:20170326T174500Z
END:VEVENT
BEGIN:VEVENT
UID:408790-2da69939ed67427dc6bf3daba21059e9
X-WR-RELCALID:408790-2da69939ed67427dc6bf3daba21059e9
ORGANIZER:Volleyball
SEQUENCE:261150209
SUMMARY:LL S Mä.: Eintracht Wiesbaden - SSV Brensbach
CLASS:PUBLIC
DTSTART:20170219T100000Z
DTSTAMP:20170326T174500Z
END:VEVENT
BEGIN:VEVENT
UID:408791-2da69939ed67427dc6bf3daba21059e9
X-WR-RELCALID:408791-2da69939ed67427dc6bf3daba21059e9
ORGANIZER:Volleyball
SEQUENCE:261150209
SUMMARY:LL S Mä.: Eintracht Wiesbaden - TSV Auerbach
CLASS:PUBLIC
DTSTART:20170219T110000Z
DTSTAMP:20170326T174500Z
END:VEVENT
BEGIN:VEVENT
UID:408794-2da69939ed67427dc6bf3daba21059e9
X-WR-RELCALID:408794-2da69939ed67427dc6bf3daba21059e9
ORGANIZER:Volleyball
SEQUENCE:261150209
SUMMARY:LL S Mä.: TV Idstein - VFL Goldstein
CLASS:PUBLIC
DTSTART:20170311T140000Z
DTSTAMP:20170326T174500Z
END:VEVENT
BEGIN:VEVENT
UID:408796-2da69939ed67427dc6bf3daba21059e9
X-WR-RELCALID:408796-2da69939ed67427dc6bf3daba21059e9
ORGANIZER:Volleyball
SEQUENCE:261150209
SUMMARY:LL S Mä.: SV Mörlenbach - Eintracht Wiesbaden
CLASS:PUBLIC
DTSTART:20170311T140000Z
DTSTAMP:20170326T174500Z
END:VEVENT
BEGIN:VEVENT
UID:408795-2da69939ed67427dc6bf3daba21059e9
X-WR-RELCALID:408795-2da69939ed67427dc6bf3daba21059e9
ORGANIZER:Volleyball
SEQUENCE:261150209
SUMMARY:LL S Mä.: TV Idstein - SSV Brensbach
CLASS:PUBLIC
DTSTART:20170311T150000Z
DTSTAMP:20170326T174500Z
END:VEVENT
BEGIN:VEVENT
UID:408797-2da69939ed67427dc6bf3daba21059e9
X-WR-RELCALID:408797-2da69939ed67427dc6bf3daba21059e9
ORGANIZER:Volleyball
SEQUENCE:261150209
SUMMARY:LL S Mä.: SV Mörlenbach - TGB Darmstadt
CLASS:PUBLIC
DTSTART:20170311T150000Z
DTSTAMP:20170326T174500Z
END:VEVENT
BEGIN:VEVENT
UID:408798-2da69939ed67427dc6bf3daba21059e9
X-WR-RELCALID:408798-2da69939ed67427dc6bf3daba21059e9
ORGANIZER:Volleyball
SEQUENCE:261150209
SUMMARY:LL S Mä.: TSV Auerbach - DSW Darmstadt II
CLASS:PUBLIC
DTSTART:20170311T150000Z
DTSTAMP:20170326T174500Z
END:VEVENT
BEGIN:VEVENT
UID:408799-2da69939ed67427dc6bf3daba21059e9
X-WR-RELCALID:408799-2da69939ed67427dc6bf3daba21059e9
ORGANIZER:Volleyball
SEQUENCE:261150209
SUMMARY:LL S Mä.: TSV Auerbach - TG Naurod
CLASS:PUBLIC
DTSTART:20170311T160000Z
DTSTAMP:20170326T174500Z
END:VEVENT
BEGIN:VEVENT
UID:408800-2da69939ed67427dc6bf3daba21059e9
X-WR-RELCALID:408800-2da69939ed67427dc6bf3daba21059e9
ORGANIZER:Volleyball
SEQUENCE:261150209
SUMMARY:LL S Mä.: DSW Darmstadt II - TG Naurod
CLASS:PUBLIC
DTSTART:20170325T130000Z
DTSTAMP:20170326T174500Z
END:VEVENT
BEGIN:VEVENT
UID:408801-2da69939ed67427dc6bf3daba21059e9
X-WR-RELCALID:408801-2da69939ed67427dc6bf3daba21059e9
ORGANIZER:Volleyball
SEQUENCE:261150209
SUMMARY:LL S Mä.: DSW Darmstadt II - SSV Brensbach
CLASS:PUBLIC
DTSTART:20170325T140000Z
DTSTAMP:20170326T174500Z
END:VEVENT
BEGIN:VEVENT
UID:408802-2da69939ed67427dc6bf3daba21059e9
X-WR-RELCALID:408802-2da69939ed67427dc6bf3daba21059e9
ORGANIZER:Volleyball
SEQUENCE:261150209
SUMMARY:LL S Mä.: VFL Goldstein - TSV Auerbach
CLASS:PUBLIC
DTSTART:20170326T130000Z
DTSTAMP:20170326T174500Z
END:VEVENT
BEGIN:VEVENT
UID:408803-2da69939ed67427dc6bf3daba21059e9
X-WR-RELCALID:408803-2da69939ed67427dc6bf3daba21059e9
ORGANIZER:Volleyball
SEQUENCE:261150209
SUMMARY:LL S Mä.: VFL Goldstein - Eintracht Wiesbaden
CLASS:PUBLIC
DTSTART:20170326T140000Z
DTSTAMP:20170326T174500Z
END:VEVENT
END:VCALENDAR