BEGIN:VCALENDAR
VERSION:2.0
PRODID:VSD-Portal-www.volley.de
METHOD:PUBLISH
BEGIN:VEVENT
UID:408720-2da69939ed67427dc6bf3daba21059e9
X-WR-RELCALID:408720-2da69939ed67427dc6bf3daba21059e9
ORGANIZER:Volleyball
SEQUENCE:261141656
SUMMARY:LL S Mä.: VFL Goldstein - TGB Darmstadt
CLASS:PUBLIC
DTSTART:20160924T140000Z
DTSTAMP:20170326T174500Z
END:VEVENT
BEGIN:VEVENT
UID:408721-2da69939ed67427dc6bf3daba21059e9
X-WR-RELCALID:408721-2da69939ed67427dc6bf3daba21059e9
ORGANIZER:Volleyball
SEQUENCE:261141656
SUMMARY:LL S Mä.: VFL Goldstein - SSV Brensbach
CLASS:PUBLIC
DTSTART:20160924T150000Z
DTSTAMP:20170326T174500Z
END:VEVENT
BEGIN:VEVENT
UID:408731-2da69939ed67427dc6bf3daba21059e9
X-WR-RELCALID:408731-2da69939ed67427dc6bf3daba21059e9
ORGANIZER:Volleyball
SEQUENCE:261141656
SUMMARY:LL S Mä.: SV Mörlenbach - VFL Goldstein
CLASS:PUBLIC
DTSTART:20161008T140000Z
DTSTAMP:20170326T174500Z
END:VEVENT
BEGIN:VEVENT
UID:408739-2da69939ed67427dc6bf3daba21059e9
X-WR-RELCALID:408739-2da69939ed67427dc6bf3daba21059e9
ORGANIZER:Volleyball
SEQUENCE:261141656
SUMMARY:LL S Mä.: TSV Auerbach - VFL Goldstein
CLASS:PUBLIC
DTSTART:20161112T160000Z
DTSTAMP:20170326T174500Z
END:VEVENT
BEGIN:VEVENT
UID:408740-2da69939ed67427dc6bf3daba21059e9
X-WR-RELCALID:408740-2da69939ed67427dc6bf3daba21059e9
ORGANIZER:Volleyball
SEQUENCE:261141656
SUMMARY:LL S Mä.: DSW Darmstadt II - VFL Goldstein
CLASS:PUBLIC
DTSTART:20161120T120000Z
DTSTAMP:20170326T174500Z
END:VEVENT
BEGIN:VEVENT
UID:408748-2da69939ed67427dc6bf3daba21059e9
X-WR-RELCALID:408748-2da69939ed67427dc6bf3daba21059e9
ORGANIZER:Volleyball
SEQUENCE:261141656
SUMMARY:LL S Mä.: Eintracht Wiesbaden - VFL Goldstein
CLASS:PUBLIC
DTSTART:20161127T100000Z
DTSTAMP:20170326T174500Z
END:VEVENT
BEGIN:VEVENT
UID:408752-2da69939ed67427dc6bf3daba21059e9
X-WR-RELCALID:408752-2da69939ed67427dc6bf3daba21059e9
ORGANIZER:Volleyball
SEQUENCE:261141656
SUMMARY:LL S Mä.: VFL Goldstein - TV Idstein
CLASS:PUBLIC
DTSTART:20161211T090000Z
DTSTAMP:20170326T174500Z
END:VEVENT
BEGIN:VEVENT
UID:408753-2da69939ed67427dc6bf3daba21059e9
X-WR-RELCALID:408753-2da69939ed67427dc6bf3daba21059e9
ORGANIZER:Volleyball
SEQUENCE:261141656
SUMMARY:LL S Mä.: VFL Goldstein - TG Naurod
CLASS:PUBLIC
DTSTART:20161211T100000Z
DTSTAMP:20170326T174500Z
END:VEVENT
BEGIN:VEVENT
UID:408769-2da69939ed67427dc6bf3daba21059e9
X-WR-RELCALID:408769-2da69939ed67427dc6bf3daba21059e9
ORGANIZER:Volleyball
SEQUENCE:261141656
SUMMARY:LL S Mä.: SSV Brensbach - VFL Goldstein
CLASS:PUBLIC
DTSTART:20170121T150000Z
DTSTAMP:20170326T174500Z
END:VEVENT
BEGIN:VEVENT
UID:408773-2da69939ed67427dc6bf3daba21059e9
X-WR-RELCALID:408773-2da69939ed67427dc6bf3daba21059e9
ORGANIZER:Volleyball
SEQUENCE:261141656
SUMMARY:LL S Mä.: TG Naurod - VFL Goldstein
CLASS:PUBLIC
DTSTART:20170128T150000Z
DTSTAMP:20170326T174500Z
END:VEVENT
BEGIN:VEVENT
UID:408786-2da69939ed67427dc6bf3daba21059e9
X-WR-RELCALID:408786-2da69939ed67427dc6bf3daba21059e9
ORGANIZER:Volleyball
SEQUENCE:261141656
SUMMARY:LL S Mä.: TGB Darmstadt - VFL Goldstein
CLASS:PUBLIC
DTSTART:20170212T120000Z
DTSTAMP:20170326T174500Z
END:VEVENT
BEGIN:VEVENT
UID:408788-2da69939ed67427dc6bf3daba21059e9
X-WR-RELCALID:408788-2da69939ed67427dc6bf3daba21059e9
ORGANIZER:Volleyball
SEQUENCE:261141656
SUMMARY:LL S Mä.: VFL Goldstein - DSW Darmstadt II
CLASS:PUBLIC
DTSTART:20170218T150000Z
DTSTAMP:20170326T174500Z
END:VEVENT
BEGIN:VEVENT
UID:408789-2da69939ed67427dc6bf3daba21059e9
X-WR-RELCALID:408789-2da69939ed67427dc6bf3daba21059e9
ORGANIZER:Volleyball
SEQUENCE:261141656
SUMMARY:LL S Mä.: VFL Goldstein - SV Mörlenbach
CLASS:PUBLIC
DTSTART:20170218T160000Z
DTSTAMP:20170326T174500Z
END:VEVENT
BEGIN:VEVENT
UID:408794-2da69939ed67427dc6bf3daba21059e9
X-WR-RELCALID:408794-2da69939ed67427dc6bf3daba21059e9
ORGANIZER:Volleyball
SEQUENCE:261141656
SUMMARY:LL S Mä.: TV Idstein - VFL Goldstein
CLASS:PUBLIC
DTSTART:20170311T140000Z
DTSTAMP:20170326T174500Z
END:VEVENT
BEGIN:VEVENT
UID:408802-2da69939ed67427dc6bf3daba21059e9
X-WR-RELCALID:408802-2da69939ed67427dc6bf3daba21059e9
ORGANIZER:Volleyball
SEQUENCE:261141656
SUMMARY:LL S Mä.: VFL Goldstein - TSV Auerbach
CLASS:PUBLIC
DTSTART:20170326T130000Z
DTSTAMP:20170326T174500Z
END:VEVENT
BEGIN:VEVENT
UID:408803-2da69939ed67427dc6bf3daba21059e9
X-WR-RELCALID:408803-2da69939ed67427dc6bf3daba21059e9
ORGANIZER:Volleyball
SEQUENCE:261141656
SUMMARY:LL S Mä.: VFL Goldstein - Eintracht Wiesbaden
CLASS:PUBLIC
DTSTART:20170326T140000Z
DTSTAMP:20170326T174500Z
END:VEVENT
END:VCALENDAR