BEGIN:VCALENDAR
VERSION:2.0
PRODID:VSD-Portal-www.volley.de
METHOD:PUBLISH
BEGIN:VEVENT
UID:408716-2da69939ed67427dc6bf3daba21059e9
X-WR-RELCALID:408716-2da69939ed67427dc6bf3daba21059e9
ORGANIZER:Volleyball
SEQUENCE:261141701
SUMMARY:LL S Mä.: TV Idstein - TG Naurod
CLASS:PUBLIC
DTSTART:20160924T130000Z
DTSTAMP:20170326T174500Z
END:VEVENT
BEGIN:VEVENT
UID:408717-2da69939ed67427dc6bf3daba21059e9
X-WR-RELCALID:408717-2da69939ed67427dc6bf3daba21059e9
ORGANIZER:Volleyball
SEQUENCE:261141701
SUMMARY:LL S Mä.: TV Idstein - Eintracht Wiesbaden
CLASS:PUBLIC
DTSTART:20160924T150000Z
DTSTAMP:20170326T174500Z
END:VEVENT
BEGIN:VEVENT
UID:408735-2da69939ed67427dc6bf3daba21059e9
X-WR-RELCALID:408735-2da69939ed67427dc6bf3daba21059e9
ORGANIZER:Volleyball
SEQUENCE:261141701
SUMMARY:LL S Mä.: TGB Darmstadt - TV Idstein
CLASS:PUBLIC
DTSTART:20161113T120000Z
DTSTAMP:20170326T174500Z
END:VEVENT
BEGIN:VEVENT
UID:408742-2da69939ed67427dc6bf3daba21059e9
X-WR-RELCALID:408742-2da69939ed67427dc6bf3daba21059e9
ORGANIZER:Volleyball
SEQUENCE:261141701
SUMMARY:LL S Mä.: SV Mörlenbach - TV Idstein
CLASS:PUBLIC
DTSTART:20161120T110000Z
DTSTAMP:20170326T174500Z
END:VEVENT
BEGIN:VEVENT
UID:408746-2da69939ed67427dc6bf3daba21059e9
X-WR-RELCALID:408746-2da69939ed67427dc6bf3daba21059e9
ORGANIZER:Volleyball
SEQUENCE:261141701
SUMMARY:LL S Mä.: TV Idstein - DSW Darmstadt II
CLASS:PUBLIC
DTSTART:20161126T130000Z
DTSTAMP:20170326T174500Z
END:VEVENT
BEGIN:VEVENT
UID:408747-2da69939ed67427dc6bf3daba21059e9
X-WR-RELCALID:408747-2da69939ed67427dc6bf3daba21059e9
ORGANIZER:Volleyball
SEQUENCE:261141701
SUMMARY:LL S Mä.: TV Idstein - TSV Auerbach
CLASS:PUBLIC
DTSTART:20161126T140000Z
DTSTAMP:20170326T174500Z
END:VEVENT
BEGIN:VEVENT
UID:408752-2da69939ed67427dc6bf3daba21059e9
X-WR-RELCALID:408752-2da69939ed67427dc6bf3daba21059e9
ORGANIZER:Volleyball
SEQUENCE:261141701
SUMMARY:LL S Mä.: VFL Goldstein - TV Idstein
CLASS:PUBLIC
DTSTART:20161211T090000Z
DTSTAMP:20170326T174500Z
END:VEVENT
BEGIN:VEVENT
UID:408758-2da69939ed67427dc6bf3daba21059e9
X-WR-RELCALID:408758-2da69939ed67427dc6bf3daba21059e9
ORGANIZER:Volleyball
SEQUENCE:261141701
SUMMARY:LL S Mä.: TV Idstein - TGB Darmstadt
CLASS:PUBLIC
DTSTART:20161217T140000Z
DTSTAMP:20170326T174500Z
END:VEVENT
BEGIN:VEVENT
UID:408759-2da69939ed67427dc6bf3daba21059e9
X-WR-RELCALID:408759-2da69939ed67427dc6bf3daba21059e9
ORGANIZER:Volleyball
SEQUENCE:261141701
SUMMARY:LL S Mä.: TV Idstein - SV Mörlenbach
CLASS:PUBLIC
DTSTART:20161217T150000Z
DTSTAMP:20170326T174500Z
END:VEVENT
BEGIN:VEVENT
UID:408733-2da69939ed67427dc6bf3daba21059e9
X-WR-RELCALID:408733-2da69939ed67427dc6bf3daba21059e9
ORGANIZER:Volleyball
SEQUENCE:261141701
SUMMARY:LL S Mä.: SSV Brensbach - TV Idstein
CLASS:PUBLIC
DTSTART:20170114T150000Z
DTSTAMP:20170326T174500Z
END:VEVENT
BEGIN:VEVENT
UID:408765-2da69939ed67427dc6bf3daba21059e9
X-WR-RELCALID:408765-2da69939ed67427dc6bf3daba21059e9
ORGANIZER:Volleyball
SEQUENCE:261141701
SUMMARY:LL S Mä.: Eintracht Wiesbaden - TV Idstein
CLASS:PUBLIC
DTSTART:20170122T110000Z
DTSTAMP:20170326T174500Z
END:VEVENT
BEGIN:VEVENT
UID:408775-2da69939ed67427dc6bf3daba21059e9
X-WR-RELCALID:408775-2da69939ed67427dc6bf3daba21059e9
ORGANIZER:Volleyball
SEQUENCE:261141701
SUMMARY:LL S Mä.: TSV Auerbach - TV Idstein
CLASS:PUBLIC
DTSTART:20170128T160000Z
DTSTAMP:20170326T174500Z
END:VEVENT
BEGIN:VEVENT
UID:408782-2da69939ed67427dc6bf3daba21059e9
X-WR-RELCALID:408782-2da69939ed67427dc6bf3daba21059e9
ORGANIZER:Volleyball
SEQUENCE:261141701
SUMMARY:LL S Mä.: DSW Darmstadt II - TV Idstein
CLASS:PUBLIC
DTSTART:20170212T090000Z
DTSTAMP:20170326T174500Z
END:VEVENT
BEGIN:VEVENT
UID:408792-2da69939ed67427dc6bf3daba21059e9
X-WR-RELCALID:408792-2da69939ed67427dc6bf3daba21059e9
ORGANIZER:Volleyball
SEQUENCE:261141701
SUMMARY:LL S Mä.: TG Naurod - TV Idstein
CLASS:PUBLIC
DTSTART:20170218T140000Z
DTSTAMP:20170326T174500Z
END:VEVENT
BEGIN:VEVENT
UID:408794-2da69939ed67427dc6bf3daba21059e9
X-WR-RELCALID:408794-2da69939ed67427dc6bf3daba21059e9
ORGANIZER:Volleyball
SEQUENCE:261141701
SUMMARY:LL S Mä.: TV Idstein - VFL Goldstein
CLASS:PUBLIC
DTSTART:20170311T140000Z
DTSTAMP:20170326T174500Z
END:VEVENT
BEGIN:VEVENT
UID:408795-2da69939ed67427dc6bf3daba21059e9
X-WR-RELCALID:408795-2da69939ed67427dc6bf3daba21059e9
ORGANIZER:Volleyball
SEQUENCE:261141701
SUMMARY:LL S Mä.: TV Idstein - SSV Brensbach
CLASS:PUBLIC
DTSTART:20170311T150000Z
DTSTAMP:20170326T174500Z
END:VEVENT
END:VCALENDAR