BEGIN:VCALENDAR
VERSION:2.0
PRODID:VSD-Portal-www.volley.de
METHOD:PUBLISH
BEGIN:VEVENT
UID:407012-2da69939ed67427dc6bf3daba21059e9
X-WR-RELCALID:407012-2da69939ed67427dc6bf3daba21059e9
ORGANIZER:Volleyball
SEQUENCE:261100914
SUMMARY:OL1          Mä.: VC 99 Ratheim - AVC 93 Köln
CLASS:PUBLIC
DTSTART:20160918T140000Z
DTSTAMP:20170417T181500Z
END:VEVENT
BEGIN:VEVENT
UID:407027-2da69939ed67427dc6bf3daba21059e9
X-WR-RELCALID:407027-2da69939ed67427dc6bf3daba21059e9
ORGANIZER:Volleyball
SEQUENCE:261100914
SUMMARY:OL1          Mä.: VC 99 Ratheim - VC 73 Freudenberg
CLASS:PUBLIC
DTSTART:20161030T150000Z
DTSTAMP:20170417T181500Z
END:VEVENT
BEGIN:VEVENT
UID:407037-2da69939ed67427dc6bf3daba21059e9
X-WR-RELCALID:407037-2da69939ed67427dc6bf3daba21059e9
ORGANIZER:Volleyball
SEQUENCE:261100914
SUMMARY:OL1          Mä.: VC 99 Ratheim - VC Menden-Much
CLASS:PUBLIC
DTSTART:20161127T150000Z
DTSTAMP:20170417T181500Z
END:VEVENT
BEGIN:VEVENT
UID:407047-2da69939ed67427dc6bf3daba21059e9
X-WR-RELCALID:407047-2da69939ed67427dc6bf3daba21059e9
ORGANIZER:Volleyball
SEQUENCE:261100914
SUMMARY:OL1          Mä.: VC 99 Ratheim - Brühler TV
CLASS:PUBLIC
DTSTART:20161211T150000Z
DTSTAMP:20170417T181500Z
END:VEVENT
BEGIN:VEVENT
UID:407063-2da69939ed67427dc6bf3daba21059e9
X-WR-RELCALID:407063-2da69939ed67427dc6bf3daba21059e9
ORGANIZER:Volleyball
SEQUENCE:261100914
SUMMARY:OL1          Mä.: VC 99 Ratheim - TG z.r.E. Schwelm
CLASS:PUBLIC
DTSTART:20170122T150000Z
DTSTAMP:20170417T181500Z
END:VEVENT
BEGIN:VEVENT
UID:407067-2da69939ed67427dc6bf3daba21059e9
X-WR-RELCALID:407067-2da69939ed67427dc6bf3daba21059e9
ORGANIZER:Volleyball
SEQUENCE:261100914
SUMMARY:OL1          Mä.: VC 99 Ratheim - FCJ Köln
CLASS:PUBLIC
DTSTART:20170205T150000Z
DTSTAMP:20170417T181500Z
END:VEVENT
BEGIN:VEVENT
UID:407077-2da69939ed67427dc6bf3daba21059e9
X-WR-RELCALID:407077-2da69939ed67427dc6bf3daba21059e9
ORGANIZER:Volleyball
SEQUENCE:261100914
SUMMARY:OL1          Mä.: VC 99 Ratheim - TV F.A. Dresselndorf
CLASS:PUBLIC
DTSTART:20170219T150000Z
DTSTAMP:20170417T181500Z
END:VEVENT
BEGIN:VEVENT
UID:407088-2da69939ed67427dc6bf3daba21059e9
X-WR-RELCALID:407088-2da69939ed67427dc6bf3daba21059e9
ORGANIZER:Volleyball
SEQUENCE:261100914
SUMMARY:OL1          Mä.: VC 99 Ratheim - SV Bayer Wuppertal
CLASS:PUBLIC
DTSTART:20170326T140000Z
DTSTAMP:20170417T181500Z
END:VEVENT
BEGIN:VEVENT
UID:407097-2da69939ed67427dc6bf3daba21059e9
X-WR-RELCALID:407097-2da69939ed67427dc6bf3daba21059e9
ORGANIZER:Volleyball
SEQUENCE:261100914
SUMMARY:OL1          Mä.: VC 99 Ratheim - TVA Fischenich III
CLASS:PUBLIC
DTSTART:20170409T140000Z
DTSTAMP:20170417T181500Z
END:VEVENT
END:VCALENDAR