BEGIN:VCALENDAR
VERSION:2.0
PRODID:VSD-Portal-www.volley.de
METHOD:PUBLISH
BEGIN:VEVENT
UID:413724-2da69939ed67427dc6bf3daba21059e9
X-WR-RELCALID:413724-2da69939ed67427dc6bf3daba21059e9
ORGANIZER:Volleyball
SEQUENCE:261110706
SUMMARY:LL2          Fr.: DJK TuS Hürth - SG Marmagen/Nettersheim
CLASS:PUBLIC
DTSTART:20160924T130000Z
DTSTAMP:20170409T101000Z
END:VEVENT
BEGIN:VEVENT
UID:413743-2da69939ed67427dc6bf3daba21059e9
X-WR-RELCALID:413743-2da69939ed67427dc6bf3daba21059e9
ORGANIZER:Volleyball
SEQUENCE:261110706
SUMMARY:LL2          Fr.: DJK TuS Hürth - Oberaußemer VV
CLASS:PUBLIC
DTSTART:20161127T150000Z
DTSTAMP:20170409T101000Z
END:VEVENT
BEGIN:VEVENT
UID:413759-2da69939ed67427dc6bf3daba21059e9
X-WR-RELCALID:413759-2da69939ed67427dc6bf3daba21059e9
ORGANIZER:Volleyball
SEQUENCE:261110706
SUMMARY:LL2          Fr.: DJK TuS Hürth - VTHC Frechen
CLASS:PUBLIC
DTSTART:20170115T110000Z
DTSTAMP:20170409T101000Z
END:VEVENT
BEGIN:VEVENT
UID:413771-2da69939ed67427dc6bf3daba21059e9
X-WR-RELCALID:413771-2da69939ed67427dc6bf3daba21059e9
ORGANIZER:Volleyball
SEQUENCE:261110706
SUMMARY:LL2          Fr.: DJK TuS Hürth - MTV Köln II
CLASS:PUBLIC
DTSTART:20170211T130000Z
DTSTAMP:20170409T101000Z
END:VEVENT
END:VCALENDAR