BEGIN:VCALENDAR
VERSION:2.0
PRODID:VSD-Portal-www.volley.de
METHOD:PUBLISH
BEGIN:VEVENT
UID:414154-2da69939ed67427dc6bf3daba21059e9
X-WR-RELCALID:414154-2da69939ed67427dc6bf3daba21059e9
ORGANIZER:Volleyball
SEQUENCE:261140039
SUMMARY:BeL01        Fr.: SG Aachen/Aachener Engel IV - Eilendorfer TV
 
CLASS:PUBLIC
DTSTART:20160917T130000Z
DTSTAMP:20170409T074000Z
END:VEVENT
BEGIN:VEVENT
UID:414164-2da69939ed67427dc6bf3daba21059e9
X-WR-RELCALID:414164-2da69939ed67427dc6bf3daba21059e9
ORGANIZER:Volleyball
SEQUENCE:261140039
SUMMARY:BeL01        Fr.: SG Aachen/Aachener Engel IV - DJK Frankenber
 g
CLASS:PUBLIC
DTSTART:20161112T140000Z
DTSTAMP:20170409T074000Z
END:VEVENT
BEGIN:VEVENT
UID:414171-2da69939ed67427dc6bf3daba21059e9
X-WR-RELCALID:414171-2da69939ed67427dc6bf3daba21059e9
ORGANIZER:Volleyball
SEQUENCE:261140039
SUMMARY:BeL01        Fr.: SG Aachen/Aachener Engel IV - TuRa Monschau
CLASS:PUBLIC
DTSTART:20161210T140000Z
DTSTAMP:20170409T074000Z
END:VEVENT
BEGIN:VEVENT
UID:414175-2da69939ed67427dc6bf3daba21059e9
X-WR-RELCALID:414175-2da69939ed67427dc6bf3daba21059e9
ORGANIZER:Volleyball
SEQUENCE:261140039
SUMMARY:BeL01        Fr.: SG Aachen/Aachener Engel IV - SG Eintracht K
 ornelimünster/TB Breinig
CLASS:PUBLIC
DTSTART:20170115T140000Z
DTSTAMP:20170409T074000Z
END:VEVENT
END:VCALENDAR