BEGIN:VCALENDAR
VERSION:2.0
PRODID:VSD-Portal-www.volley.de
METHOD:PUBLISH
BEGIN:VEVENT
UID:414155-2da69939ed67427dc6bf3daba21059e9
X-WR-RELCALID:414155-2da69939ed67427dc6bf3daba21059e9
ORGANIZER:Volleyball
SEQUENCE:261141843
SUMMARY:BeL01        Fr.: TuS Schmidt - TV Kalterherberg
CLASS:PUBLIC
DTSTART:20160917T141500Z
DTSTAMP:20170409T074000Z
END:VEVENT
BEGIN:VEVENT
UID:414158-2da69939ed67427dc6bf3daba21059e9
X-WR-RELCALID:414158-2da69939ed67427dc6bf3daba21059e9
ORGANIZER:Volleyball
SEQUENCE:261141843
SUMMARY:BeL01        Fr.: DJK Frankenberg - TV Kalterherberg
CLASS:PUBLIC
DTSTART:20160924T141500Z
DTSTAMP:20170409T074000Z
END:VEVENT
BEGIN:VEVENT
UID:414159-2da69939ed67427dc6bf3daba21059e9
X-WR-RELCALID:414159-2da69939ed67427dc6bf3daba21059e9
ORGANIZER:Volleyball
SEQUENCE:261141843
SUMMARY:BeL01        Fr.: TV Kalterherberg - SG Aachen/Aachener Engel 
 IV
CLASS:PUBLIC
DTSTART:20161029T130000Z
DTSTAMP:20170409T074000Z
END:VEVENT
BEGIN:VEVENT
UID:414167-2da69939ed67427dc6bf3daba21059e9
X-WR-RELCALID:414167-2da69939ed67427dc6bf3daba21059e9
ORGANIZER:Volleyball
SEQUENCE:261141843
SUMMARY:BeL01        Fr.: TuRa Monschau - TV Kalterherberg
CLASS:PUBLIC
DTSTART:20161126T151500Z
DTSTAMP:20170409T074000Z
END:VEVENT
BEGIN:VEVENT
UID:414169-2da69939ed67427dc6bf3daba21059e9
X-WR-RELCALID:414169-2da69939ed67427dc6bf3daba21059e9
ORGANIZER:Volleyball
SEQUENCE:261141843
SUMMARY:BeL01        Fr.: TV Kalterherberg - Eilendorfer TV
CLASS:PUBLIC
DTSTART:20161204T100000Z
DTSTAMP:20170409T074000Z
END:VEVENT
BEGIN:VEVENT
UID:414173-2da69939ed67427dc6bf3daba21059e9
X-WR-RELCALID:414173-2da69939ed67427dc6bf3daba21059e9
ORGANIZER:Volleyball
SEQUENCE:261141843
SUMMARY:BeL01        Fr.: TV Kalterherberg - SG Eintracht Kornelimünst
 er/TB Breinig
CLASS:PUBLIC
DTSTART:20161210T151500Z
DTSTAMP:20170409T074000Z
END:VEVENT
BEGIN:VEVENT
UID:414176-2da69939ed67427dc6bf3daba21059e9
X-WR-RELCALID:414176-2da69939ed67427dc6bf3daba21059e9
ORGANIZER:Volleyball
SEQUENCE:261141843
SUMMARY:BeL01        Fr.: TV Kalterherberg - TuRa Monschau
CLASS:PUBLIC
DTSTART:20170115T151500Z
DTSTAMP:20170409T074000Z
END:VEVENT
BEGIN:VEVENT
UID:414178-2da69939ed67427dc6bf3daba21059e9
X-WR-RELCALID:414178-2da69939ed67427dc6bf3daba21059e9
ORGANIZER:Volleyball
SEQUENCE:261141843
SUMMARY:BeL01        Fr.: DJK Frankenberg - TV Kalterherberg
CLASS:PUBLIC
DTSTART:20170121T151500Z
DTSTAMP:20170409T074000Z
END:VEVENT
BEGIN:VEVENT
UID:414185-2da69939ed67427dc6bf3daba21059e9
X-WR-RELCALID:414185-2da69939ed67427dc6bf3daba21059e9
ORGANIZER:Volleyball
SEQUENCE:261141843
SUMMARY:BeL01        Fr.: TV Kalterherberg - SG Aachen/Aachener Engel 
 IV
CLASS:PUBLIC
DTSTART:20170218T140000Z
DTSTAMP:20170409T074000Z
END:VEVENT
BEGIN:VEVENT
UID:414186-2da69939ed67427dc6bf3daba21059e9
X-WR-RELCALID:414186-2da69939ed67427dc6bf3daba21059e9
ORGANIZER:Volleyball
SEQUENCE:261141843
SUMMARY:BeL01        Fr.: TV Kalterherberg - TuS Schmidt
CLASS:PUBLIC
DTSTART:20170312T100000Z
DTSTAMP:20170409T074000Z
END:VEVENT
BEGIN:VEVENT
UID:414191-2da69939ed67427dc6bf3daba21059e9
X-WR-RELCALID:414191-2da69939ed67427dc6bf3daba21059e9
ORGANIZER:Volleyball
SEQUENCE:261141843
SUMMARY:BeL01        Fr.: Eilendorfer TV - TV Kalterherberg
CLASS:PUBLIC
DTSTART:20170326T080000Z
DTSTAMP:20170409T074000Z
END:VEVENT
BEGIN:VEVENT
UID:414194-2da69939ed67427dc6bf3daba21059e9
X-WR-RELCALID:414194-2da69939ed67427dc6bf3daba21059e9
ORGANIZER:Volleyball
SEQUENCE:261141843
SUMMARY:BeL01        Fr.: SG Eintracht Kornelimünster/TB Breinig - TV 
 Kalterherberg
CLASS:PUBLIC
DTSTART:20170401T141500Z
DTSTAMP:20170409T074000Z
END:VEVENT
END:VCALENDAR