BEGIN:VCALENDAR
VERSION:2.0
PRODID:VSD-Portal-www.volley.de
METHOD:PUBLISH
BEGIN:VEVENT
UID:414159-2da69939ed67427dc6bf3daba21059e9
X-WR-RELCALID:414159-2da69939ed67427dc6bf3daba21059e9
ORGANIZER:Volleyball
SEQUENCE:261141703
SUMMARY:BeL01        Fr.: TV Kalterherberg - SG Aachen/Aachener Engel 
 IV
CLASS:PUBLIC
DTSTART:20161029T130000Z
DTSTAMP:20170409T074000Z
END:VEVENT
BEGIN:VEVENT
UID:414169-2da69939ed67427dc6bf3daba21059e9
X-WR-RELCALID:414169-2da69939ed67427dc6bf3daba21059e9
ORGANIZER:Volleyball
SEQUENCE:261141703
SUMMARY:BeL01        Fr.: TV Kalterherberg - Eilendorfer TV
CLASS:PUBLIC
DTSTART:20161204T100000Z
DTSTAMP:20170409T074000Z
END:VEVENT
BEGIN:VEVENT
UID:414185-2da69939ed67427dc6bf3daba21059e9
X-WR-RELCALID:414185-2da69939ed67427dc6bf3daba21059e9
ORGANIZER:Volleyball
SEQUENCE:261141703
SUMMARY:BeL01        Fr.: TV Kalterherberg - SG Aachen/Aachener Engel 
 IV
CLASS:PUBLIC
DTSTART:20170218T140000Z
DTSTAMP:20170409T074000Z
END:VEVENT
BEGIN:VEVENT
UID:414186-2da69939ed67427dc6bf3daba21059e9
X-WR-RELCALID:414186-2da69939ed67427dc6bf3daba21059e9
ORGANIZER:Volleyball
SEQUENCE:261141703
SUMMARY:BeL01        Fr.: TV Kalterherberg - TuS Schmidt
CLASS:PUBLIC
DTSTART:20170312T100000Z
DTSTAMP:20170409T074000Z
END:VEVENT
END:VCALENDAR