BEGIN:VCALENDAR
VERSION:2.0
PRODID:VSD-Portal-www.volley.de
METHOD:PUBLISH
BEGIN:VEVENT
UID:420646-2da69939ed67427dc6bf3daba21059e9
X-WR-RELCALID:420646-2da69939ed67427dc6bf3daba21059e9
ORGANIZER:Volleyball
SEQUENCE:261121245
LOCATION:Julius-Hirsch-Halle, Kapellenstr. 41, 90762 Fürth
GEO:49.48146440000000000000;10.98874690000000000000
SUMMARY:3. L O Fr.: TV Fürth 1860 - DJK Sportbund München
CLASS:PUBLIC
DTSTART:20171014T170000Z
DTSTAMP:20171007T142500Z
END:VEVENT
BEGIN:VEVENT
UID:420666-2da69939ed67427dc6bf3daba21059e9
X-WR-RELCALID:420666-2da69939ed67427dc6bf3daba21059e9
ORGANIZER:Volleyball
SEQUENCE:261121245
LOCATION:Julius-Hirsch-Halle, Kapellenstr. 41, 90762 Fürth
GEO:49.48146440000000000000;10.98874690000000000000
SUMMARY:3. L O Fr.: TV Fürth 1860 - SV Lohhof II
CLASS:PUBLIC
DTSTART:20171111T180000Z
DTSTAMP:20171007T142500Z
END:VEVENT
BEGIN:VEVENT
UID:420680-2da69939ed67427dc6bf3daba21059e9
X-WR-RELCALID:420680-2da69939ed67427dc6bf3daba21059e9
ORGANIZER:Volleyball
SEQUENCE:261121245
LOCATION:Julius-Hirsch-Halle, Kapellenstr. 41, 90762 Fürth
GEO:49.48146440000000000000;10.98874690000000000000
SUMMARY:3. L O Fr.: TV Fürth 1860 - TV/DJK Hammelburg I
CLASS:PUBLIC
DTSTART:20171126T150000Z
DTSTAMP:20171007T142500Z
END:VEVENT
BEGIN:VEVENT
UID:420687-2da69939ed67427dc6bf3daba21059e9
X-WR-RELCALID:420687-2da69939ed67427dc6bf3daba21059e9
ORGANIZER:Volleyball
SEQUENCE:261121245
LOCATION:Vereinshalle, Coubertinstr. 9-11, 90768 Fürth
GEO:49.46414000000000000000;10.95599600000000000000
SUMMARY:3. L O Fr.: TV Fürth 1860 - TV Dingolfing
CLASS:PUBLIC
DTSTART:20171210T150000Z
DTSTAMP:20171010T143000Z
END:VEVENT
BEGIN:VEVENT
UID:420692-2da69939ed67427dc6bf3daba21059e9
X-WR-RELCALID:420692-2da69939ed67427dc6bf3daba21059e9
ORGANIZER:Volleyball
SEQUENCE:261121245
LOCATION:Julius-Hirsch-Halle, Kapellenstr. 41, 90762 Fürth
GEO:49.48146440000000000000;10.98874690000000000000
SUMMARY:3. L O Fr.: TV Fürth 1860 - TV Planegg-Krailling
CLASS:PUBLIC
DTSTART:20180107T140000Z
DTSTAMP:20171007T142500Z
END:VEVENT
BEGIN:VEVENT
UID:420704-2da69939ed67427dc6bf3daba21059e9
X-WR-RELCALID:420704-2da69939ed67427dc6bf3daba21059e9
ORGANIZER:Volleyball
SEQUENCE:261121245
LOCATION:Vereinshalle, Coubertinstr. 9-11, 90768 Fürth
GEO:49.46414000000000000000;10.95599600000000000000
SUMMARY:3. L O Fr.: TV Fürth 1860 - DJK Augsburg-Hochzoll
CLASS:PUBLIC
DTSTART:20180121T150000Z
DTSTAMP:20171010T143000Z
END:VEVENT
BEGIN:VEVENT
UID:420714-2da69939ed67427dc6bf3daba21059e9
X-WR-RELCALID:420714-2da69939ed67427dc6bf3daba21059e9
ORGANIZER:Volleyball
SEQUENCE:261121245
LOCATION:Julius-Hirsch-Halle, Kapellenstr. 41, 90762 Fürth
GEO:49.48146440000000000000;10.98874690000000000000
SUMMARY:3. L O Fr.: TV Fürth 1860 - TV Altdorf
CLASS:PUBLIC
DTSTART:20180204T150000Z
DTSTAMP:20171007T142500Z
END:VEVENT
BEGIN:VEVENT
UID:420725-2da69939ed67427dc6bf3daba21059e9
X-WR-RELCALID:420725-2da69939ed67427dc6bf3daba21059e9
ORGANIZER:Volleyball
SEQUENCE:261121245
LOCATION:Julius-Hirsch-Halle, Kapellenstr. 41, 90762 Fürth
GEO:49.48146440000000000000;10.98874690000000000000
SUMMARY:3. L O Fr.: TV Fürth 1860 - TSV Ansbach
CLASS:PUBLIC
DTSTART:20180225T150000Z
DTSTAMP:20171007T142500Z
END:VEVENT
BEGIN:VEVENT
UID:420731-2da69939ed67427dc6bf3daba21059e9
X-WR-RELCALID:420731-2da69939ed67427dc6bf3daba21059e9
ORGANIZER:Volleyball
SEQUENCE:261121245
LOCATION:Julius-Hirsch-Halle, Kapellenstr. 41, 90762 Fürth
GEO:49.48146440000000000000;10.98874690000000000000
SUMMARY:3. L O Fr.: TV Fürth 1860 - TSV Eiselfing
CLASS:PUBLIC
DTSTART:20180311T150000Z
DTSTAMP:20171007T142500Z
END:VEVENT
BEGIN:VEVENT
UID:420738-2da69939ed67427dc6bf3daba21059e9
X-WR-RELCALID:420738-2da69939ed67427dc6bf3daba21059e9
ORGANIZER:Volleyball
SEQUENCE:261121245
LOCATION:Julius-Hirsch-Halle, Kapellenstr. 41, 90762 Fürth
GEO:49.48146440000000000000;10.98874690000000000000
SUMMARY:3. L O Fr.: TV Fürth 1860 - Dentalservice Gust Volleys Chemnit
 z
CLASS:PUBLIC
DTSTART:20180325T140000Z
DTSTAMP:20171007T142500Z
END:VEVENT
END:VCALENDAR