BEGIN:VCALENDAR
VERSION:2.0
PRODID:VSD-Portal-www.volley.de
METHOD:PUBLISH
BEGIN:VEVENT
UID:420277-2da69939ed67427dc6bf3daba21059e9
X-WR-RELCALID:420277-2da69939ed67427dc6bf3daba21059e9
ORGANIZER:Volleyball
SEQUENCE:261131805
LOCATION:OBS Spelle, Brink 7, 48480 Spelle
GEO:52.36990280000000000000;7.46967790000000000000
SUMMARY:RLNW Fr.: SC Spelle-Venhaus - SC Langenhagen
CLASS:PUBLIC
DTSTART:20170917T140000Z
DTSTAMP:20170923T201000Z
END:VEVENT
BEGIN:VEVENT
UID:420279-2da69939ed67427dc6bf3daba21059e9
X-WR-RELCALID:420279-2da69939ed67427dc6bf3daba21059e9
ORGANIZER:Volleyball
SEQUENCE:261131805
LOCATION:OTB-Halle Am Haarenesch, Haareneschstr. 64, 26121 Oldenburg
GEO:53.14511000000000000000;8.19635000000000000000
SUMMARY:RLNW Fr.: Oldenburger TB - SC Spelle-Venhaus
CLASS:PUBLIC
DTSTART:20170923T180000Z
DTSTAMP:20170923T201000Z
END:VEVENT
BEGIN:VEVENT
UID:420283-2da69939ed67427dc6bf3daba21059e9
X-WR-RELCALID:420283-2da69939ed67427dc6bf3daba21059e9
ORGANIZER:Volleyball
SEQUENCE:261131805
LOCATION:OBS Spelle, Brink 7, 48480 Spelle
GEO:52.36990280000000000000;7.46967790000000000000
SUMMARY:RLNW Fr.: SC Spelle-Venhaus - VC Osnabrück
CLASS:PUBLIC
DTSTART:20170930T130000Z
DTSTAMP:20170923T201000Z
END:VEVENT
BEGIN:VEVENT
UID:420289-2da69939ed67427dc6bf3daba21059e9
X-WR-RELCALID:420289-2da69939ed67427dc6bf3daba21059e9
ORGANIZER:Volleyball
SEQUENCE:261131805
LOCATION:Robert-Bosch-Gesamtschule, Richthofenstraße, 31137 Hildesheim
 
GEO:52.16669720000000000000;9.94625030000000000000
SUMMARY:RLNW Fr.: MTV 48 Hildesheim - SC Spelle-Venhaus
CLASS:PUBLIC
DTSTART:20171021T140000Z
DTSTAMP:20170923T201000Z
END:VEVENT
BEGIN:VEVENT
UID:420296-2da69939ed67427dc6bf3daba21059e9
X-WR-RELCALID:420296-2da69939ed67427dc6bf3daba21059e9
ORGANIZER:Volleyball
SEQUENCE:261131805
LOCATION:OBS Spelle, Brink 7, 48480 Spelle
GEO:52.36990280000000000000;7.46967790000000000000
SUMMARY:RLNW Fr.: SC Spelle-Venhaus - VfL Lintorf
CLASS:PUBLIC
DTSTART:20171028T180000Z
DTSTAMP:20170923T201000Z
END:VEVENT
BEGIN:VEVENT
UID:420302-2da69939ed67427dc6bf3daba21059e9
X-WR-RELCALID:420302-2da69939ed67427dc6bf3daba21059e9
ORGANIZER:Volleyball
SEQUENCE:261131805
LOCATION:Tunica-Sporthalle, Hasenwinkel, 38114 Braunschweig
GEO:52.27598250000000000000;10.51776450000000000000
SUMMARY:RLNW Fr.: USC Braunschweig - SC Spelle-Venhaus
CLASS:PUBLIC
DTSTART:20171105T140000Z
DTSTAMP:20170923T201000Z
END:VEVENT
BEGIN:VEVENT
UID:462164-2da69939ed67427dc6bf3daba21059e9
X-WR-RELCALID:462164-2da69939ed67427dc6bf3daba21059e9
ORGANIZER:Volleyball
SEQUENCE:261131805
LOCATION:Waldsporthalle 1, Am Sportplatz, 49143 Schledehausen
GEO:52.27608920000000000000;8.24576550000000000000
SUMMARY:RLNW Fr.: TV Schledehausen - SC Spelle-Venhaus
CLASS:PUBLIC
DTSTART:20171112T150000Z
DTSTAMP:20170923T201000Z
END:VEVENT
BEGIN:VEVENT
UID:420309-2da69939ed67427dc6bf3daba21059e9
X-WR-RELCALID:420309-2da69939ed67427dc6bf3daba21059e9
ORGANIZER:Volleyball
SEQUENCE:261131805
LOCATION:OBS Spelle, Brink 7, 48480 Spelle
GEO:52.36990280000000000000;7.46967790000000000000
SUMMARY:RLNW Fr.: SC Spelle-Venhaus - VfL Oythe II
CLASS:PUBLIC
DTSTART:20171119T150000Z
DTSTAMP:20170923T201000Z
END:VEVENT
BEGIN:VEVENT
UID:420316-2da69939ed67427dc6bf3daba21059e9
X-WR-RELCALID:420316-2da69939ed67427dc6bf3daba21059e9
ORGANIZER:Volleyball
SEQUENCE:261131805
LOCATION:OBS Spelle, Brink 7, 48480 Spelle
GEO:52.36990280000000000000;7.46967790000000000000
SUMMARY:RLNW Fr.: SC Spelle-Venhaus - SV Union Lohne
CLASS:PUBLIC
DTSTART:20171202T190000Z
DTSTAMP:20170923T201000Z
END:VEVENT
BEGIN:VEVENT
UID:420321-2da69939ed67427dc6bf3daba21059e9
X-WR-RELCALID:420321-2da69939ed67427dc6bf3daba21059e9
ORGANIZER:Volleyball
SEQUENCE:261131805
LOCATION:SCL-Halle, Leibnizstr. 50, 30851 Langenhagen
GEO:52.44908490000000000000;9.74739380000000000000
SUMMARY:RLNW Fr.: SC Langenhagen - SC Spelle-Venhaus
CLASS:PUBLIC
DTSTART:20171209T190000Z
DTSTAMP:20170923T201000Z
END:VEVENT
BEGIN:VEVENT
UID:420326-2da69939ed67427dc6bf3daba21059e9
X-WR-RELCALID:420326-2da69939ed67427dc6bf3daba21059e9
ORGANIZER:Volleyball
SEQUENCE:261131805
LOCATION:OBS Spelle, Brink 7, 48480 Spelle
GEO:52.36990280000000000000;7.46967790000000000000
SUMMARY:RLNW Fr.: SC Spelle-Venhaus - Oldenburger TB
CLASS:PUBLIC
DTSTART:20171217T130000Z
DTSTAMP:20170923T201000Z
END:VEVENT
BEGIN:VEVENT
UID:420331-2da69939ed67427dc6bf3daba21059e9
X-WR-RELCALID:420331-2da69939ed67427dc6bf3daba21059e9
ORGANIZER:Volleyball
SEQUENCE:261131805
LOCATION:Sporthalle am Schloßwall, Schlosswall 10, 49080 Osnabrück
GEO:52.27045060000000000000;8.04123810000000000000
SUMMARY:RLNW Fr.: VC Osnabrück - SC Spelle-Venhaus
CLASS:PUBLIC
DTSTART:20180114T150000Z
DTSTAMP:20170923T201000Z
END:VEVENT
BEGIN:VEVENT
UID:420338-2da69939ed67427dc6bf3daba21059e9
X-WR-RELCALID:420338-2da69939ed67427dc6bf3daba21059e9
ORGANIZER:Volleyball
SEQUENCE:261131805
LOCATION:OBS Spelle, Brink 7, 48480 Spelle
GEO:52.36990280000000000000;7.46967790000000000000
SUMMARY:RLNW Fr.: SC Spelle-Venhaus - MTV 48 Hildesheim
CLASS:PUBLIC
DTSTART:20180121T150000Z
DTSTAMP:20170923T201000Z
END:VEVENT
BEGIN:VEVENT
UID:420343-2da69939ed67427dc6bf3daba21059e9
X-WR-RELCALID:420343-2da69939ed67427dc6bf3daba21059e9
ORGANIZER:Volleyball
SEQUENCE:261131805
LOCATION:Turnhalle Lintorf, Am Hallenbad, 49152 Bad Essen
GEO:52.30556100000000000000;8.43781530000000000000
SUMMARY:RLNW Fr.: VfL Lintorf - SC Spelle-Venhaus
CLASS:PUBLIC
DTSTART:20180204T150000Z
DTSTAMP:20170923T201000Z
END:VEVENT
BEGIN:VEVENT
UID:420347-2da69939ed67427dc6bf3daba21059e9
X-WR-RELCALID:420347-2da69939ed67427dc6bf3daba21059e9
ORGANIZER:Volleyball
SEQUENCE:261131805
LOCATION:OBS Spelle, Brink 7, 48480 Spelle
GEO:52.36990280000000000000;7.46967790000000000000
SUMMARY:RLNW Fr.: SC Spelle-Venhaus - USC Braunschweig
CLASS:PUBLIC
DTSTART:20180210T190000Z
DTSTAMP:20170923T201000Z
END:VEVENT
BEGIN:VEVENT
UID:420349-2da69939ed67427dc6bf3daba21059e9
X-WR-RELCALID:420349-2da69939ed67427dc6bf3daba21059e9
ORGANIZER:Volleyball
SEQUENCE:261131805
LOCATION:Gymnasium Antonianum, Willhohstraße, 49377 Vechta
GEO:52.72494070000000000000;8.29053560000000000000
SUMMARY:RLNW Fr.: VfL Oythe II - SC Spelle-Venhaus
CLASS:PUBLIC
DTSTART:20180217T140000Z
DTSTAMP:20170923T201000Z
END:VEVENT
BEGIN:VEVENT
UID:420357-2da69939ed67427dc6bf3daba21059e9
X-WR-RELCALID:420357-2da69939ed67427dc6bf3daba21059e9
ORGANIZER:Volleyball
SEQUENCE:261131805
LOCATION:OBS Spelle, Brink 7, 48480 Spelle
GEO:52.36990280000000000000;7.46967790000000000000
SUMMARY:RLNW Fr.: SC Spelle-Venhaus - TV Schledehausen
CLASS:PUBLIC
DTSTART:20180224T190000Z
DTSTAMP:20170923T201000Z
END:VEVENT
BEGIN:VEVENT
UID:420359-2da69939ed67427dc6bf3daba21059e9
X-WR-RELCALID:420359-2da69939ed67427dc6bf3daba21059e9
ORGANIZER:Volleyball
SEQUENCE:261131805
LOCATION:Sporthalle am Park, Parkstraße, 49835 Lohne
GEO:52.50003820000000000000;7.22932880000000000000
SUMMARY:RLNW Fr.: SV Union Lohne - SC Spelle-Venhaus
CLASS:PUBLIC
DTSTART:20180317T190000Z
DTSTAMP:20170923T201000Z
END:VEVENT
END:VCALENDAR