BEGIN:VCALENDAR
VERSION:2.0
PRODID:VSD-Portal-www.volley.de
METHOD:PUBLISH
BEGIN:VEVENT
UID:430063-2da69939ed67427dc6bf3daba21059e9
X-WR-RELCALID:430063-2da69939ed67427dc6bf3daba21059e9
ORGANIZER:Volleyball
SEQUENCE:261110140
LOCATION:N.N., -, - -
GEO:51.16569000000000000000;10.45152600000000000000
SUMMARY:KL DNS N Fr.: Borsteler SF II - SG Weh-Su-Var
CLASS:PUBLIC
DTSTART:20170917T090000Z
DTSTAMP:20170922T213000Z
END:VEVENT
BEGIN:VEVENT
UID:430064-2da69939ed67427dc6bf3daba21059e9
X-WR-RELCALID:430064-2da69939ed67427dc6bf3daba21059e9
ORGANIZER:Volleyball
SEQUENCE:261110140
LOCATION:N.N., -, - -
GEO:51.16569000000000000000;10.45152600000000000000
SUMMARY:KL DNS N Fr.: Borsteler SF II - TKW Nienburg II
CLASS:PUBLIC
DTSTART:20170917T090000Z
DTSTAMP:20170922T213000Z
END:VEVENT
BEGIN:VEVENT
UID:430065-2da69939ed67427dc6bf3daba21059e9
X-WR-RELCALID:430065-2da69939ed67427dc6bf3daba21059e9
ORGANIZER:Volleyball
SEQUENCE:261110140
LOCATION:Gymnasium Twistringen, Vechtaer Str. 44, 27239 Twistringen
GEO:52.79952000000000000000;8.62478000000000000000
SUMMARY:KL DNS N Fr.: SC Twistringen II - SC Twistringen IV
CLASS:PUBLIC
DTSTART:20170924T090000Z
DTSTAMP:20170922T213000Z
END:VEVENT
BEGIN:VEVENT
UID:430066-2da69939ed67427dc6bf3daba21059e9
X-WR-RELCALID:430066-2da69939ed67427dc6bf3daba21059e9
ORGANIZER:Volleyball
SEQUENCE:261110140
LOCATION:Gymnasium Twistringen, Vechtaer Str. 44, 27239 Twistringen
GEO:52.79952000000000000000;8.62478000000000000000
SUMMARY:KL DNS N Fr.: SC Twistringen II - SV Dimhausen ll
CLASS:PUBLIC
DTSTART:20170924T090000Z
DTSTAMP:20170922T213000Z
END:VEVENT
BEGIN:VEVENT
UID:430067-2da69939ed67427dc6bf3daba21059e9
X-WR-RELCALID:430067-2da69939ed67427dc6bf3daba21059e9
ORGANIZER:Volleyball
SEQUENCE:261110140
LOCATION:Gymnasium Twistringen, Vechtaer Str. 44, 27239 Twistringen
GEO:52.79952000000000000000;8.62478000000000000000
SUMMARY:KL DNS N Fr.: SC Twistringen IV - SV Dimhausen ll
CLASS:PUBLIC
DTSTART:20171021T130000Z
DTSTAMP:20170922T213000Z
END:VEVENT
BEGIN:VEVENT
UID:430068-2da69939ed67427dc6bf3daba21059e9
X-WR-RELCALID:430068-2da69939ed67427dc6bf3daba21059e9
ORGANIZER:Volleyball
SEQUENCE:261110140
LOCATION:Gymnasium Twistringen, Vechtaer Str. 44, 27239 Twistringen
GEO:52.79952000000000000000;8.62478000000000000000
SUMMARY:KL DNS N Fr.: SC Twistringen IV - Borsteler SF II
CLASS:PUBLIC
DTSTART:20171021T130000Z
DTSTAMP:20170922T213000Z
END:VEVENT
BEGIN:VEVENT
UID:430071-2da69939ed67427dc6bf3daba21059e9
X-WR-RELCALID:430071-2da69939ed67427dc6bf3daba21059e9
ORGANIZER:Volleyball
SEQUENCE:261110140
LOCATION:Leintorhalle, Hannoversche Str. 75, 31582 Nienburg
GEO:52.62889000000000000000;9.22141000000000000000
SUMMARY:KL DNS N Fr.: TKW Nienburg II - SC Twistringen II
CLASS:PUBLIC
DTSTART:20171104T140000Z
DTSTAMP:20170922T213000Z
END:VEVENT
BEGIN:VEVENT
UID:430072-2da69939ed67427dc6bf3daba21059e9
X-WR-RELCALID:430072-2da69939ed67427dc6bf3daba21059e9
ORGANIZER:Volleyball
SEQUENCE:261110140
LOCATION:Leintorhalle, Hannoversche Str. 75, 31582 Nienburg
GEO:52.62889000000000000000;9.22141000000000000000
SUMMARY:KL DNS N Fr.: TKW Nienburg II - SC Twistringen IV
CLASS:PUBLIC
DTSTART:20171104T140000Z
DTSTAMP:20170922T213000Z
END:VEVENT
BEGIN:VEVENT
UID:430073-2da69939ed67427dc6bf3daba21059e9
X-WR-RELCALID:430073-2da69939ed67427dc6bf3daba21059e9
ORGANIZER:Volleyball
SEQUENCE:261110140
LOCATION:Gymnasium Twistringen, Vechtaer Str. 44, 27239 Twistringen
GEO:52.79952000000000000000;8.62478000000000000000
SUMMARY:KL DNS N Fr.: SC Twistringen II - Borsteler SF II
CLASS:PUBLIC
DTSTART:20171112T100000Z
DTSTAMP:20170922T213000Z
END:VEVENT
BEGIN:VEVENT
UID:430074-2da69939ed67427dc6bf3daba21059e9
X-WR-RELCALID:430074-2da69939ed67427dc6bf3daba21059e9
ORGANIZER:Volleyball
SEQUENCE:261110140
LOCATION:Gymnasium Twistringen, Vechtaer Str. 44, 27239 Twistringen
GEO:52.79952000000000000000;8.62478000000000000000
SUMMARY:KL DNS N Fr.: SC Twistringen II - SC Twistringen IV
CLASS:PUBLIC
DTSTART:20171112T100000Z
DTSTAMP:20170922T213000Z
END:VEVENT
BEGIN:VEVENT
UID:430069-2da69939ed67427dc6bf3daba21059e9
X-WR-RELCALID:430069-2da69939ed67427dc6bf3daba21059e9
ORGANIZER:Volleyball
SEQUENCE:261110140
LOCATION:Gymnasium Sulingen, Schmelingstr. 37, 27232 Sulingen
GEO:52.68351000000000000000;8.80665000000000000000
SUMMARY:KL DNS N Fr.: SG Weh-Su-Var - TKW Nienburg II
CLASS:PUBLIC
DTSTART:20171125T140000Z
DTSTAMP:20170922T213000Z
END:VEVENT
BEGIN:VEVENT
UID:430070-2da69939ed67427dc6bf3daba21059e9
X-WR-RELCALID:430070-2da69939ed67427dc6bf3daba21059e9
ORGANIZER:Volleyball
SEQUENCE:261110140
LOCATION:Gymnasium Sulingen, Schmelingstr. 37, 27232 Sulingen
GEO:52.68351000000000000000;8.80665000000000000000
SUMMARY:KL DNS N Fr.: SG Weh-Su-Var - SC Twistringen II
CLASS:PUBLIC
DTSTART:20171125T140000Z
DTSTAMP:20170922T213000Z
END:VEVENT
BEGIN:VEVENT
UID:430075-2da69939ed67427dc6bf3daba21059e9
X-WR-RELCALID:430075-2da69939ed67427dc6bf3daba21059e9
ORGANIZER:Volleyball
SEQUENCE:261110140
LOCATION:Sporthalle Nordwohlde, Rolandstraße 36, 27211 Bassum-Nordwohl
 de
GEO:52.90443760000000000000;8.74152490000000000000
SUMMARY:KL DNS N Fr.: SV Dimhausen ll - Borsteler SF II
CLASS:PUBLIC
DTSTART:20171126T100000Z
DTSTAMP:20170922T213000Z
END:VEVENT
BEGIN:VEVENT
UID:430076-2da69939ed67427dc6bf3daba21059e9
X-WR-RELCALID:430076-2da69939ed67427dc6bf3daba21059e9
ORGANIZER:Volleyball
SEQUENCE:261110140
LOCATION:Sporthalle Nordwohlde, Rolandstraße 36, 27211 Bassum-Nordwohl
 de
GEO:52.90443760000000000000;8.74152490000000000000
SUMMARY:KL DNS N Fr.: SV Dimhausen ll - SG Weh-Su-Var
CLASS:PUBLIC
DTSTART:20171126T100000Z
DTSTAMP:20170922T213000Z
END:VEVENT
BEGIN:VEVENT
UID:430077-2da69939ed67427dc6bf3daba21059e9
X-WR-RELCALID:430077-2da69939ed67427dc6bf3daba21059e9
ORGANIZER:Volleyball
SEQUENCE:261110140
LOCATION:Sporthalle Nordwohlde, Rolandstraße 36, 27211 Bassum-Nordwohl
 de
GEO:52.90443760000000000000;8.74152490000000000000
SUMMARY:KL DNS N Fr.: SV Dimhausen ll - TKW Nienburg II
CLASS:PUBLIC
DTSTART:20171203T100000Z
DTSTAMP:20170922T213000Z
END:VEVENT
BEGIN:VEVENT
UID:430078-2da69939ed67427dc6bf3daba21059e9
X-WR-RELCALID:430078-2da69939ed67427dc6bf3daba21059e9
ORGANIZER:Volleyball
SEQUENCE:261110140
LOCATION:Sporthalle Nordwohlde, Rolandstraße 36, 27211 Bassum-Nordwohl
 de
GEO:52.90443760000000000000;8.74152490000000000000
SUMMARY:KL DNS N Fr.: SV Dimhausen ll - Borsteler SF II
CLASS:PUBLIC
DTSTART:20171203T100000Z
DTSTAMP:20170922T213000Z
END:VEVENT
BEGIN:VEVENT
UID:430079-2da69939ed67427dc6bf3daba21059e9
X-WR-RELCALID:430079-2da69939ed67427dc6bf3daba21059e9
ORGANIZER:Volleyball
SEQUENCE:261110140
LOCATION:Gymnasium Sulingen, Schmelingstr. 37, 27232 Sulingen
GEO:52.68351000000000000000;8.80665000000000000000
SUMMARY:KL DNS N Fr.: SG Weh-Su-Var - TKW Nienburg II
CLASS:PUBLIC
DTSTART:20180113T140000Z
DTSTAMP:20170922T213000Z
END:VEVENT
BEGIN:VEVENT
UID:430080-2da69939ed67427dc6bf3daba21059e9
X-WR-RELCALID:430080-2da69939ed67427dc6bf3daba21059e9
ORGANIZER:Volleyball
SEQUENCE:261110140
LOCATION:Gymnasium Sulingen, Schmelingstr. 37, 27232 Sulingen
GEO:52.68351000000000000000;8.80665000000000000000
SUMMARY:KL DNS N Fr.: SG Weh-Su-Var - SC Twistringen IV
CLASS:PUBLIC
DTSTART:20180113T140000Z
DTSTAMP:20170922T213000Z
END:VEVENT
BEGIN:VEVENT
UID:430081-2da69939ed67427dc6bf3daba21059e9
X-WR-RELCALID:430081-2da69939ed67427dc6bf3daba21059e9
ORGANIZER:Volleyball
SEQUENCE:261110140
LOCATION:Gymnasium Twistringen, Vechtaer Str. 44, 27239 Twistringen
GEO:52.79952000000000000000;8.62478000000000000000
SUMMARY:KL DNS N Fr.: SC Twistringen IV - Borsteler SF II
CLASS:PUBLIC
DTSTART:20180127T140000Z
DTSTAMP:20170922T213000Z
END:VEVENT
BEGIN:VEVENT
UID:430082-2da69939ed67427dc6bf3daba21059e9
X-WR-RELCALID:430082-2da69939ed67427dc6bf3daba21059e9
ORGANIZER:Volleyball
SEQUENCE:261110140
LOCATION:Gymnasium Twistringen, Vechtaer Str. 44, 27239 Twistringen
GEO:52.79952000000000000000;8.62478000000000000000
SUMMARY:KL DNS N Fr.: SC Twistringen IV - TKW Nienburg II
CLASS:PUBLIC
DTSTART:20180127T140000Z
DTSTAMP:20170922T213000Z
END:VEVENT
BEGIN:VEVENT
UID:430083-2da69939ed67427dc6bf3daba21059e9
X-WR-RELCALID:430083-2da69939ed67427dc6bf3daba21059e9
ORGANIZER:Volleyball
SEQUENCE:261110140
LOCATION:N.N., -, - -
GEO:51.16569000000000000000;10.45152600000000000000
SUMMARY:KL DNS N Fr.: Borsteler SF II - TKW Nienburg II
CLASS:PUBLIC
DTSTART:20180210T140000Z
DTSTAMP:20170922T213000Z
END:VEVENT
BEGIN:VEVENT
UID:430084-2da69939ed67427dc6bf3daba21059e9
X-WR-RELCALID:430084-2da69939ed67427dc6bf3daba21059e9
ORGANIZER:Volleyball
SEQUENCE:261110140
LOCATION:N.N., -, - -
GEO:51.16569000000000000000;10.45152600000000000000
SUMMARY:KL DNS N Fr.: Borsteler SF II - SC Twistringen II
CLASS:PUBLIC
DTSTART:20180210T140000Z
DTSTAMP:20170922T213000Z
END:VEVENT
BEGIN:VEVENT
UID:430085-2da69939ed67427dc6bf3daba21059e9
X-WR-RELCALID:430085-2da69939ed67427dc6bf3daba21059e9
ORGANIZER:Volleyball
SEQUENCE:261110140
LOCATION:Sporthalle Nordwohlde, Rolandstraße 36, 27211 Bassum-Nordwohl
 de
GEO:52.90443760000000000000;8.74152490000000000000
SUMMARY:KL DNS N Fr.: SV Dimhausen ll - SG Weh-Su-Var
CLASS:PUBLIC
DTSTART:20180211T100000Z
DTSTAMP:20170922T213000Z
END:VEVENT
BEGIN:VEVENT
UID:430086-2da69939ed67427dc6bf3daba21059e9
X-WR-RELCALID:430086-2da69939ed67427dc6bf3daba21059e9
ORGANIZER:Volleyball
SEQUENCE:261110140
LOCATION:Sporthalle Nordwohlde, Rolandstraße 36, 27211 Bassum-Nordwohl
 de
GEO:52.90443760000000000000;8.74152490000000000000
SUMMARY:KL DNS N Fr.: SV Dimhausen ll - SC Twistringen IV
CLASS:PUBLIC
DTSTART:20180211T100000Z
DTSTAMP:20170922T213000Z
END:VEVENT
BEGIN:VEVENT
UID:430087-2da69939ed67427dc6bf3daba21059e9
X-WR-RELCALID:430087-2da69939ed67427dc6bf3daba21059e9
ORGANIZER:Volleyball
SEQUENCE:261110140
LOCATION:Gymnasium Twistringen, Vechtaer Str. 44, 27239 Twistringen
GEO:52.79952000000000000000;8.62478000000000000000
SUMMARY:KL DNS N Fr.: SC Twistringen II - SV Dimhausen ll
CLASS:PUBLIC
DTSTART:20180217T140000Z
DTSTAMP:20170922T213000Z
END:VEVENT
BEGIN:VEVENT
UID:430088-2da69939ed67427dc6bf3daba21059e9
X-WR-RELCALID:430088-2da69939ed67427dc6bf3daba21059e9
ORGANIZER:Volleyball
SEQUENCE:261110140
LOCATION:Gymnasium Twistringen, Vechtaer Str. 44, 27239 Twistringen
GEO:52.79952000000000000000;8.62478000000000000000
SUMMARY:KL DNS N Fr.: SC Twistringen II - SG Weh-Su-Var
CLASS:PUBLIC
DTSTART:20180217T140000Z
DTSTAMP:20170922T213000Z
END:VEVENT
BEGIN:VEVENT
UID:430089-2da69939ed67427dc6bf3daba21059e9
X-WR-RELCALID:430089-2da69939ed67427dc6bf3daba21059e9
ORGANIZER:Volleyball
SEQUENCE:261110140
LOCATION:Gymnasium Sulingen, Schmelingstr. 37, 27232 Sulingen
GEO:52.68351000000000000000;8.80665000000000000000
SUMMARY:KL DNS N Fr.: SG Weh-Su-Var - SC Twistringen IV
CLASS:PUBLIC
DTSTART:20180317T140000Z
DTSTAMP:20170922T213000Z
END:VEVENT
BEGIN:VEVENT
UID:430090-2da69939ed67427dc6bf3daba21059e9
X-WR-RELCALID:430090-2da69939ed67427dc6bf3daba21059e9
ORGANIZER:Volleyball
SEQUENCE:261110140
LOCATION:Gymnasium Sulingen, Schmelingstr. 37, 27232 Sulingen
GEO:52.68351000000000000000;8.80665000000000000000
SUMMARY:KL DNS N Fr.: SG Weh-Su-Var - Borsteler SF II
CLASS:PUBLIC
DTSTART:20180317T140000Z
DTSTAMP:20170922T213000Z
END:VEVENT
BEGIN:VEVENT
UID:430091-2da69939ed67427dc6bf3daba21059e9
X-WR-RELCALID:430091-2da69939ed67427dc6bf3daba21059e9
ORGANIZER:Volleyball
SEQUENCE:261110140
LOCATION:Leintorhalle, Hannoversche Str. 75, 31582 Nienburg
GEO:52.62889000000000000000;9.22141000000000000000
SUMMARY:KL DNS N Fr.: TKW Nienburg II - SC Twistringen II
CLASS:PUBLIC
DTSTART:20180318T110000Z
DTSTAMP:20170922T213000Z
END:VEVENT
BEGIN:VEVENT
UID:430092-2da69939ed67427dc6bf3daba21059e9
X-WR-RELCALID:430092-2da69939ed67427dc6bf3daba21059e9
ORGANIZER:Volleyball
SEQUENCE:261110140
LOCATION:Leintorhalle, Hannoversche Str. 75, 31582 Nienburg
GEO:52.62889000000000000000;9.22141000000000000000
SUMMARY:KL DNS N Fr.: TKW Nienburg II - SV Dimhausen ll
CLASS:PUBLIC
DTSTART:20180318T110000Z
DTSTAMP:20170922T213000Z
END:VEVENT
END:VCALENDAR