BEGIN:VCALENDAR
VERSION:2.0
PRODID:VSD-Portal-www.volley.de
METHOD:PUBLISH
BEGIN:VEVENT
UID:447931-2da69939ed67427dc6bf3daba21059e9
X-WR-RELCALID:447931-2da69939ed67427dc6bf3daba21059e9
ORGANIZER:Volleyball
SEQUENCE:261121258
SUMMARY:BK24  Fr.: SV Langendreer 04 - TSV Herdecke
CLASS:PUBLIC
DTSTART;VALUE=DATE:20170924
DTSTAMP:20170923T182000Z
DTEND;VALUE=DATE:20170925
END:VEVENT
BEGIN:VEVENT
UID:447944-2da69939ed67427dc6bf3daba21059e9
X-WR-RELCALID:447944-2da69939ed67427dc6bf3daba21059e9
ORGANIZER:Volleyball
SEQUENCE:261121258
SUMMARY:BK24  Fr.: SV Langendreer 04 - TG z.r.E. Schwelm II
CLASS:PUBLIC
DTSTART;VALUE=DATE:20170927
DTSTAMP:20170923T182000Z
DTEND;VALUE=DATE:20170928
END:VEVENT
BEGIN:VEVENT
UID:447947-2da69939ed67427dc6bf3daba21059e9
X-WR-RELCALID:447947-2da69939ed67427dc6bf3daba21059e9
ORGANIZER:Volleyball
SEQUENCE:261121258
SUMMARY:BK24  Fr.: SV Langendreer 04 - Schwelmer SC
CLASS:PUBLIC
DTSTART;VALUE=DATE:20171111
DTSTAMP:20170923T182000Z
DTEND;VALUE=DATE:20171112
END:VEVENT
BEGIN:VEVENT
UID:447956-2da69939ed67427dc6bf3daba21059e9
X-WR-RELCALID:447956-2da69939ed67427dc6bf3daba21059e9
ORGANIZER:Volleyball
SEQUENCE:261121258
SUMMARY:BK24  Fr.: SV Langendreer 04 - TVE Vogelsang II
CLASS:PUBLIC
DTSTART;VALUE=DATE:20171210
DTSTAMP:20170923T182000Z
DTEND;VALUE=DATE:20171211
END:VEVENT
BEGIN:VEVENT
UID:447962-2da69939ed67427dc6bf3daba21059e9
X-WR-RELCALID:447962-2da69939ed67427dc6bf3daba21059e9
ORGANIZER:Volleyball
SEQUENCE:261121258
SUMMARY:BK24  Fr.: SV Langendreer 04 - VV Schwerte VI
CLASS:PUBLIC
DTSTART;VALUE=DATE:20180114
DTSTAMP:20170923T182000Z
DTEND;VALUE=DATE:20180115
END:VEVENT
BEGIN:VEVENT
UID:447965-2da69939ed67427dc6bf3daba21059e9
X-WR-RELCALID:447965-2da69939ed67427dc6bf3daba21059e9
ORGANIZER:Volleyball
SEQUENCE:261121258
SUMMARY:BK24  Fr.: SV Langendreer 04 - DJK Blau-Weiß Annen II
CLASS:PUBLIC
DTSTART;VALUE=DATE:20180121
DTSTAMP:20170923T182000Z
DTEND;VALUE=DATE:20180122
END:VEVENT
BEGIN:VEVENT
UID:447978-2da69939ed67427dc6bf3daba21059e9
X-WR-RELCALID:447978-2da69939ed67427dc6bf3daba21059e9
ORGANIZER:Volleyball
SEQUENCE:261121258
SUMMARY:BK24  Fr.: SV Langendreer 04 - VV Schwerte V
CLASS:PUBLIC
DTSTART;VALUE=DATE:20180224
DTSTAMP:20170923T182000Z
DTEND;VALUE=DATE:20180225
END:VEVENT
END:VCALENDAR