BEGIN:VCALENDAR
VERSION:2.0
PRODID:VSD-Portal-www.volley.de
METHOD:PUBLISH
BEGIN:VEVENT
UID:449511-2da69939ed67427dc6bf3daba21059e9
X-WR-RELCALID:449511-2da69939ed67427dc6bf3daba21059e9
ORGANIZER:Volleyball
SEQUENCE:261120215
SUMMARY:KL Mi-Ra Fr.: Kreisauswahl Minden-Ravensberg - SG Levern-Stemw
 ede
CLASS:PUBLIC
DTSTART;VALUE=DATE:20170923
DTSTAMP:20170923T171100Z
DTEND;VALUE=DATE:20170924
END:VEVENT
BEGIN:VEVENT
UID:449512-2da69939ed67427dc6bf3daba21059e9
X-WR-RELCALID:449512-2da69939ed67427dc6bf3daba21059e9
ORGANIZER:Volleyball
SEQUENCE:261120215
SUMMARY:KL Mi-Ra Fr.: SG Levern-Stemwede - MTV Hausberge
CLASS:PUBLIC
DTSTART;VALUE=DATE:20170930
DTSTAMP:20170923T171100Z
DTEND;VALUE=DATE:20171001
END:VEVENT
BEGIN:VEVENT
UID:449556-2da69939ed67427dc6bf3daba21059e9
X-WR-RELCALID:449556-2da69939ed67427dc6bf3daba21059e9
ORGANIZER:Volleyball
SEQUENCE:261120215
SUMMARY:KL Mi-Ra Fr.: SG Levern-Stemwede - 1. VC Minden III
CLASS:PUBLIC
DTSTART;VALUE=DATE:20170930
DTSTAMP:20170923T171100Z
DTEND;VALUE=DATE:20171001
END:VEVENT
BEGIN:VEVENT
UID:449516-2da69939ed67427dc6bf3daba21059e9
X-WR-RELCALID:449516-2da69939ed67427dc6bf3daba21059e9
ORGANIZER:Volleyball
SEQUENCE:261120215
SUMMARY:KL Mi-Ra Fr.: 1. VC Minden IV - SG Levern-Stemwede
CLASS:PUBLIC
DTSTART;VALUE=DATE:20171007
DTSTAMP:20170923T171100Z
DTEND;VALUE=DATE:20171008
END:VEVENT
BEGIN:VEVENT
UID:449543-2da69939ed67427dc6bf3daba21059e9
X-WR-RELCALID:449543-2da69939ed67427dc6bf3daba21059e9
ORGANIZER:Volleyball
SEQUENCE:261120215
SUMMARY:KL Mi-Ra Fr.: TV Löhne II - SG Levern-Stemwede
CLASS:PUBLIC
DTSTART;VALUE=DATE:20171014
DTSTAMP:20170923T171100Z
DTEND;VALUE=DATE:20171015
END:VEVENT
BEGIN:VEVENT
UID:449522-2da69939ed67427dc6bf3daba21059e9
X-WR-RELCALID:449522-2da69939ed67427dc6bf3daba21059e9
ORGANIZER:Volleyball
SEQUENCE:261120215
SUMMARY:KL Mi-Ra Fr.: 1. VC Minden III - SG Levern-Stemwede
CLASS:PUBLIC
DTSTART;VALUE=DATE:20180114
DTSTAMP:20170923T171100Z
DTEND;VALUE=DATE:20180115
END:VEVENT
BEGIN:VEVENT
UID:449531-2da69939ed67427dc6bf3daba21059e9
X-WR-RELCALID:449531-2da69939ed67427dc6bf3daba21059e9
ORGANIZER:Volleyball
SEQUENCE:261120215
SUMMARY:KL Mi-Ra Fr.: MTV Hausberge - SG Levern-Stemwede
CLASS:PUBLIC
DTSTART;VALUE=DATE:20180218
DTSTAMP:20170923T171100Z
DTEND;VALUE=DATE:20180219
END:VEVENT
BEGIN:VEVENT
UID:449526-2da69939ed67427dc6bf3daba21059e9
X-WR-RELCALID:449526-2da69939ed67427dc6bf3daba21059e9
ORGANIZER:Volleyball
SEQUENCE:261120215
SUMMARY:KL Mi-Ra Fr.: SG Levern-Stemwede - TV Löhne II
CLASS:PUBLIC
DTSTART;VALUE=DATE:20180303
DTSTAMP:20170923T171100Z
DTEND;VALUE=DATE:20180304
END:VEVENT
BEGIN:VEVENT
UID:449555-2da69939ed67427dc6bf3daba21059e9
X-WR-RELCALID:449555-2da69939ed67427dc6bf3daba21059e9
ORGANIZER:Volleyball
SEQUENCE:261120215
SUMMARY:KL Mi-Ra Fr.: SG Levern-Stemwede - 1. VC Minden IV
CLASS:PUBLIC
DTSTART;VALUE=DATE:20180303
DTSTAMP:20170923T171100Z
DTEND;VALUE=DATE:20180304
END:VEVENT
END:VCALENDAR