BEGIN:VCALENDAR
VERSION:2.0
PRODID:VSD-Portal-www.volley.de
METHOD:PUBLISH
BEGIN:VEVENT
UID:456834-2da69939ed67427dc6bf3daba21059e9
X-WR-RELCALID:456834-2da69939ed67427dc6bf3daba21059e9
ORGANIZER:Volleyball
SEQUENCE:261120143
SUMMARY:BL 3 Mi.: Spg. Glück Auf Lüderich - SV Energiezufuhr
CLASS:PUBLIC
DTSTART;VALUE=DATE:20171005
DTSTAMP:20180416T160000Z
DTEND;VALUE=DATE:20171006
END:VEVENT
BEGIN:VEVENT
UID:456827-2da69939ed67427dc6bf3daba21059e9
X-WR-RELCALID:456827-2da69939ed67427dc6bf3daba21059e9
ORGANIZER:Volleyball
SEQUENCE:261120143
SUMMARY:BL 3 Mi.: SV Energiezufuhr - Union BW Biesfeld
CLASS:PUBLIC
DTSTART;VALUE=DATE:20171010
DTSTAMP:20170921T090000Z
DTEND;VALUE=DATE:20171011
END:VEVENT
BEGIN:VEVENT
UID:456835-2da69939ed67427dc6bf3daba21059e9
X-WR-RELCALID:456835-2da69939ed67427dc6bf3daba21059e9
ORGANIZER:Volleyball
SEQUENCE:261120143
SUMMARY:BL 3 Mi.: SV Energiezufuhr - Wermelskirchener TV
CLASS:PUBLIC
DTSTART;VALUE=DATE:20171017
DTSTAMP:20170921T090000Z
DTEND;VALUE=DATE:20171018
END:VEVENT
BEGIN:VEVENT
UID:456841-2da69939ed67427dc6bf3daba21059e9
X-WR-RELCALID:456841-2da69939ed67427dc6bf3daba21059e9
ORGANIZER:Volleyball
SEQUENCE:261120143
SUMMARY:BL 3 Mi.: ASG Porz - SV Energiezufuhr
CLASS:PUBLIC
DTSTART;VALUE=DATE:20171115
DTSTAMP:20170921T090000Z
DTEND;VALUE=DATE:20171116
END:VEVENT
BEGIN:VEVENT
UID:456843-2da69939ed67427dc6bf3daba21059e9
X-WR-RELCALID:456843-2da69939ed67427dc6bf3daba21059e9
ORGANIZER:Volleyball
SEQUENCE:261120143
SUMMARY:BL 3 Mi.: SV Energiezufuhr - TS Rath-Heumar
CLASS:PUBLIC
DTSTART;VALUE=DATE:20171128
DTSTAMP:20170921T090000Z
DTEND;VALUE=DATE:20171129
END:VEVENT
BEGIN:VEVENT
UID:456847-2da69939ed67427dc6bf3daba21059e9
X-WR-RELCALID:456847-2da69939ed67427dc6bf3daba21059e9
ORGANIZER:Volleyball
SEQUENCE:261120143
SUMMARY:BL 3 Mi.: SV Energiezufuhr - Schlebuscher TV II
CLASS:PUBLIC
DTSTART;VALUE=DATE:20171212
DTSTAMP:20170921T090000Z
DTEND;VALUE=DATE:20171213
END:VEVENT
BEGIN:VEVENT
UID:456857-2da69939ed67427dc6bf3daba21059e9
X-WR-RELCALID:456857-2da69939ed67427dc6bf3daba21059e9
ORGANIZER:Volleyball
SEQUENCE:261120143
SUMMARY:BL 3 Mi.: Union BW Biesfeld - SV Energiezufuhr
CLASS:PUBLIC
DTSTART;VALUE=DATE:20180125
DTSTAMP:20170921T090000Z
DTEND;VALUE=DATE:20180126
END:VEVENT
BEGIN:VEVENT
UID:456860-2da69939ed67427dc6bf3daba21059e9
X-WR-RELCALID:456860-2da69939ed67427dc6bf3daba21059e9
ORGANIZER:Volleyball
SEQUENCE:261120143
SUMMARY:BL 3 Mi.: SV Energiezufuhr - Spg. Glück Auf Lüderich
CLASS:PUBLIC
DTSTART;VALUE=DATE:20180206
DTSTAMP:20180416T160000Z
DTEND;VALUE=DATE:20180207
END:VEVENT
BEGIN:VEVENT
UID:456864-2da69939ed67427dc6bf3daba21059e9
X-WR-RELCALID:456864-2da69939ed67427dc6bf3daba21059e9
ORGANIZER:Volleyball
SEQUENCE:261120143
SUMMARY:BL 3 Mi.: Wermelskirchener TV - SV Energiezufuhr
CLASS:PUBLIC
DTSTART;VALUE=DATE:20180228
DTSTAMP:20170921T090000Z
DTEND;VALUE=DATE:20180301
END:VEVENT
BEGIN:VEVENT
UID:456868-2da69939ed67427dc6bf3daba21059e9
X-WR-RELCALID:456868-2da69939ed67427dc6bf3daba21059e9
ORGANIZER:Volleyball
SEQUENCE:261120143
SUMMARY:BL 3 Mi.: SV Energiezufuhr - ASG Porz
CLASS:PUBLIC
DTSTART;VALUE=DATE:20180313
DTSTAMP:20170921T090000Z
DTEND;VALUE=DATE:20180314
END:VEVENT
BEGIN:VEVENT
UID:456875-2da69939ed67427dc6bf3daba21059e9
X-WR-RELCALID:456875-2da69939ed67427dc6bf3daba21059e9
ORGANIZER:Volleyball
SEQUENCE:261120143
SUMMARY:BL 3 Mi.: Schlebuscher TV II - SV Energiezufuhr
CLASS:PUBLIC
DTSTART;VALUE=DATE:20180424
DTSTAMP:20170921T090000Z
DTEND;VALUE=DATE:20180425
END:VEVENT
BEGIN:VEVENT
UID:456871-2da69939ed67427dc6bf3daba21059e9
X-WR-RELCALID:456871-2da69939ed67427dc6bf3daba21059e9
ORGANIZER:Volleyball
SEQUENCE:261120143
SUMMARY:BL 3 Mi.: TS Rath-Heumar - SV Energiezufuhr
CLASS:PUBLIC
DTSTART;VALUE=DATE:20180502
DTSTAMP:20180417T173000Z
DTEND;VALUE=DATE:20180503
END:VEVENT
END:VCALENDAR