BEGIN:VCALENDAR
VERSION:2.0
PRODID:VSD-Portal-www.volley.de
METHOD:PUBLISH
BEGIN:VEVENT
UID:456830-2da69939ed67427dc6bf3daba21059e9
X-WR-RELCALID:456830-2da69939ed67427dc6bf3daba21059e9
ORGANIZER:Volleyball
SEQUENCE:261111358
SUMMARY:BL 3 Mi.: ASG Porz - Spg. Glück Auf Lüderich
CLASS:PUBLIC
DTSTART;VALUE=DATE:20170920
DTSTAMP:20180416T160000Z
DTEND;VALUE=DATE:20170921
END:VEVENT
BEGIN:VEVENT
UID:456834-2da69939ed67427dc6bf3daba21059e9
X-WR-RELCALID:456834-2da69939ed67427dc6bf3daba21059e9
ORGANIZER:Volleyball
SEQUENCE:261111358
SUMMARY:BL 3 Mi.: Spg. Glück Auf Lüderich - SV Energiezufuhr
CLASS:PUBLIC
DTSTART;VALUE=DATE:20171005
DTSTAMP:20180416T160000Z
DTEND;VALUE=DATE:20171006
END:VEVENT
BEGIN:VEVENT
UID:456836-2da69939ed67427dc6bf3daba21059e9
X-WR-RELCALID:456836-2da69939ed67427dc6bf3daba21059e9
ORGANIZER:Volleyball
SEQUENCE:261111358
SUMMARY:BL 3 Mi.: Schlebuscher TV II - Spg. Glück Auf Lüderich
CLASS:PUBLIC
DTSTART;VALUE=DATE:20171017
DTSTAMP:20180416T160000Z
DTEND;VALUE=DATE:20171018
END:VEVENT
BEGIN:VEVENT
UID:456845-2da69939ed67427dc6bf3daba21059e9
X-WR-RELCALID:456845-2da69939ed67427dc6bf3daba21059e9
ORGANIZER:Volleyball
SEQUENCE:261111358
SUMMARY:BL 3 Mi.: Union BW Biesfeld - Spg. Glück Auf Lüderich
CLASS:PUBLIC
DTSTART;VALUE=DATE:20171130
DTSTAMP:20180416T160000Z
DTEND;VALUE=DATE:20171201
END:VEVENT
BEGIN:VEVENT
UID:456853-2da69939ed67427dc6bf3daba21059e9
X-WR-RELCALID:456853-2da69939ed67427dc6bf3daba21059e9
ORGANIZER:Volleyball
SEQUENCE:261111358
SUMMARY:BL 3 Mi.: Spg. Glück Auf Lüderich - Wermelskirchener TV
CLASS:PUBLIC
DTSTART;VALUE=DATE:20180111
DTSTAMP:20180416T160000Z
DTEND;VALUE=DATE:20180112
END:VEVENT
BEGIN:VEVENT
UID:456848-2da69939ed67427dc6bf3daba21059e9
X-WR-RELCALID:456848-2da69939ed67427dc6bf3daba21059e9
ORGANIZER:Volleyball
SEQUENCE:261111358
SUMMARY:BL 3 Mi.: TS Rath-Heumar - Spg. Glück Auf Lüderich
CLASS:PUBLIC
DTSTART;VALUE=DATE:20180117
DTSTAMP:20180416T160000Z
DTEND;VALUE=DATE:20180118
END:VEVENT
BEGIN:VEVENT
UID:456856-2da69939ed67427dc6bf3daba21059e9
X-WR-RELCALID:456856-2da69939ed67427dc6bf3daba21059e9
ORGANIZER:Volleyball
SEQUENCE:261111358
SUMMARY:BL 3 Mi.: Spg. Glück Auf Lüderich - ASG Porz
CLASS:PUBLIC
DTSTART;VALUE=DATE:20180125
DTSTAMP:20180416T160000Z
DTEND;VALUE=DATE:20180126
END:VEVENT
BEGIN:VEVENT
UID:456860-2da69939ed67427dc6bf3daba21059e9
X-WR-RELCALID:456860-2da69939ed67427dc6bf3daba21059e9
ORGANIZER:Volleyball
SEQUENCE:261111358
SUMMARY:BL 3 Mi.: SV Energiezufuhr - Spg. Glück Auf Lüderich
CLASS:PUBLIC
DTSTART;VALUE=DATE:20180206
DTSTAMP:20180416T160000Z
DTEND;VALUE=DATE:20180207
END:VEVENT
BEGIN:VEVENT
UID:456865-2da69939ed67427dc6bf3daba21059e9
X-WR-RELCALID:456865-2da69939ed67427dc6bf3daba21059e9
ORGANIZER:Volleyball
SEQUENCE:261111358
SUMMARY:BL 3 Mi.: Spg. Glück Auf Lüderich - Schlebuscher TV II
CLASS:PUBLIC
DTSTART;VALUE=DATE:20180301
DTSTAMP:20180416T160000Z
DTEND;VALUE=DATE:20180302
END:VEVENT
BEGIN:VEVENT
UID:456874-2da69939ed67427dc6bf3daba21059e9
X-WR-RELCALID:456874-2da69939ed67427dc6bf3daba21059e9
ORGANIZER:Volleyball
SEQUENCE:261111358
SUMMARY:BL 3 Mi.: Spg. Glück Auf Lüderich - Union BW Biesfeld
CLASS:PUBLIC
DTSTART;VALUE=DATE:20180412
DTSTAMP:20180416T160000Z
DTEND;VALUE=DATE:20180413
END:VEVENT
BEGIN:VEVENT
UID:456876-2da69939ed67427dc6bf3daba21059e9
X-WR-RELCALID:456876-2da69939ed67427dc6bf3daba21059e9
ORGANIZER:Volleyball
SEQUENCE:261111358
SUMMARY:BL 3 Mi.: Spg. Glück Auf Lüderich - TS Rath-Heumar
CLASS:PUBLIC
DTSTART;VALUE=DATE:20180426
DTSTAMP:20180416T160000Z
DTEND;VALUE=DATE:20180427
END:VEVENT
BEGIN:VEVENT
UID:456882-2da69939ed67427dc6bf3daba21059e9
X-WR-RELCALID:456882-2da69939ed67427dc6bf3daba21059e9
ORGANIZER:Volleyball
SEQUENCE:261111358
SUMMARY:BL 3 Mi.: Wermelskirchener TV - Spg. Glück Auf Lüderich
CLASS:PUBLIC
DTSTART;VALUE=DATE:20180509
DTSTAMP:20180416T160000Z
DTEND;VALUE=DATE:20180510
END:VEVENT
END:VCALENDAR