BEGIN:VCALENDAR
VERSION:2.0
PRODID:VSD-Portal-www.volley.de
METHOD:PUBLISH
BEGIN:VEVENT
UID:462296-2da69939ed67427dc6bf3daba21059e9
X-WR-RELCALID:462296-2da69939ed67427dc6bf3daba21059e9
ORGANIZER:Volleyball
SEQUENCE:261141306
SUMMARY:OL Mi.: Volleyball-Mania Bergheim - FV Campussport Köln
CLASS:PUBLIC
DTSTART;VALUE=DATE:20170926
DTSTAMP:20170922T160000Z
DTEND;VALUE=DATE:20170927
END:VEVENT
BEGIN:VEVENT
UID:462299-2da69939ed67427dc6bf3daba21059e9
X-WR-RELCALID:462299-2da69939ed67427dc6bf3daba21059e9
ORGANIZER:Volleyball
SEQUENCE:261141306
SUMMARY:OL Mi.: KT 43 Köln - Volleyball-Mania Bergheim
CLASS:PUBLIC
DTSTART;VALUE=DATE:20171005
DTSTAMP:20170922T160000Z
DTEND;VALUE=DATE:20171006
END:VEVENT
BEGIN:VEVENT
UID:462303-2da69939ed67427dc6bf3daba21059e9
X-WR-RELCALID:462303-2da69939ed67427dc6bf3daba21059e9
ORGANIZER:Volleyball
SEQUENCE:261141306
SUMMARY:OL Mi.: Volleyball-Mania Bergheim - Weilerswister SG
CLASS:PUBLIC
DTSTART;VALUE=DATE:20171017
DTSTAMP:20170922T160000Z
DTEND;VALUE=DATE:20171018
END:VEVENT
BEGIN:VEVENT
UID:462305-2da69939ed67427dc6bf3daba21059e9
X-WR-RELCALID:462305-2da69939ed67427dc6bf3daba21059e9
ORGANIZER:Volleyball
SEQUENCE:261141306
SUMMARY:OL Mi.: Burscheider TG - Volleyball-Mania Bergheim
CLASS:PUBLIC
DTSTART;VALUE=DATE:20171113
DTSTAMP:20170922T160000Z
DTEND;VALUE=DATE:20171114
END:VEVENT
BEGIN:VEVENT
UID:462310-2da69939ed67427dc6bf3daba21059e9
X-WR-RELCALID:462310-2da69939ed67427dc6bf3daba21059e9
ORGANIZER:Volleyball
SEQUENCE:261141306
SUMMARY:OL Mi.: Volleyball-Mania Bergheim - Weidener SF
CLASS:PUBLIC
DTSTART;VALUE=DATE:20171128
DTSTAMP:20170922T160000Z
DTEND;VALUE=DATE:20171129
END:VEVENT
BEGIN:VEVENT
UID:462317-2da69939ed67427dc6bf3daba21059e9
X-WR-RELCALID:462317-2da69939ed67427dc6bf3daba21059e9
ORGANIZER:Volleyball
SEQUENCE:261141306
SUMMARY:OL Mi.: Volleyball-Mania Bergheim - Hennefer TV
CLASS:PUBLIC
DTSTART;VALUE=DATE:20180109
DTSTAMP:20170922T160000Z
DTEND;VALUE=DATE:20180110
END:VEVENT
BEGIN:VEVENT
UID:462315-2da69939ed67427dc6bf3daba21059e9
X-WR-RELCALID:462315-2da69939ed67427dc6bf3daba21059e9
ORGANIZER:Volleyball
SEQUENCE:261141306
SUMMARY:OL Mi.: TV Rodenkirchen - Volleyball-Mania Bergheim
CLASS:PUBLIC
DTSTART;VALUE=DATE:20180116
DTSTAMP:20171201T114500Z
DTEND;VALUE=DATE:20180117
END:VEVENT
BEGIN:VEVENT
UID:462322-2da69939ed67427dc6bf3daba21059e9
X-WR-RELCALID:462322-2da69939ed67427dc6bf3daba21059e9
ORGANIZER:Volleyball
SEQUENCE:261141306
SUMMARY:OL Mi.: FV Campussport Köln - Volleyball-Mania Bergheim
CLASS:PUBLIC
DTSTART;VALUE=DATE:20180124
DTSTAMP:20170922T160000Z
DTEND;VALUE=DATE:20180125
END:VEVENT
BEGIN:VEVENT
UID:462327-2da69939ed67427dc6bf3daba21059e9
X-WR-RELCALID:462327-2da69939ed67427dc6bf3daba21059e9
ORGANIZER:Volleyball
SEQUENCE:261141306
SUMMARY:OL Mi.: Volleyball-Mania Bergheim - KT 43 Köln
CLASS:PUBLIC
DTSTART;VALUE=DATE:20180206
DTSTAMP:20170922T160000Z
DTEND;VALUE=DATE:20180207
END:VEVENT
BEGIN:VEVENT
UID:462333-2da69939ed67427dc6bf3daba21059e9
X-WR-RELCALID:462333-2da69939ed67427dc6bf3daba21059e9
ORGANIZER:Volleyball
SEQUENCE:261141306
SUMMARY:OL Mi.: Volleyball-Mania Bergheim - Burscheider TG
CLASS:PUBLIC
DTSTART;VALUE=DATE:20180313
DTSTAMP:20170922T160000Z
DTEND;VALUE=DATE:20180314
END:VEVENT
BEGIN:VEVENT
UID:462332-2da69939ed67427dc6bf3daba21059e9
X-WR-RELCALID:462332-2da69939ed67427dc6bf3daba21059e9
ORGANIZER:Volleyball
SEQUENCE:261141306
SUMMARY:OL Mi.: Weilerswister SG - Volleyball-Mania Bergheim
CLASS:PUBLIC
DTSTART;VALUE=DATE:20180320
DTSTAMP:20180321T002100Z
DTEND;VALUE=DATE:20180321
END:VEVENT
BEGIN:VEVENT
UID:462337-2da69939ed67427dc6bf3daba21059e9
X-WR-RELCALID:462337-2da69939ed67427dc6bf3daba21059e9
ORGANIZER:Volleyball
SEQUENCE:261141306
SUMMARY:OL Mi.: Weidener SF - Volleyball-Mania Bergheim
CLASS:PUBLIC
DTSTART;VALUE=DATE:20180409
DTSTAMP:20170922T160000Z
DTEND;VALUE=DATE:20180410
END:VEVENT
BEGIN:VEVENT
UID:462341-2da69939ed67427dc6bf3daba21059e9
X-WR-RELCALID:462341-2da69939ed67427dc6bf3daba21059e9
ORGANIZER:Volleyball
SEQUENCE:261141306
SUMMARY:OL Mi.: Volleyball-Mania Bergheim - TV Rodenkirchen
CLASS:PUBLIC
DTSTART;VALUE=DATE:20180424
DTSTAMP:20170922T160000Z
DTEND;VALUE=DATE:20180425
END:VEVENT
BEGIN:VEVENT
UID:462348-2da69939ed67427dc6bf3daba21059e9
X-WR-RELCALID:462348-2da69939ed67427dc6bf3daba21059e9
ORGANIZER:Volleyball
SEQUENCE:261141306
SUMMARY:OL Mi.: Hennefer TV - Volleyball-Mania Bergheim
CLASS:PUBLIC
DTSTART;VALUE=DATE:20180509
DTSTAMP:20170922T160000Z
DTEND;VALUE=DATE:20180510
END:VEVENT
END:VCALENDAR