BEGIN:VCALENDAR
VERSION:2.0
PRODID:VSD-Portal-www.volley.de
METHOD:PUBLISH
BEGIN:VEVENT
UID:6797-2da69939ed67427dc6bf3daba21059e9
X-WR-RELCALID:6797-2da69939ed67427dc6bf3daba21059e9
ORGANIZER:Volleyball
SEQUENCE:261111129
SUMMARY:BL 04 Fr.: TV Georgsmarienhütte - TuS Aschen-Strang
CLASS:PUBLIC
DTSTART:20130921T130000Z
DTSTAMP:20140315T112000Z
END:VEVENT
BEGIN:VEVENT
UID:6798-2da69939ed67427dc6bf3daba21059e9
X-WR-RELCALID:6798-2da69939ed67427dc6bf3daba21059e9
ORGANIZER:Volleyball
SEQUENCE:261111129
SUMMARY:BL 04 Fr.: TV Georgsmarienhütte - SV Bad Laer IV
CLASS:PUBLIC
DTSTART:20130921T130000Z
DTSTAMP:20140315T112000Z
END:VEVENT
BEGIN:VEVENT
UID:6795-2da69939ed67427dc6bf3daba21059e9
X-WR-RELCALID:6795-2da69939ed67427dc6bf3daba21059e9
ORGANIZER:Volleyball
SEQUENCE:261111129
SUMMARY:BL 04 Fr.: Blau-Weiß Schinkel - VfL Kloster Oesede
CLASS:PUBLIC
DTSTART:20130921T130000Z
DTSTAMP:20140315T112000Z
END:VEVENT
BEGIN:VEVENT
UID:6796-2da69939ed67427dc6bf3daba21059e9
X-WR-RELCALID:6796-2da69939ed67427dc6bf3daba21059e9
ORGANIZER:Volleyball
SEQUENCE:261111129
SUMMARY:BL 04 Fr.: Blau-Weiß Schinkel - TSV Westerhausen II
CLASS:PUBLIC
DTSTART:20130921T130000Z
DTSTAMP:20140315T112000Z
END:VEVENT
BEGIN:VEVENT
UID:6799-2da69939ed67427dc6bf3daba21059e9
X-WR-RELCALID:6799-2da69939ed67427dc6bf3daba21059e9
ORGANIZER:Volleyball
SEQUENCE:261111129
SUMMARY:BL 04 Fr.: TuS Aschen-Strang - VfL Lintorf II
CLASS:PUBLIC
DTSTART:20131005T130000Z
DTSTAMP:20140315T112000Z
END:VEVENT
BEGIN:VEVENT
UID:6800-2da69939ed67427dc6bf3daba21059e9
X-WR-RELCALID:6800-2da69939ed67427dc6bf3daba21059e9
ORGANIZER:Volleyball
SEQUENCE:261111129
SUMMARY:BL 04 Fr.: TuS Aschen-Strang - Blau-Weiß Schinkel
CLASS:PUBLIC
DTSTART:20131005T130000Z
DTSTAMP:20140315T112000Z
END:VEVENT
BEGIN:VEVENT
UID:6803-2da69939ed67427dc6bf3daba21059e9
X-WR-RELCALID:6803-2da69939ed67427dc6bf3daba21059e9
ORGANIZER:Volleyball
SEQUENCE:261111129
SUMMARY:BL 04 Fr.: VfL Lintorf II - TV Georgsmarienhütte
CLASS:PUBLIC
DTSTART:20131019T123000Z
DTSTAMP:20140315T112000Z
END:VEVENT
BEGIN:VEVENT
UID:6804-2da69939ed67427dc6bf3daba21059e9
X-WR-RELCALID:6804-2da69939ed67427dc6bf3daba21059e9
ORGANIZER:Volleyball
SEQUENCE:261111129
SUMMARY:BL 04 Fr.: VfL Lintorf II - VfL Kloster Oesede
CLASS:PUBLIC
DTSTART:20131019T123000Z
DTSTAMP:20140315T112000Z
END:VEVENT
BEGIN:VEVENT
UID:6801-2da69939ed67427dc6bf3daba21059e9
X-WR-RELCALID:6801-2da69939ed67427dc6bf3daba21059e9
ORGANIZER:Volleyball
SEQUENCE:261111129
SUMMARY:BL 04 Fr.: TSV Westerhausen II - TuS Nahne
CLASS:PUBLIC
DTSTART:20131019T130000Z
DTSTAMP:20140315T112000Z
END:VEVENT
BEGIN:VEVENT
UID:6802-2da69939ed67427dc6bf3daba21059e9
X-WR-RELCALID:6802-2da69939ed67427dc6bf3daba21059e9
ORGANIZER:Volleyball
SEQUENCE:261111129
SUMMARY:BL 04 Fr.: TSV Westerhausen II - TuS Aschen-Strang
CLASS:PUBLIC
DTSTART:20131019T130000Z
DTSTAMP:20140315T112000Z
END:VEVENT
BEGIN:VEVENT
UID:6805-2da69939ed67427dc6bf3daba21059e9
X-WR-RELCALID:6805-2da69939ed67427dc6bf3daba21059e9
ORGANIZER:Volleyball
SEQUENCE:261111129
SUMMARY:BL 04 Fr.: TV Georgsmarienhütte - TSV Westerhausen II
CLASS:PUBLIC
DTSTART:20131026T130000Z
DTSTAMP:20140315T112000Z
END:VEVENT
BEGIN:VEVENT
UID:6806-2da69939ed67427dc6bf3daba21059e9
X-WR-RELCALID:6806-2da69939ed67427dc6bf3daba21059e9
ORGANIZER:Volleyball
SEQUENCE:261111129
SUMMARY:BL 04 Fr.: TV Georgsmarienhütte - TuS Nahne
CLASS:PUBLIC
DTSTART:20131026T130000Z
DTSTAMP:20140315T112000Z
END:VEVENT
BEGIN:VEVENT
UID:6807-2da69939ed67427dc6bf3daba21059e9
X-WR-RELCALID:6807-2da69939ed67427dc6bf3daba21059e9
ORGANIZER:Volleyball
SEQUENCE:261111129
SUMMARY:BL 04 Fr.: SV Bad Laer IV - TuS Aschen-Strang
CLASS:PUBLIC
DTSTART:20131027T090000Z
DTSTAMP:20140315T112000Z
END:VEVENT
BEGIN:VEVENT
UID:6808-2da69939ed67427dc6bf3daba21059e9
X-WR-RELCALID:6808-2da69939ed67427dc6bf3daba21059e9
ORGANIZER:Volleyball
SEQUENCE:261111129
SUMMARY:BL 04 Fr.: SV Bad Laer IV - VfL Lintorf II
CLASS:PUBLIC
DTSTART:20131027T090000Z
DTSTAMP:20140315T112000Z
END:VEVENT
BEGIN:VEVENT
UID:6809-2da69939ed67427dc6bf3daba21059e9
X-WR-RELCALID:6809-2da69939ed67427dc6bf3daba21059e9
ORGANIZER:Volleyball
SEQUENCE:261111129
SUMMARY:BL 04 Fr.: TuS Nahne - SV Bad Laer IV
CLASS:PUBLIC
DTSTART:20131102T140000Z
DTSTAMP:20140315T112000Z
END:VEVENT
BEGIN:VEVENT
UID:6810-2da69939ed67427dc6bf3daba21059e9
X-WR-RELCALID:6810-2da69939ed67427dc6bf3daba21059e9
ORGANIZER:Volleyball
SEQUENCE:261111129
SUMMARY:BL 04 Fr.: TuS Nahne - Blau-Weiß Schinkel
CLASS:PUBLIC
DTSTART:20131102T140000Z
DTSTAMP:20140315T112000Z
END:VEVENT
BEGIN:VEVENT
UID:6811-2da69939ed67427dc6bf3daba21059e9
X-WR-RELCALID:6811-2da69939ed67427dc6bf3daba21059e9
ORGANIZER:Volleyball
SEQUENCE:261111129
SUMMARY:BL 04 Fr.: VfL Kloster Oesede - TuS Aschen-Strang
CLASS:PUBLIC
DTSTART:20131102T140000Z
DTSTAMP:20140315T112000Z
END:VEVENT
BEGIN:VEVENT
UID:6813-2da69939ed67427dc6bf3daba21059e9
X-WR-RELCALID:6813-2da69939ed67427dc6bf3daba21059e9
ORGANIZER:Volleyball
SEQUENCE:261111129
SUMMARY:BL 04 Fr.: Blau-Weiß Schinkel - TV Georgsmarienhütte
CLASS:PUBLIC
DTSTART:20131116T140000Z
DTSTAMP:20140315T112000Z
END:VEVENT
BEGIN:VEVENT
UID:6814-2da69939ed67427dc6bf3daba21059e9
X-WR-RELCALID:6814-2da69939ed67427dc6bf3daba21059e9
ORGANIZER:Volleyball
SEQUENCE:261111129
SUMMARY:BL 04 Fr.: Blau-Weiß Schinkel - VfL Lintorf II
CLASS:PUBLIC
DTSTART:20131116T140000Z
DTSTAMP:20140315T112000Z
END:VEVENT
BEGIN:VEVENT
UID:6815-2da69939ed67427dc6bf3daba21059e9
X-WR-RELCALID:6815-2da69939ed67427dc6bf3daba21059e9
ORGANIZER:Volleyball
SEQUENCE:261111129
SUMMARY:BL 04 Fr.: TSV Westerhausen II - VfL Kloster Oesede
CLASS:PUBLIC
DTSTART:20131116T140000Z
DTSTAMP:20140315T112000Z
END:VEVENT
BEGIN:VEVENT
UID:6816-2da69939ed67427dc6bf3daba21059e9
X-WR-RELCALID:6816-2da69939ed67427dc6bf3daba21059e9
ORGANIZER:Volleyball
SEQUENCE:261111129
SUMMARY:BL 04 Fr.: TSV Westerhausen II - SV Bad Laer IV
CLASS:PUBLIC
DTSTART:20131116T140000Z
DTSTAMP:20140315T112000Z
END:VEVENT
BEGIN:VEVENT
UID:6817-2da69939ed67427dc6bf3daba21059e9
X-WR-RELCALID:6817-2da69939ed67427dc6bf3daba21059e9
ORGANIZER:Volleyball
SEQUENCE:261111129
SUMMARY:BL 04 Fr.: VfL Kloster Oesede - SV Bad Laer IV
CLASS:PUBLIC
DTSTART:20131123T140000Z
DTSTAMP:20140315T112000Z
END:VEVENT
BEGIN:VEVENT
UID:6818-2da69939ed67427dc6bf3daba21059e9
X-WR-RELCALID:6818-2da69939ed67427dc6bf3daba21059e9
ORGANIZER:Volleyball
SEQUENCE:261111129
SUMMARY:BL 04 Fr.: VfL Kloster Oesede - TuS Nahne
CLASS:PUBLIC
DTSTART:20131123T140000Z
DTSTAMP:20140315T112000Z
END:VEVENT
BEGIN:VEVENT
UID:6819-2da69939ed67427dc6bf3daba21059e9
X-WR-RELCALID:6819-2da69939ed67427dc6bf3daba21059e9
ORGANIZER:Volleyball
SEQUENCE:261111129
SUMMARY:BL 04 Fr.: VfL Lintorf II - TSV Westerhausen II
CLASS:PUBLIC
DTSTART:20131130T133000Z
DTSTAMP:20140315T112000Z
END:VEVENT
BEGIN:VEVENT
UID:6820-2da69939ed67427dc6bf3daba21059e9
X-WR-RELCALID:6820-2da69939ed67427dc6bf3daba21059e9
ORGANIZER:Volleyball
SEQUENCE:261111129
SUMMARY:BL 04 Fr.: VfL Lintorf II - Blau-Weiß Schinkel
CLASS:PUBLIC
DTSTART:20131130T133000Z
DTSTAMP:20140315T112000Z
END:VEVENT
BEGIN:VEVENT
UID:6823-2da69939ed67427dc6bf3daba21059e9
X-WR-RELCALID:6823-2da69939ed67427dc6bf3daba21059e9
ORGANIZER:Volleyball
SEQUENCE:261111129
SUMMARY:BL 04 Fr.: TuS Aschen-Strang - VfL Kloster Oesede
CLASS:PUBLIC
DTSTART:20131207T140000Z
DTSTAMP:20140315T112000Z
END:VEVENT
BEGIN:VEVENT
UID:6824-2da69939ed67427dc6bf3daba21059e9
X-WR-RELCALID:6824-2da69939ed67427dc6bf3daba21059e9
ORGANIZER:Volleyball
SEQUENCE:261111129
SUMMARY:BL 04 Fr.: TuS Aschen-Strang - SV Bad Laer IV
CLASS:PUBLIC
DTSTART:20131207T140000Z
DTSTAMP:20140315T112000Z
END:VEVENT
BEGIN:VEVENT
UID:6821-2da69939ed67427dc6bf3daba21059e9
X-WR-RELCALID:6821-2da69939ed67427dc6bf3daba21059e9
ORGANIZER:Volleyball
SEQUENCE:261111129
SUMMARY:BL 04 Fr.: TV Georgsmarienhütte - Blau-Weiß Schinkel
CLASS:PUBLIC
DTSTART:20131207T140000Z
DTSTAMP:20140315T112000Z
END:VEVENT
BEGIN:VEVENT
UID:6822-2da69939ed67427dc6bf3daba21059e9
X-WR-RELCALID:6822-2da69939ed67427dc6bf3daba21059e9
ORGANIZER:Volleyball
SEQUENCE:261111129
SUMMARY:BL 04 Fr.: TV Georgsmarienhütte - TSV Westerhausen II
CLASS:PUBLIC
DTSTART:20131207T140000Z
DTSTAMP:20140315T112000Z
END:VEVENT
BEGIN:VEVENT
UID:6825-2da69939ed67427dc6bf3daba21059e9
X-WR-RELCALID:6825-2da69939ed67427dc6bf3daba21059e9
ORGANIZER:Volleyball
SEQUENCE:261111129
SUMMARY:BL 04 Fr.: TuS Nahne - VfL Lintorf II
CLASS:PUBLIC
DTSTART:20131214T140000Z
DTSTAMP:20140315T112000Z
END:VEVENT
BEGIN:VEVENT
UID:6826-2da69939ed67427dc6bf3daba21059e9
X-WR-RELCALID:6826-2da69939ed67427dc6bf3daba21059e9
ORGANIZER:Volleyball
SEQUENCE:261111129
SUMMARY:BL 04 Fr.: TuS Nahne - TuS Aschen-Strang
CLASS:PUBLIC
DTSTART:20131214T140000Z
DTSTAMP:20140315T112000Z
END:VEVENT
BEGIN:VEVENT
UID:6829-2da69939ed67427dc6bf3daba21059e9
X-WR-RELCALID:6829-2da69939ed67427dc6bf3daba21059e9
ORGANIZER:Volleyball
SEQUENCE:261111129
SUMMARY:BL 04 Fr.: VfL Lintorf II - TuS Nahne
CLASS:PUBLIC
DTSTART:20140111T133000Z
DTSTAMP:20140315T112000Z
END:VEVENT
BEGIN:VEVENT
UID:6830-2da69939ed67427dc6bf3daba21059e9
X-WR-RELCALID:6830-2da69939ed67427dc6bf3daba21059e9
ORGANIZER:Volleyball
SEQUENCE:261111129
SUMMARY:BL 04 Fr.: VfL Lintorf II - VfL Kloster Oesede
CLASS:PUBLIC
DTSTART:20140111T133000Z
DTSTAMP:20140315T112000Z
END:VEVENT
BEGIN:VEVENT
UID:6827-2da69939ed67427dc6bf3daba21059e9
X-WR-RELCALID:6827-2da69939ed67427dc6bf3daba21059e9
ORGANIZER:Volleyball
SEQUENCE:261111129
SUMMARY:BL 04 Fr.: Blau-Weiß Schinkel - TuS Aschen-Strang
CLASS:PUBLIC
DTSTART:20140111T140000Z
DTSTAMP:20140315T112000Z
END:VEVENT
BEGIN:VEVENT
UID:6828-2da69939ed67427dc6bf3daba21059e9
X-WR-RELCALID:6828-2da69939ed67427dc6bf3daba21059e9
ORGANIZER:Volleyball
SEQUENCE:261111129
SUMMARY:BL 04 Fr.: Blau-Weiß Schinkel - SV Bad Laer IV
CLASS:PUBLIC
DTSTART:20140111T140000Z
DTSTAMP:20140315T112000Z
END:VEVENT
BEGIN:VEVENT
UID:6831-2da69939ed67427dc6bf3daba21059e9
X-WR-RELCALID:6831-2da69939ed67427dc6bf3daba21059e9
ORGANIZER:Volleyball
SEQUENCE:261111129
SUMMARY:BL 04 Fr.: TuS Nahne - TV Georgsmarienhütte
CLASS:PUBLIC
DTSTART:20140118T140000Z
DTSTAMP:20140315T112000Z
END:VEVENT
BEGIN:VEVENT
UID:6832-2da69939ed67427dc6bf3daba21059e9
X-WR-RELCALID:6832-2da69939ed67427dc6bf3daba21059e9
ORGANIZER:Volleyball
SEQUENCE:261111129
SUMMARY:BL 04 Fr.: TuS Nahne - TuS Aschen-Strang
CLASS:PUBLIC
DTSTART:20140118T140000Z
DTSTAMP:20140315T112000Z
END:VEVENT
BEGIN:VEVENT
UID:6833-2da69939ed67427dc6bf3daba21059e9
X-WR-RELCALID:6833-2da69939ed67427dc6bf3daba21059e9
ORGANIZER:Volleyball
SEQUENCE:261111129
SUMMARY:BL 04 Fr.: VfL Kloster Oesede - Blau-Weiß Schinkel
CLASS:PUBLIC
DTSTART:20140118T140000Z
DTSTAMP:20140315T112000Z
END:VEVENT
BEGIN:VEVENT
UID:6834-2da69939ed67427dc6bf3daba21059e9
X-WR-RELCALID:6834-2da69939ed67427dc6bf3daba21059e9
ORGANIZER:Volleyball
SEQUENCE:261111129
SUMMARY:BL 04 Fr.: VfL Kloster Oesede - TSV Westerhausen II
CLASS:PUBLIC
DTSTART:20140118T140000Z
DTSTAMP:20140315T112000Z
END:VEVENT
BEGIN:VEVENT
UID:6835-2da69939ed67427dc6bf3daba21059e9
X-WR-RELCALID:6835-2da69939ed67427dc6bf3daba21059e9
ORGANIZER:Volleyball
SEQUENCE:261111129
SUMMARY:BL 04 Fr.: TV Georgsmarienhütte - VfL Lintorf II
CLASS:PUBLIC
DTSTART:20140125T140000Z
DTSTAMP:20140315T112000Z
END:VEVENT
BEGIN:VEVENT
UID:6836-2da69939ed67427dc6bf3daba21059e9
X-WR-RELCALID:6836-2da69939ed67427dc6bf3daba21059e9
ORGANIZER:Volleyball
SEQUENCE:261111129
SUMMARY:BL 04 Fr.: TV Georgsmarienhütte - VfL Kloster Oesede
CLASS:PUBLIC
DTSTART:20140125T140000Z
DTSTAMP:20140315T112000Z
END:VEVENT
BEGIN:VEVENT
UID:6837-2da69939ed67427dc6bf3daba21059e9
X-WR-RELCALID:6837-2da69939ed67427dc6bf3daba21059e9
ORGANIZER:Volleyball
SEQUENCE:261111129
SUMMARY:BL 04 Fr.: SV Bad Laer IV - TuS Nahne
CLASS:PUBLIC
DTSTART:20140201T130000Z
DTSTAMP:20140315T112000Z
END:VEVENT
BEGIN:VEVENT
UID:6838-2da69939ed67427dc6bf3daba21059e9
X-WR-RELCALID:6838-2da69939ed67427dc6bf3daba21059e9
ORGANIZER:Volleyball
SEQUENCE:261111129
SUMMARY:BL 04 Fr.: SV Bad Laer IV - TSV Westerhausen II
CLASS:PUBLIC
DTSTART:20140201T130000Z
DTSTAMP:20140315T112000Z
END:VEVENT
BEGIN:VEVENT
UID:6841-2da69939ed67427dc6bf3daba21059e9
X-WR-RELCALID:6841-2da69939ed67427dc6bf3daba21059e9
ORGANIZER:Volleyball
SEQUENCE:261111129
SUMMARY:BL 04 Fr.: VfL Lintorf II - SV Bad Laer IV
CLASS:PUBLIC
DTSTART:20140208T133000Z
DTSTAMP:20140315T112000Z
END:VEVENT
BEGIN:VEVENT
UID:6842-2da69939ed67427dc6bf3daba21059e9
X-WR-RELCALID:6842-2da69939ed67427dc6bf3daba21059e9
ORGANIZER:Volleyball
SEQUENCE:261111129
SUMMARY:BL 04 Fr.: VfL Lintorf II - TuS Aschen-Strang
CLASS:PUBLIC
DTSTART:20140208T133000Z
DTSTAMP:20140315T112000Z
END:VEVENT
BEGIN:VEVENT
UID:6839-2da69939ed67427dc6bf3daba21059e9
X-WR-RELCALID:6839-2da69939ed67427dc6bf3daba21059e9
ORGANIZER:Volleyball
SEQUENCE:261111129
SUMMARY:BL 04 Fr.: TuS Nahne - TSV Westerhausen II
CLASS:PUBLIC
DTSTART:20140208T140000Z
DTSTAMP:20140315T112000Z
END:VEVENT
BEGIN:VEVENT
UID:6840-2da69939ed67427dc6bf3daba21059e9
X-WR-RELCALID:6840-2da69939ed67427dc6bf3daba21059e9
ORGANIZER:Volleyball
SEQUENCE:261111129
SUMMARY:BL 04 Fr.: TuS Nahne - VfL Kloster Oesede
CLASS:PUBLIC
DTSTART:20140208T140000Z
DTSTAMP:20140315T112000Z
END:VEVENT
BEGIN:VEVENT
UID:6812-2da69939ed67427dc6bf3daba21059e9
X-WR-RELCALID:6812-2da69939ed67427dc6bf3daba21059e9
ORGANIZER:Volleyball
SEQUENCE:261111129
SUMMARY:BL 04 Fr.: VfL Kloster Oesede - TV Georgsmarienhütte
CLASS:PUBLIC
DTSTART:20140214T180000Z
DTSTAMP:20140315T112000Z
END:VEVENT
BEGIN:VEVENT
UID:6845-2da69939ed67427dc6bf3daba21059e9
X-WR-RELCALID:6845-2da69939ed67427dc6bf3daba21059e9
ORGANIZER:Volleyball
SEQUENCE:261111129
SUMMARY:BL 04 Fr.: TuS Aschen-Strang - TSV Westerhausen II
CLASS:PUBLIC
DTSTART:20140222T140000Z
DTSTAMP:20140315T112000Z
END:VEVENT
BEGIN:VEVENT
UID:6846-2da69939ed67427dc6bf3daba21059e9
X-WR-RELCALID:6846-2da69939ed67427dc6bf3daba21059e9
ORGANIZER:Volleyball
SEQUENCE:261111129
SUMMARY:BL 04 Fr.: TuS Aschen-Strang - TV Georgsmarienhütte
CLASS:PUBLIC
DTSTART:20140222T140000Z
DTSTAMP:20140315T112000Z
END:VEVENT
BEGIN:VEVENT
UID:6843-2da69939ed67427dc6bf3daba21059e9
X-WR-RELCALID:6843-2da69939ed67427dc6bf3daba21059e9
ORGANIZER:Volleyball
SEQUENCE:261111129
SUMMARY:BL 04 Fr.: Blau-Weiß Schinkel - SV Bad Laer IV
CLASS:PUBLIC
DTSTART:20140222T140000Z
DTSTAMP:20140315T112000Z
END:VEVENT
BEGIN:VEVENT
UID:6844-2da69939ed67427dc6bf3daba21059e9
X-WR-RELCALID:6844-2da69939ed67427dc6bf3daba21059e9
ORGANIZER:Volleyball
SEQUENCE:261111129
SUMMARY:BL 04 Fr.: Blau-Weiß Schinkel - TuS Nahne
CLASS:PUBLIC
DTSTART:20140222T140000Z
DTSTAMP:20140315T112000Z
END:VEVENT
BEGIN:VEVENT
UID:6847-2da69939ed67427dc6bf3daba21059e9
X-WR-RELCALID:6847-2da69939ed67427dc6bf3daba21059e9
ORGANIZER:Volleyball
SEQUENCE:261111129
SUMMARY:BL 04 Fr.: SV Bad Laer IV - VfL Kloster Oesede
CLASS:PUBLIC
DTSTART:20140308T130000Z
DTSTAMP:20140315T112000Z
END:VEVENT
BEGIN:VEVENT
UID:6848-2da69939ed67427dc6bf3daba21059e9
X-WR-RELCALID:6848-2da69939ed67427dc6bf3daba21059e9
ORGANIZER:Volleyball
SEQUENCE:261111129
SUMMARY:BL 04 Fr.: SV Bad Laer IV - TV Georgsmarienhütte
CLASS:PUBLIC
DTSTART:20140308T130000Z
DTSTAMP:20140315T112000Z
END:VEVENT
BEGIN:VEVENT
UID:6849-2da69939ed67427dc6bf3daba21059e9
X-WR-RELCALID:6849-2da69939ed67427dc6bf3daba21059e9
ORGANIZER:Volleyball
SEQUENCE:261111129
SUMMARY:BL 04 Fr.: TSV Westerhausen II - Blau-Weiß Schinkel
CLASS:PUBLIC
DTSTART:20140308T140000Z
DTSTAMP:20140315T112000Z
END:VEVENT
BEGIN:VEVENT
UID:6850-2da69939ed67427dc6bf3daba21059e9
X-WR-RELCALID:6850-2da69939ed67427dc6bf3daba21059e9
ORGANIZER:Volleyball
SEQUENCE:261111129
SUMMARY:BL 04 Fr.: TSV Westerhausen II - VfL Lintorf II
CLASS:PUBLIC
DTSTART:20140308T140000Z
DTSTAMP:20140315T112000Z
END:VEVENT
END:VCALENDAR