BEGIN:VCALENDAR
VERSION:2.0
PRODID:VSD-Portal-www.volley.de
METHOD:PUBLISH
BEGIN:VEVENT
UID:462955-2da69939ed67427dc6bf3daba21059e9
X-WR-RELCALID:462955-2da69939ed67427dc6bf3daba21059e9
ORGANIZER:Volleyball
SEQUENCE:261130527
SUMMARY:BL W Mä.: TG Naurod 2 - Eintracht Wiesbaden 2
CLASS:PUBLIC
DTSTART;VALUE=DATE:20171029
DTSTAMP:20170928T173100Z
DTEND;VALUE=DATE:20171030
END:VEVENT
BEGIN:VEVENT
UID:462956-2da69939ed67427dc6bf3daba21059e9
X-WR-RELCALID:462956-2da69939ed67427dc6bf3daba21059e9
ORGANIZER:Volleyball
SEQUENCE:261130527
SUMMARY:BL W Mä.: TG Naurod 2 - TG Zeilsheim
CLASS:PUBLIC
DTSTART;VALUE=DATE:20171029
DTSTAMP:20170928T173100Z
DTEND;VALUE=DATE:20171030
END:VEVENT
BEGIN:VEVENT
UID:462977-2da69939ed67427dc6bf3daba21059e9
X-WR-RELCALID:462977-2da69939ed67427dc6bf3daba21059e9
ORGANIZER:Volleyball
SEQUENCE:261130527
SUMMARY:BL W Mä.: TG Naurod 2 - TG Winkel
CLASS:PUBLIC
DTSTART;VALUE=DATE:20180318
DTSTAMP:20170928T173100Z
DTEND;VALUE=DATE:20180319
END:VEVENT
BEGIN:VEVENT
UID:462978-2da69939ed67427dc6bf3daba21059e9
X-WR-RELCALID:462978-2da69939ed67427dc6bf3daba21059e9
ORGANIZER:Volleyball
SEQUENCE:261130527
SUMMARY:BL W Mä.: TG Naurod 2 - TG Zeilsheim
CLASS:PUBLIC
DTSTART;VALUE=DATE:20180318
DTSTAMP:20170928T173100Z
DTEND;VALUE=DATE:20180319
END:VEVENT
END:VCALENDAR