BEGIN:VCALENDAR
VERSION:2.0
PRODID:VSD-Portal-www.volley.de
METHOD:PUBLISH
BEGIN:VEVENT
UID:462953-2da69939ed67427dc6bf3daba21059e9
X-WR-RELCALID:462953-2da69939ed67427dc6bf3daba21059e9
ORGANIZER:Volleyball
SEQUENCE:261130510
SUMMARY:BL W Mä.: Eintracht Wiesbaden 2 - TG Winkel
CLASS:PUBLIC
DTSTART;VALUE=DATE:20170924
DTSTAMP:20170928T173100Z
DTEND;VALUE=DATE:20170925
END:VEVENT
BEGIN:VEVENT
UID:462954-2da69939ed67427dc6bf3daba21059e9
X-WR-RELCALID:462954-2da69939ed67427dc6bf3daba21059e9
ORGANIZER:Volleyball
SEQUENCE:261130510
SUMMARY:BL W Mä.: Eintracht Wiesbaden 2 - TG Naurod 2
CLASS:PUBLIC
DTSTART;VALUE=DATE:20170924
DTSTAMP:20170928T173100Z
DTEND;VALUE=DATE:20170925
END:VEVENT
BEGIN:VEVENT
UID:462979-2da69939ed67427dc6bf3daba21059e9
X-WR-RELCALID:462979-2da69939ed67427dc6bf3daba21059e9
ORGANIZER:Volleyball
SEQUENCE:261130510
SUMMARY:BL W Mä.: Eintracht Wiesbaden 2 - TV Idstein 2
CLASS:PUBLIC
DTSTART;VALUE=DATE:20180318
DTSTAMP:20171021T155100Z
DTEND;VALUE=DATE:20180319
END:VEVENT
BEGIN:VEVENT
UID:462980-2da69939ed67427dc6bf3daba21059e9
X-WR-RELCALID:462980-2da69939ed67427dc6bf3daba21059e9
ORGANIZER:Volleyball
SEQUENCE:261130510
SUMMARY:BL W Mä.: Eintracht Wiesbaden 2 - TV Elz
CLASS:PUBLIC
DTSTART;VALUE=DATE:20180318
DTSTAMP:20171021T155100Z
DTEND;VALUE=DATE:20180319
END:VEVENT
END:VCALENDAR