BEGIN:VCALENDAR
VERSION:2.0
PRODID:VSD-Portal-www.volley.de
METHOD:PUBLISH
BEGIN:VEVENT
UID:468113-2da69939ed67427dc6bf3daba21059e9
X-WR-RELCALID:468113-2da69939ed67427dc6bf3daba21059e9
ORGANIZER:Volleyball
SEQUENCE:261120217
LOCATION:Dreifelderhalle, Oranienburger Str. 36, 16775 Gransee
GEO:53.00006810000000000000;13.15474940000000000000
SUMMARY:2. BL N Mä.: SV Lindow-Gransee - Moerser SC
CLASS:PUBLIC
DTSTART:20180923T140000Z
DTSTAMP:20181103T191000Z
END:VEVENT
BEGIN:VEVENT
UID:468130-2da69939ed67427dc6bf3daba21059e9
X-WR-RELCALID:468130-2da69939ed67427dc6bf3daba21059e9
ORGANIZER:Volleyball
SEQUENCE:261120217
LOCATION:Dreifelderhalle, Oranienburger Str. 36, 16775 Gransee
GEO:53.00006810000000000000;13.15474940000000000000
SUMMARY:2. BL N Mä.: SV Lindow-Gransee - Kieler TV
CLASS:PUBLIC
DTSTART:20181103T170000Z
DTSTAMP:20181103T191000Z
END:VEVENT
BEGIN:VEVENT
UID:468132-2da69939ed67427dc6bf3daba21059e9
X-WR-RELCALID:468132-2da69939ed67427dc6bf3daba21059e9
ORGANIZER:Volleyball
SEQUENCE:261120217
LOCATION:Dreifelderhalle, Oranienburger Str. 36, 16775 Gransee
GEO:53.00006810000000000000;13.15474940000000000000
SUMMARY:2. BL N Mä.: SV Lindow-Gransee - USC Braunschweig
CLASS:PUBLIC
DTSTART:20181110T170000Z
DTSTAMP:20181103T191000Z
END:VEVENT
BEGIN:VEVENT
UID:468144-2da69939ed67427dc6bf3daba21059e9
X-WR-RELCALID:468144-2da69939ed67427dc6bf3daba21059e9
ORGANIZER:Volleyball
SEQUENCE:261120217
LOCATION:Dreifelderhalle, Oranienburger Str. 36, 16775 Gransee
GEO:53.00006810000000000000;13.15474940000000000000
SUMMARY:2. BL N Mä.: SV Lindow-Gransee - VC Bitterfeld-Wolfen
CLASS:PUBLIC
DTSTART:20181124T170000Z
DTSTAMP:20181103T191000Z
END:VEVENT
BEGIN:VEVENT
UID:468155-2da69939ed67427dc6bf3daba21059e9
X-WR-RELCALID:468155-2da69939ed67427dc6bf3daba21059e9
ORGANIZER:Volleyball
SEQUENCE:261120217
LOCATION:Dreifelderhalle, Oranienburger Str. 36, 16775 Gransee
GEO:53.00006810000000000000;13.15474940000000000000
SUMMARY:2. BL N Mä.: SV Lindow-Gransee - TV Baden
CLASS:PUBLIC
DTSTART:20181208T170000Z
DTSTAMP:20181103T191000Z
END:VEVENT
BEGIN:VEVENT
UID:468168-2da69939ed67427dc6bf3daba21059e9
X-WR-RELCALID:468168-2da69939ed67427dc6bf3daba21059e9
ORGANIZER:Volleyball
SEQUENCE:261120217
LOCATION:Dreifelderhalle, Oranienburger Str. 36, 16775 Gransee
GEO:53.00006810000000000000;13.15474940000000000000
SUMMARY:2. BL N Mä.: SV Lindow-Gransee - CV Mitteldeutschland
CLASS:PUBLIC
DTSTART:20190112T170000Z
DTSTAMP:20181103T191000Z
END:VEVENT
BEGIN:VEVENT
UID:468178-2da69939ed67427dc6bf3daba21059e9
X-WR-RELCALID:468178-2da69939ed67427dc6bf3daba21059e9
ORGANIZER:Volleyball
SEQUENCE:261120217
LOCATION:Dreifelderhalle, Oranienburger Str. 36, 16775 Gransee
GEO:53.00006810000000000000;13.15474940000000000000
SUMMARY:2. BL N Mä.: SV Lindow-Gransee - TuB Bocholt
CLASS:PUBLIC
DTSTART:20190126T170000Z
DTSTAMP:20181103T191000Z
END:VEVENT
BEGIN:VEVENT
UID:468189-2da69939ed67427dc6bf3daba21059e9
X-WR-RELCALID:468189-2da69939ed67427dc6bf3daba21059e9
ORGANIZER:Volleyball
SEQUENCE:261120217
LOCATION:Dreifelderhalle, Oranienburger Str. 36, 16775 Gransee
GEO:53.00006810000000000000;13.15474940000000000000
SUMMARY:2. BL N Mä.: SV Lindow-Gransee - FC Schüttorf 09
CLASS:PUBLIC
DTSTART:20190209T170000Z
DTSTAMP:20181103T191000Z
END:VEVENT
BEGIN:VEVENT
UID:468202-2da69939ed67427dc6bf3daba21059e9
X-WR-RELCALID:468202-2da69939ed67427dc6bf3daba21059e9
ORGANIZER:Volleyball
SEQUENCE:261120217
LOCATION:Dreifelderhalle, Oranienburger Str. 36, 16775 Gransee
GEO:53.00006810000000000000;13.15474940000000000000
SUMMARY:2. BL N Mä.: SV Lindow-Gransee - VV Humann Essen
CLASS:PUBLIC
DTSTART:20190302T170000Z
DTSTAMP:20181103T191000Z
END:VEVENT
BEGIN:VEVENT
UID:468217-2da69939ed67427dc6bf3daba21059e9
X-WR-RELCALID:468217-2da69939ed67427dc6bf3daba21059e9
ORGANIZER:Volleyball
SEQUENCE:261120217
LOCATION:Dreifelderhalle, Oranienburger Str. 36, 16775 Gransee
GEO:53.00006810000000000000;13.15474940000000000000
SUMMARY:2. BL N Mä.: SV Lindow-Gransee - SV Warnemünde
CLASS:PUBLIC
DTSTART:20190323T170000Z
DTSTAMP:20181103T191000Z
END:VEVENT
BEGIN:VEVENT
UID:468228-2da69939ed67427dc6bf3daba21059e9
X-WR-RELCALID:468228-2da69939ed67427dc6bf3daba21059e9
ORGANIZER:Volleyball
SEQUENCE:261120217
LOCATION:Dreifelderhalle, Oranienburger Str. 36, 16775 Gransee
GEO:53.00006810000000000000;13.15474940000000000000
SUMMARY:2. BL N Mä.: SV Lindow-Gransee - DJK Delbrück
CLASS:PUBLIC
DTSTART:20190413T173000Z
DTSTAMP:20181103T191000Z
END:VEVENT
END:VCALENDAR