BEGIN:VCALENDAR
VERSION:2.0
PRODID:VSD-Portal-www.volley.de
METHOD:PUBLISH
BEGIN:VEVENT
UID:484984-2da69939ed67427dc6bf3daba21059e9
X-WR-RELCALID:484984-2da69939ed67427dc6bf3daba21059e9
ORGANIZER:Volleyball
SEQUENCE:261100402
LOCATION:Sportzentrum Mitte, Rohrbacherstraße 102, 69126 Heidelberg
GEO:49.39576400000000000000;8.68964080000000000000
SUMMARY:RLS Fr.: Heidelberger TV - USC Freiburg
CLASS:PUBLIC
DTSTART:20180929T140000Z
DTSTAMP:20181103T201000Z
END:VEVENT
BEGIN:VEVENT
UID:484990-2da69939ed67427dc6bf3daba21059e9
X-WR-RELCALID:484990-2da69939ed67427dc6bf3daba21059e9
ORGANIZER:Volleyball
SEQUENCE:261100402
LOCATION:Römersporthalle, Wallenstraße, 73529 Schwäbisch-Gmünd-Straßdo
 rf
GEO:48.77904080000000000000;9.79792910000000000000
SUMMARY:RLS Fr.: DJK Schwäbisch Gmünd - Heidelberger TV
CLASS:PUBLIC
DTSTART:20181006T180000Z
DTSTAMP:20181103T201000Z
END:VEVENT
BEGIN:VEVENT
UID:484994-2da69939ed67427dc6bf3daba21059e9
X-WR-RELCALID:484994-2da69939ed67427dc6bf3daba21059e9
ORGANIZER:Volleyball
SEQUENCE:261100402
LOCATION:Trigema-Arena, Ambosius-Heim-Str. 12, 72393 Burladingen
GEO:48.29087490000000000000;9.10987110000000000000
SUMMARY:RLS Fr.: TSV Burladingen - Heidelberger TV
CLASS:PUBLIC
DTSTART:20181014T130000Z
DTSTAMP:20181103T201000Z
END:VEVENT
BEGIN:VEVENT
UID:484997-2da69939ed67427dc6bf3daba21059e9
X-WR-RELCALID:484997-2da69939ed67427dc6bf3daba21059e9
ORGANIZER:Volleyball
SEQUENCE:261100402
LOCATION:Sportzentrum Mitte, Rohrbacherstraße 102, 69126 Heidelberg
GEO:49.39576400000000000000;8.68964080000000000000
SUMMARY:RLS Fr.: Heidelberger TV - VC Offenburg 2
CLASS:PUBLIC
DTSTART:20181020T180000Z
DTSTAMP:20181103T201000Z
END:VEVENT
BEGIN:VEVENT
UID:484999-2da69939ed67427dc6bf3daba21059e9
X-WR-RELCALID:484999-2da69939ed67427dc6bf3daba21059e9
ORGANIZER:Volleyball
SEQUENCE:261100402
LOCATION:Innenstadtsporthalle, Karlstr. 29, 71638 Ludwigsburg
GEO:48.89223660000000000000;9.19156690000000000000
SUMMARY:RLS Fr.: MTV Ludwigsburg - Heidelberger TV
CLASS:PUBLIC
DTSTART:20181027T140000Z
DTSTAMP:20181103T201000Z
END:VEVENT
BEGIN:VEVENT
UID:485004-2da69939ed67427dc6bf3daba21059e9
X-WR-RELCALID:485004-2da69939ed67427dc6bf3daba21059e9
ORGANIZER:Volleyball
SEQUENCE:261100402
LOCATION:Sportzentrum Mitte, Rohrbacherstraße 102, 69126 Heidelberg
GEO:49.39576400000000000000;8.68964080000000000000
SUMMARY:RLS Fr.: Heidelberger TV - Förderverein Tübinger Modell
CLASS:PUBLIC
DTSTART:20181103T190000Z
DTSTAMP:20181103T201000Z
END:VEVENT
BEGIN:VEVENT
UID:485007-2da69939ed67427dc6bf3daba21059e9
X-WR-RELCALID:485007-2da69939ed67427dc6bf3daba21059e9
ORGANIZER:Volleyball
SEQUENCE:261100402
LOCATION:Sportzentrum Mitte, Rohrbacherstraße 102, 69126 Heidelberg
GEO:49.39576400000000000000;8.68964080000000000000
SUMMARY:RLS Fr.: Heidelberger TV - TTV Dettingen
CLASS:PUBLIC
DTSTART:20181110T190000Z
DTSTAMP:20181103T201000Z
END:VEVENT
BEGIN:VEVENT
UID:485012-2da69939ed67427dc6bf3daba21059e9
X-WR-RELCALID:485012-2da69939ed67427dc6bf3daba21059e9
ORGANIZER:Volleyball
SEQUENCE:261100402
LOCATION:Sportzentrum Mitte, Rohrbacherstraße 102, 69126 Heidelberg
GEO:49.39576400000000000000;8.68964080000000000000
SUMMARY:RLS Fr.: Heidelberger TV - VfB Ulm
CLASS:PUBLIC
DTSTART:20181124T150000Z
DTSTAMP:20181103T201000Z
END:VEVENT
BEGIN:VEVENT
UID:485019-2da69939ed67427dc6bf3daba21059e9
X-WR-RELCALID:485019-2da69939ed67427dc6bf3daba21059e9
ORGANIZER:Volleyball
SEQUENCE:261100402
LOCATION:Sporthalle Rotteck-Gymnasium, Lessingstr. 16, 79100 Freiburg
GEO:47.99017000000000000000;7.84148000000000000000
SUMMARY:RLS Fr.: USC Freiburg - Heidelberger TV
CLASS:PUBLIC
DTSTART:20181215T150000Z
DTSTAMP:20181103T201000Z
END:VEVENT
BEGIN:VEVENT
UID:485026-2da69939ed67427dc6bf3daba21059e9
X-WR-RELCALID:485026-2da69939ed67427dc6bf3daba21059e9
ORGANIZER:Volleyball
SEQUENCE:261100402
LOCATION:Sportzentrum Mitte, Rohrbacherstraße 102, 69126 Heidelberg
GEO:49.39576400000000000000;8.68964080000000000000
SUMMARY:RLS Fr.: Heidelberger TV - DJK Schwäbisch Gmünd
CLASS:PUBLIC
DTSTART:20190112T190000Z
DTSTAMP:20181103T201000Z
END:VEVENT
BEGIN:VEVENT
UID:485028-2da69939ed67427dc6bf3daba21059e9
X-WR-RELCALID:485028-2da69939ed67427dc6bf3daba21059e9
ORGANIZER:Volleyball
SEQUENCE:261100402
LOCATION:Sportzentrum Mitte, Rohrbacherstraße 102, 69126 Heidelberg
GEO:49.39576400000000000000;8.68964080000000000000
SUMMARY:RLS Fr.: Heidelberger TV - TSV Burladingen
CLASS:PUBLIC
DTSTART:20190119T190000Z
DTSTAMP:20181103T201000Z
END:VEVENT
BEGIN:VEVENT
UID:485032-2da69939ed67427dc6bf3daba21059e9
X-WR-RELCALID:485032-2da69939ed67427dc6bf3daba21059e9
ORGANIZER:Volleyball
SEQUENCE:261100402
LOCATION:Sporthalle Nord-West, Otto-Hahn-Str. 3, 77656 Offenburg
GEO:48.48310490000000000000;7.93789800000000000000
SUMMARY:RLS Fr.: VC Offenburg 2 - Heidelberger TV
CLASS:PUBLIC
DTSTART:20190126T183000Z
DTSTAMP:20181103T201000Z
END:VEVENT
BEGIN:VEVENT
UID:485036-2da69939ed67427dc6bf3daba21059e9
X-WR-RELCALID:485036-2da69939ed67427dc6bf3daba21059e9
ORGANIZER:Volleyball
SEQUENCE:261100402
LOCATION:Pestalozzi-Halle, Römerstr. 95, 69115 Heidelberg
GEO:49.39687850000000000000;8.68539470000000000000
SUMMARY:RLS Fr.: Heidelberger TV - MTV Ludwigsburg
CLASS:PUBLIC
DTSTART:20190202T150000Z
DTSTAMP:20181103T201000Z
END:VEVENT
BEGIN:VEVENT
UID:485041-2da69939ed67427dc6bf3daba21059e9
X-WR-RELCALID:485041-2da69939ed67427dc6bf3daba21059e9
ORGANIZER:Volleyball
SEQUENCE:261100402
LOCATION:Uhlandhalle, Uhlandstr. 28, 72072 Tübingen
GEO:48.51741760000000000000;9.05218400000000000000
SUMMARY:RLS Fr.: Förderverein Tübinger Modell - Heidelberger TV
CLASS:PUBLIC
DTSTART:20190216T183000Z
DTSTAMP:20181103T201000Z
END:VEVENT
BEGIN:VEVENT
UID:485046-2da69939ed67427dc6bf3daba21059e9
X-WR-RELCALID:485046-2da69939ed67427dc6bf3daba21059e9
ORGANIZER:Volleyball
SEQUENCE:261100402
LOCATION:Sporthalle Dettingen, Rauberweg 10, 73265 Dettingen/Teck
GEO:48.61469000000000000000;9.45791000000000000000
SUMMARY:RLS Fr.: TTV Dettingen - Heidelberger TV
CLASS:PUBLIC
DTSTART:20190310T150000Z
DTSTAMP:20181103T201000Z
END:VEVENT
BEGIN:VEVENT
UID:485050-2da69939ed67427dc6bf3daba21059e9
X-WR-RELCALID:485050-2da69939ed67427dc6bf3daba21059e9
ORGANIZER:Volleyball
SEQUENCE:261100402
LOCATION:Mehrzweckhalle Weststadt (früher Ballspielhalle), Moltkestr. 
 10, 89077 Ulm
GEO:48.39326540000000000000;9.96697150000000000000
SUMMARY:RLS Fr.: VfB Ulm - Heidelberger TV
CLASS:PUBLIC
DTSTART:20190316T190000Z
DTSTAMP:20181103T201000Z
END:VEVENT
END:VCALENDAR