BEGIN:VCALENDAR
VERSION:2.0
PRODID:VSD-Portal-www.volley.de
METHOD:PUBLISH
BEGIN:VEVENT
UID:484990-2da69939ed67427dc6bf3daba21059e9
X-WR-RELCALID:484990-2da69939ed67427dc6bf3daba21059e9
ORGANIZER:Volleyball
SEQUENCE:261121304
LOCATION:Römersporthalle, Wallenstraße, 73529 Schwäbisch-Gmünd-Straßdo
 rf
GEO:48.77904080000000000000;9.79792910000000000000
SUMMARY:RLS Fr.: DJK Schwäbisch Gmünd - Heidelberger TV
CLASS:PUBLIC
DTSTART:20181006T180000Z
DTSTAMP:20181103T201000Z
END:VEVENT
BEGIN:VEVENT
UID:484998-2da69939ed67427dc6bf3daba21059e9
X-WR-RELCALID:484998-2da69939ed67427dc6bf3daba21059e9
ORGANIZER:Volleyball
SEQUENCE:261121304
LOCATION:Römersporthalle, Wallenstraße, 73529 Schwäbisch-Gmünd-Straßdo
 rf
GEO:48.77904080000000000000;9.79792910000000000000
SUMMARY:RLS Fr.: DJK Schwäbisch Gmünd - MTV Ludwigsburg
CLASS:PUBLIC
DTSTART:20181020T180000Z
DTSTAMP:20181103T201000Z
END:VEVENT
BEGIN:VEVENT
UID:485005-2da69939ed67427dc6bf3daba21059e9
X-WR-RELCALID:485005-2da69939ed67427dc6bf3daba21059e9
ORGANIZER:Volleyball
SEQUENCE:261121304
LOCATION:Römersporthalle, Wallenstraße, 73529 Schwäbisch-Gmünd-Straßdo
 rf
GEO:48.77904080000000000000;9.79792910000000000000
SUMMARY:RLS Fr.: DJK Schwäbisch Gmünd - TTV Dettingen
CLASS:PUBLIC
DTSTART:20181104T133000Z
DTSTAMP:20181103T201000Z
END:VEVENT
BEGIN:VEVENT
UID:485020-2da69939ed67427dc6bf3daba21059e9
X-WR-RELCALID:485020-2da69939ed67427dc6bf3daba21059e9
ORGANIZER:Volleyball
SEQUENCE:261121304
LOCATION:Römersporthalle, Wallenstraße, 73529 Schwäbisch-Gmünd-Straßdo
 rf
GEO:48.77904080000000000000;9.79792910000000000000
SUMMARY:RLS Fr.: DJK Schwäbisch Gmünd - TSV Burladingen
CLASS:PUBLIC
DTSTART:20181216T133000Z
DTSTAMP:20181103T201000Z
END:VEVENT
BEGIN:VEVENT
UID:485029-2da69939ed67427dc6bf3daba21059e9
X-WR-RELCALID:485029-2da69939ed67427dc6bf3daba21059e9
ORGANIZER:Volleyball
SEQUENCE:261121304
LOCATION:Römersporthalle, Wallenstraße, 73529 Schwäbisch-Gmünd-Straßdo
 rf
GEO:48.77904080000000000000;9.79792910000000000000
SUMMARY:RLS Fr.: DJK Schwäbisch Gmünd - VC Offenburg 2
CLASS:PUBLIC
DTSTART:20190119T190000Z
DTSTAMP:20181103T201000Z
END:VEVENT
BEGIN:VEVENT
UID:485038-2da69939ed67427dc6bf3daba21059e9
X-WR-RELCALID:485038-2da69939ed67427dc6bf3daba21059e9
ORGANIZER:Volleyball
SEQUENCE:261121304
LOCATION:Römersporthalle, Wallenstraße, 73529 Schwäbisch-Gmünd-Straßdo
 rf
GEO:48.77904080000000000000;9.79792910000000000000
SUMMARY:RLS Fr.: DJK Schwäbisch Gmünd - Förderverein Tübinger Modell
CLASS:PUBLIC
DTSTART:20190203T133000Z
DTSTAMP:20181103T201000Z
END:VEVENT
BEGIN:VEVENT
UID:485045-2da69939ed67427dc6bf3daba21059e9
X-WR-RELCALID:485045-2da69939ed67427dc6bf3daba21059e9
ORGANIZER:Volleyball
SEQUENCE:261121304
LOCATION:Römersporthalle, Wallenstraße, 73529 Schwäbisch-Gmünd-Straßdo
 rf
GEO:48.77904080000000000000;9.79792910000000000000
SUMMARY:RLS Fr.: DJK Schwäbisch Gmünd - VfB Ulm
CLASS:PUBLIC
DTSTART:20190309T190000Z
DTSTAMP:20181103T201000Z
END:VEVENT
BEGIN:VEVENT
UID:485053-2da69939ed67427dc6bf3daba21059e9
X-WR-RELCALID:485053-2da69939ed67427dc6bf3daba21059e9
ORGANIZER:Volleyball
SEQUENCE:261121304
LOCATION:Römersporthalle, Wallenstraße, 73529 Schwäbisch-Gmünd-Straßdo
 rf
GEO:48.77904080000000000000;9.79792910000000000000
SUMMARY:RLS Fr.: DJK Schwäbisch Gmünd - USC Freiburg
CLASS:PUBLIC
DTSTART:20190323T190000Z
DTSTAMP:20181103T201000Z
END:VEVENT
END:VCALENDAR