BEGIN:VCALENDAR
VERSION:2.0
PRODID:VSD-Portal-www.volley.de
METHOD:PUBLISH
BEGIN:VEVENT
UID:484788-2da69939ed67427dc6bf3daba21059e9
X-WR-RELCALID:484788-2da69939ed67427dc6bf3daba21059e9
ORGANIZER:Volleyball
SEQUENCE:261130551
LOCATION:4. Aachener Gesamtschule Sandkaulstr., Sandkaulstr. 75, 52062
  Aachen
GEO:50.78090540000000000000;6.08739259999990000000
SUMMARY:RLW Fr.: PTSV Aachen II - FCJ Köln II
CLASS:PUBLIC
DTSTART:20180929T180000Z
DTSTAMP:20190110T181300Z
END:VEVENT
BEGIN:VEVENT
UID:484808-2da69939ed67427dc6bf3daba21059e9
X-WR-RELCALID:484808-2da69939ed67427dc6bf3daba21059e9
ORGANIZER:Volleyball
SEQUENCE:261130551
LOCATION:4. Aachener Gesamtschule Sandkaulstr., Sandkaulstr. 75, 52062
  Aachen
GEO:50.78090540000000000000;6.08739259999990000000
SUMMARY:RLW Fr.: PTSV Aachen II - SC Union Lüdinghausen
CLASS:PUBLIC
DTSTART:20181027T150000Z
DTSTAMP:20190110T181300Z
END:VEVENT
BEGIN:VEVENT
UID:484821-2da69939ed67427dc6bf3daba21059e9
X-WR-RELCALID:484821-2da69939ed67427dc6bf3daba21059e9
ORGANIZER:Volleyball
SEQUENCE:261130551
LOCATION:4. Aachener Gesamtschule Sandkaulstr., Sandkaulstr. 75, 52062
  Aachen
GEO:50.78090540000000000000;6.08739259999990000000
SUMMARY:RLW Fr.: PTSV Aachen II - TV Gladbeck
CLASS:PUBLIC
DTSTART:20181118T160000Z
DTSTAMP:20190110T181300Z
END:VEVENT
BEGIN:VEVENT
UID:484824-2da69939ed67427dc6bf3daba21059e9
X-WR-RELCALID:484824-2da69939ed67427dc6bf3daba21059e9
ORGANIZER:Volleyball
SEQUENCE:261130551
LOCATION:4. Aachener Gesamtschule Sandkaulstr., Sandkaulstr. 75, 52062
  Aachen
GEO:50.78090540000000000000;6.08739259999990000000
SUMMARY:RLW Fr.: PTSV Aachen II - SG SV Werth/TuB Bocholt
CLASS:PUBLIC
DTSTART:20181124T160000Z
DTSTAMP:20190110T181300Z
END:VEVENT
BEGIN:VEVENT
UID:484836-2da69939ed67427dc6bf3daba21059e9
X-WR-RELCALID:484836-2da69939ed67427dc6bf3daba21059e9
ORGANIZER:Volleyball
SEQUENCE:261130551
LOCATION:4. Aachener Gesamtschule Sandkaulstr., Sandkaulstr. 75, 52062
  Aachen
GEO:50.78090540000000000000;6.08739259999990000000
SUMMARY:RLW Fr.: PTSV Aachen II - TV Hörde
CLASS:PUBLIC
DTSTART:20181216T160000Z
DTSTAMP:20190110T181300Z
END:VEVENT
BEGIN:VEVENT
UID:484841-2da69939ed67427dc6bf3daba21059e9
X-WR-RELCALID:484841-2da69939ed67427dc6bf3daba21059e9
ORGANIZER:Volleyball
SEQUENCE:261130551
LOCATION:4. Aachener Gesamtschule Sandkaulstr., Sandkaulstr. 75, 52062
  Aachen
GEO:50.78090540000000000000;6.08739259999990000000
SUMMARY:RLW Fr.: PTSV Aachen II - TuS Herten
CLASS:PUBLIC
DTSTART:20190120T160000Z
DTSTAMP:20190110T181300Z
END:VEVENT
BEGIN:VEVENT
UID:484849-2da69939ed67427dc6bf3daba21059e9
X-WR-RELCALID:484849-2da69939ed67427dc6bf3daba21059e9
ORGANIZER:Volleyball
SEQUENCE:261130551
LOCATION:4. Aachener Gesamtschule Sandkaulstr., Sandkaulstr. 75, 52062
  Aachen
GEO:50.78090540000000000000;6.08739259999990000000
SUMMARY:RLW Fr.: PTSV Aachen II - SC 99 Düsseldorf
CLASS:PUBLIC
DTSTART:20190202T190000Z
DTSTAMP:20190110T181300Z
END:VEVENT
BEGIN:VEVENT
UID:484862-2da69939ed67427dc6bf3daba21059e9
X-WR-RELCALID:484862-2da69939ed67427dc6bf3daba21059e9
ORGANIZER:Volleyball
SEQUENCE:261130551
LOCATION:4. Aachener Gesamtschule Sandkaulstr., Sandkaulstr. 75, 52062
  Aachen
GEO:50.78090540000000000000;6.08739259999990000000
SUMMARY:RLW Fr.: PTSV Aachen II - VC Eintracht Geldern
CLASS:PUBLIC
DTSTART:20190216T160000Z
DTSTAMP:20190110T181300Z
END:VEVENT
BEGIN:VEVENT
UID:484869-2da69939ed67427dc6bf3daba21059e9
X-WR-RELCALID:484869-2da69939ed67427dc6bf3daba21059e9
ORGANIZER:Volleyball
SEQUENCE:261130551
LOCATION:4. Aachener Gesamtschule Sandkaulstr., Sandkaulstr. 75, 52062
  Aachen
GEO:50.78090540000000000000;6.08739259999990000000
SUMMARY:RLW Fr.: PTSV Aachen II - SG Langenfeld
CLASS:PUBLIC
DTSTART:20190302T190000Z
DTSTAMP:20190110T181300Z
END:VEVENT
BEGIN:VEVENT
UID:484886-2da69939ed67427dc6bf3daba21059e9
X-WR-RELCALID:484886-2da69939ed67427dc6bf3daba21059e9
ORGANIZER:Volleyball
SEQUENCE:261130551
LOCATION:4. Aachener Gesamtschule Sandkaulstr., Sandkaulstr. 75, 52062
  Aachen
GEO:50.78090540000000000000;6.08739259999990000000
SUMMARY:RLW Fr.: PTSV Aachen II - SC Grün-Weiß Paderborn
CLASS:PUBLIC
DTSTART:20190406T150000Z
DTSTAMP:20190110T181300Z
END:VEVENT
END:VCALENDAR