BEGIN:VCALENDAR
VERSION:2.0
PRODID:VSD-Portal-www.volley.de
METHOD:PUBLISH
BEGIN:VEVENT
UID:476280-2da69939ed67427dc6bf3daba21059e9
X-WR-RELCALID:476280-2da69939ed67427dc6bf3daba21059e9
ORGANIZER:Volleyball
SEQUENCE:261100547
LOCATION:Freie Waldorfschule Hannover-Maschsee, Rudolf-von-Bennigsen-U
 fer 70, 30173 Hannover
GEO:52.35146620000000000000;9.74888090000000000000
SUMMARY:BL Han. 1 Mä.: GfL Hannover V - VSG Hassel/Eystrup
CLASS:PUBLIC
DTSTART:20180929T120000Z
DTSTAMP:20190226T140100Z
END:VEVENT
BEGIN:VEVENT
UID:476281-2da69939ed67427dc6bf3daba21059e9
X-WR-RELCALID:476281-2da69939ed67427dc6bf3daba21059e9
ORGANIZER:Volleyball
SEQUENCE:261100547
LOCATION:Freie Waldorfschule Hannover-Maschsee, Rudolf-von-Bennigsen-U
 fer 70, 30173 Hannover
GEO:52.35146620000000000000;9.74888090000000000000
SUMMARY:BL Han. 1 Mä.: GfL Hannover V - SC Twistringen II
CLASS:PUBLIC
DTSTART:20180929T120000Z
DTSTAMP:20190226T140100Z
END:VEVENT
BEGIN:VEVENT
UID:476308-2da69939ed67427dc6bf3daba21059e9
X-WR-RELCALID:476308-2da69939ed67427dc6bf3daba21059e9
ORGANIZER:Volleyball
SEQUENCE:261100547
LOCATION:Freie Waldorfschule Hannover-Maschsee, Rudolf-von-Bennigsen-U
 fer 70, 30173 Hannover
GEO:52.35146620000000000000;9.74888090000000000000
SUMMARY:BL Han. 1 Mä.: GfL Hannover V - VSG Hannover III
CLASS:PUBLIC
DTSTART:20181202T100000Z
DTSTAMP:20190226T140100Z
END:VEVENT
BEGIN:VEVENT
UID:476309-2da69939ed67427dc6bf3daba21059e9
X-WR-RELCALID:476309-2da69939ed67427dc6bf3daba21059e9
ORGANIZER:Volleyball
SEQUENCE:261100547
LOCATION:Freie Waldorfschule Hannover-Maschsee, Rudolf-von-Bennigsen-U
 fer 70, 30173 Hannover
GEO:52.35146620000000000000;9.74888090000000000000
SUMMARY:BL Han. 1 Mä.: GfL Hannover V - SG Weh-Su-Var
CLASS:PUBLIC
DTSTART:20181202T100000Z
DTSTAMP:20190226T140100Z
END:VEVENT
BEGIN:VEVENT
UID:476310-2da69939ed67427dc6bf3daba21059e9
X-WR-RELCALID:476310-2da69939ed67427dc6bf3daba21059e9
ORGANIZER:Volleyball
SEQUENCE:261100547
LOCATION:Freie Waldorfschule Hannover-Maschsee, Rudolf-von-Bennigsen-U
 fer 70, 30173 Hannover
GEO:52.35146620000000000000;9.74888090000000000000
SUMMARY:BL Han. 1 Mä.: GfL Hannover V - TuS Wunstorf II
CLASS:PUBLIC
DTSTART:20181208T130000Z
DTSTAMP:20190226T140100Z
END:VEVENT
BEGIN:VEVENT
UID:476311-2da69939ed67427dc6bf3daba21059e9
X-WR-RELCALID:476311-2da69939ed67427dc6bf3daba21059e9
ORGANIZER:Volleyball
SEQUENCE:261100547
LOCATION:Freie Waldorfschule Hannover-Maschsee, Rudolf-von-Bennigsen-U
 fer 70, 30173 Hannover
GEO:52.35146620000000000000;9.74888090000000000000
SUMMARY:BL Han. 1 Mä.: GfL Hannover V - Team Schaumburg II
CLASS:PUBLIC
DTSTART:20181208T130000Z
DTSTAMP:20190226T140100Z
END:VEVENT
BEGIN:VEVENT
UID:476334-2da69939ed67427dc6bf3daba21059e9
X-WR-RELCALID:476334-2da69939ed67427dc6bf3daba21059e9
ORGANIZER:Volleyball
SEQUENCE:261100547
LOCATION:Freie Waldorfschule Hannover-Maschsee, Rudolf-von-Bennigsen-U
 fer 70, 30173 Hannover
GEO:52.35146620000000000000;9.74888090000000000000
SUMMARY:BL Han. 1 Mä.: GfL Hannover V - TuS Steyerberg
CLASS:PUBLIC
DTSTART:20190302T130000Z
DTSTAMP:20190226T140100Z
END:VEVENT
BEGIN:VEVENT
UID:476335-2da69939ed67427dc6bf3daba21059e9
X-WR-RELCALID:476335-2da69939ed67427dc6bf3daba21059e9
ORGANIZER:Volleyball
SEQUENCE:261100547
LOCATION:Freie Waldorfschule Hannover-Maschsee, Rudolf-von-Bennigsen-U
 fer 70, 30173 Hannover
GEO:52.35146620000000000000;9.74888090000000000000
SUMMARY:BL Han. 1 Mä.: GfL Hannover V - PSV Hannover II
CLASS:PUBLIC
DTSTART:20190302T130000Z
DTSTAMP:20190226T140100Z
END:VEVENT
END:VCALENDAR