BEGIN:VCALENDAR
VERSION:2.0
PRODID:VSD-Portal-www.volley.de
METHOD:PUBLISH
BEGIN:VEVENT
UID:476346-2da69939ed67427dc6bf3daba21059e9
X-WR-RELCALID:476346-2da69939ed67427dc6bf3daba21059e9
ORGANIZER:Volleyball
SEQUENCE:261100544
LOCATION:Grundschule Hagen, Am Stadion, 31535 Hagen
GEO:52.57678360000000000000;9.42831580000000000000
SUMMARY:BL Han. 1 Fr.: TSV Mühlenfeld - TuS Niedernwöhren
CLASS:PUBLIC
DTSTART:20180916T090000Z
DTSTAMP:20181103T185000Z
END:VEVENT
BEGIN:VEVENT
UID:476347-2da69939ed67427dc6bf3daba21059e9
X-WR-RELCALID:476347-2da69939ed67427dc6bf3daba21059e9
ORGANIZER:Volleyball
SEQUENCE:261100544
LOCATION:Grundschule Hagen, Am Stadion, 31535 Hagen
GEO:52.57678360000000000000;9.42831580000000000000
SUMMARY:BL Han. 1 Fr.: TSV Mühlenfeld - TuS Wunstorf
CLASS:PUBLIC
DTSTART:20180916T090000Z
DTSTAMP:20181103T185000Z
END:VEVENT
BEGIN:VEVENT
UID:476380-2da69939ed67427dc6bf3daba21059e9
X-WR-RELCALID:476380-2da69939ed67427dc6bf3daba21059e9
ORGANIZER:Volleyball
SEQUENCE:261100544
LOCATION:Grundschule Hagen, Am Stadion, 31535 Hagen
GEO:52.57678360000000000000;9.42831580000000000000
SUMMARY:BL Han. 1 Fr.: TSV Mühlenfeld - SV Dimhausen
CLASS:PUBLIC
DTSTART:20181202T100000Z
DTSTAMP:20181103T185000Z
END:VEVENT
BEGIN:VEVENT
UID:476381-2da69939ed67427dc6bf3daba21059e9
X-WR-RELCALID:476381-2da69939ed67427dc6bf3daba21059e9
ORGANIZER:Volleyball
SEQUENCE:261100544
LOCATION:Grundschule Hagen, Am Stadion, 31535 Hagen
GEO:52.57678360000000000000;9.42831580000000000000
SUMMARY:BL Han. 1 Fr.: TSV Mühlenfeld - VfL Bückeburg
CLASS:PUBLIC
DTSTART:20181202T100000Z
DTSTAMP:20181103T185000Z
END:VEVENT
BEGIN:VEVENT
UID:476386-2da69939ed67427dc6bf3daba21059e9
X-WR-RELCALID:476386-2da69939ed67427dc6bf3daba21059e9
ORGANIZER:Volleyball
SEQUENCE:261100544
LOCATION:Grundschule Hagen, Am Stadion, 31535 Hagen
GEO:52.57678360000000000000;9.42831580000000000000
SUMMARY:BL Han. 1 Fr.: TSV Mühlenfeld - VG Münchehagen/Hagenburg
CLASS:PUBLIC
DTSTART:20181216T100000Z
DTSTAMP:20181103T185000Z
END:VEVENT
BEGIN:VEVENT
UID:476387-2da69939ed67427dc6bf3daba21059e9
X-WR-RELCALID:476387-2da69939ed67427dc6bf3daba21059e9
ORGANIZER:Volleyball
SEQUENCE:261100544
LOCATION:Grundschule Hagen, Am Stadion, 31535 Hagen
GEO:52.57678360000000000000;9.42831580000000000000
SUMMARY:BL Han. 1 Fr.: TSV Mühlenfeld - SV Warmsen
CLASS:PUBLIC
DTSTART:20181216T100000Z
DTSTAMP:20181103T185000Z
END:VEVENT
BEGIN:VEVENT
UID:476416-2da69939ed67427dc6bf3daba21059e9
X-WR-RELCALID:476416-2da69939ed67427dc6bf3daba21059e9
ORGANIZER:Volleyball
SEQUENCE:261100544
LOCATION:Grundschule Hagen, Am Stadion, 31535 Hagen
GEO:52.57678360000000000000;9.42831580000000000000
SUMMARY:BL Han. 1 Fr.: TSV Mühlenfeld - VT Rinteln
CLASS:PUBLIC
DTSTART:20190317T100000Z
DTSTAMP:20181103T185000Z
END:VEVENT
BEGIN:VEVENT
UID:476417-2da69939ed67427dc6bf3daba21059e9
X-WR-RELCALID:476417-2da69939ed67427dc6bf3daba21059e9
ORGANIZER:Volleyball
SEQUENCE:261100544
LOCATION:Grundschule Hagen, Am Stadion, 31535 Hagen
GEO:52.57678360000000000000;9.42831580000000000000
SUMMARY:BL Han. 1 Fr.: TSV Mühlenfeld - SC Twistringen
CLASS:PUBLIC
DTSTART:20190317T100000Z
DTSTAMP:20181103T185000Z
END:VEVENT
END:VCALENDAR