BEGIN:VCALENDAR
VERSION:2.0
PRODID:VSD-Portal-www.volley.de
METHOD:PUBLISH
BEGIN:VEVENT
UID:485759-2da69939ed67427dc6bf3daba21059e9
X-WR-RELCALID:485759-2da69939ed67427dc6bf3daba21059e9
ORGANIZER:Volleyball
SEQUENCE:261110651
LOCATION:Albert-Ludwigs-Universitäts-Halle, Sandfangweg 4, 79117 Freib
 urg
GEO:47.99066080000000000000;7.88304840000000000000
SUMMARY:KL S Fr.: USC Freiburg 4 - VC Minseln 3
CLASS:PUBLIC
DTSTART:20181117T140000Z
DTSTAMP:20180914T162700Z
END:VEVENT
BEGIN:VEVENT
UID:485760-2da69939ed67427dc6bf3daba21059e9
X-WR-RELCALID:485760-2da69939ed67427dc6bf3daba21059e9
ORGANIZER:Volleyball
SEQUENCE:261110651
LOCATION:Albert-Ludwigs-Universitäts-Halle, Sandfangweg 4, 79117 Freib
 urg
GEO:47.99066080000000000000;7.88304840000000000000
SUMMARY:KL S Fr.: USC Freiburg 4 - TB Bad Krozingen 3
CLASS:PUBLIC
DTSTART:20181117T140000Z
DTSTAMP:20180914T162700Z
END:VEVENT
BEGIN:VEVENT
UID:485783-2da69939ed67427dc6bf3daba21059e9
X-WR-RELCALID:485783-2da69939ed67427dc6bf3daba21059e9
ORGANIZER:Volleyball
SEQUENCE:261110651
LOCATION:Albert-Ludwigs-Universitäts-Halle, Sandfangweg 4, 79117 Freib
 urg
GEO:47.99066080000000000000;7.88304840000000000000
SUMMARY:KL S Fr.: USC Freiburg 4 - TV Merdingen 2
CLASS:PUBLIC
DTSTART:20190216T140000Z
DTSTAMP:20180914T162700Z
END:VEVENT
BEGIN:VEVENT
UID:485784-2da69939ed67427dc6bf3daba21059e9
X-WR-RELCALID:485784-2da69939ed67427dc6bf3daba21059e9
ORGANIZER:Volleyball
SEQUENCE:261110651
LOCATION:Albert-Ludwigs-Universitäts-Halle, Sandfangweg 4, 79117 Freib
 urg
GEO:47.99066080000000000000;7.88304840000000000000
SUMMARY:KL S Fr.: USC Freiburg 4 - FT 1844 Freiburg 3
CLASS:PUBLIC
DTSTART:20190216T140000Z
DTSTAMP:20180914T162700Z
END:VEVENT
END:VCALENDAR