BEGIN:VCALENDAR
VERSION:2.0
PRODID:VSD-Portal-www.volley.de
METHOD:PUBLISH
BEGIN:VEVENT
UID:162366-0b1cb5f82de24c98f11e829bddb1f0f9
X-WR-RELCALID:162366-0b1cb5f82de24c98f11e829bddb1f0f9
ORGANIZER:Volleyball
SEQUENCE:261122041
LOCATION:Dreifach Turnhalle am Schulzentrum, Tricastiner Platz 1, 9743
 7 Hassfurt
GEO:50.03784600000000000000;10.52804600000000000000
SUMMARY:LLNW Mä.: TV Haßfurt - TSV Jahn 1892 Würzburg
CLASS:PUBLIC
DTSTART:20161008T130000Z
DTSTAMP:20161013T143400Z
END:VEVENT
BEGIN:VEVENT
UID:162367-0b1cb5f82de24c98f11e829bddb1f0f9
X-WR-RELCALID:162367-0b1cb5f82de24c98f11e829bddb1f0f9
ORGANIZER:Volleyball
SEQUENCE:261122041
LOCATION:Dreifach Turnhalle am Schulzentrum, Tricastiner Platz 1, 9743
 7 Hassfurt
GEO:50.03784600000000000000;10.52804600000000000000
SUMMARY:LLNW Mä.: TV Haßfurt - TV Trennfurt
CLASS:PUBLIC
DTSTART:20161008T130000Z
DTSTAMP:20161013T143800Z
END:VEVENT
BEGIN:VEVENT
UID:162380-0b1cb5f82de24c98f11e829bddb1f0f9
X-WR-RELCALID:162380-0b1cb5f82de24c98f11e829bddb1f0f9
ORGANIZER:Volleyball
SEQUENCE:261122041
LOCATION:Dreifach Turnhalle am Schulzentrum, Tricastiner Platz 1, 9743
 7 Hassfurt
GEO:50.03784600000000000000;10.52804600000000000000
SUMMARY:LLNW Mä.: TV Haßfurt - TV/DJK Hammelburg II
CLASS:PUBLIC
DTSTART:20161119T150000Z
DTSTAMP:20161123T170600Z
END:VEVENT
BEGIN:VEVENT
UID:162381-0b1cb5f82de24c98f11e829bddb1f0f9
X-WR-RELCALID:162381-0b1cb5f82de24c98f11e829bddb1f0f9
ORGANIZER:Volleyball
SEQUENCE:261122041
LOCATION:Dreifach Turnhalle am Schulzentrum, Tricastiner Platz 1, 9743
 7 Hassfurt
GEO:50.03784600000000000000;10.52804600000000000000
SUMMARY:LLNW Mä.: TV Haßfurt - TV Erlangen
CLASS:PUBLIC
DTSTART:20161119T150000Z
DTSTAMP:20161123T170900Z
END:VEVENT
BEGIN:VEVENT
UID:162416-0b1cb5f82de24c98f11e829bddb1f0f9
X-WR-RELCALID:162416-0b1cb5f82de24c98f11e829bddb1f0f9
ORGANIZER:Volleyball
SEQUENCE:261122041
LOCATION:Dreifach Turnhalle am Schulzentrum, Tricastiner Platz 1, 9743
 7 Hassfurt
GEO:50.03784600000000000000;10.52804600000000000000
SUMMARY:LLNW Mä.: TV Haßfurt - TV Bad Windsheim
CLASS:PUBLIC
DTSTART:20170212T110000Z
DTSTAMP:20170221T093900Z
END:VEVENT
BEGIN:VEVENT
UID:162417-0b1cb5f82de24c98f11e829bddb1f0f9
X-WR-RELCALID:162417-0b1cb5f82de24c98f11e829bddb1f0f9
ORGANIZER:Volleyball
SEQUENCE:261122041
LOCATION:Dreifach Turnhalle am Schulzentrum, Tricastiner Platz 1, 9743
 7 Hassfurt
GEO:50.03784600000000000000;10.52804600000000000000
SUMMARY:LLNW Mä.: TV Haßfurt - TV Mömlingen II
CLASS:PUBLIC
DTSTART:20170212T110000Z
DTSTAMP:20170221T094500Z
END:VEVENT
BEGIN:VEVENT
UID:162424-0b1cb5f82de24c98f11e829bddb1f0f9
X-WR-RELCALID:162424-0b1cb5f82de24c98f11e829bddb1f0f9
ORGANIZER:Volleyball
SEQUENCE:261122041
LOCATION:Dreifach Turnhalle am Schulzentrum, Tricastiner Platz 1, 9743
 7 Hassfurt
GEO:50.03784600000000000000;10.52804600000000000000
SUMMARY:LLNW Mä.: TV Haßfurt - TSV Zirndorf II
CLASS:PUBLIC
DTSTART:20170311T150000Z
DTSTAMP:20170323T141300Z
END:VEVENT
BEGIN:VEVENT
UID:162425-0b1cb5f82de24c98f11e829bddb1f0f9
X-WR-RELCALID:162425-0b1cb5f82de24c98f11e829bddb1f0f9
ORGANIZER:Volleyball
SEQUENCE:261122041
LOCATION:Dreifach Turnhalle am Schulzentrum, Tricastiner Platz 1, 9743
 7 Hassfurt
GEO:50.03784600000000000000;10.52804600000000000000
SUMMARY:LLNW Mä.: TV Haßfurt - TSV Stein
CLASS:PUBLIC
DTSTART:20170311T150000Z
DTSTAMP:20170323T141600Z
END:VEVENT
END:VCALENDAR