BEGIN:VCALENDAR
VERSION:2.0
PRODID:VSD-Portal-www.volley.de
METHOD:PUBLISH
BEGIN:VEVENT
UID:488688-2da69939ed67427dc6bf3daba21059e9
X-WR-RELCALID:488688-2da69939ed67427dc6bf3daba21059e9
ORGANIZER:Volleyball
SEQUENCE:261132143
LOCATION:VolksbankArena (VBA), Rottenburg, VolksbankArena (VBA), 0  Ro
 ttenburg
GEO:48.48490500000000000000;8.93778000000000000000
SUMMARY:OL Mä.: TV Rottenburg 3 - MTV Ludwigsburg 2
CLASS:PUBLIC
DTSTART;VALUE=DATE:20181006
DTSTAMP:20181103T203100Z
DTEND;VALUE=DATE:20181007
END:VEVENT
BEGIN:VEVENT
UID:488697-2da69939ed67427dc6bf3daba21059e9
X-WR-RELCALID:488697-2da69939ed67427dc6bf3daba21059e9
ORGANIZER:Volleyball
SEQUENCE:261132143
LOCATION:VolksbankArena (VBA), Rottenburg, VolksbankArena (VBA), 0  Ro
 ttenburg
GEO:48.48490500000000000000;8.93778000000000000000
SUMMARY:OL Mä.: TV Rottenburg 3 - TSV G.A Stuttgart 3
CLASS:PUBLIC
DTSTART;VALUE=DATE:20181020
DTSTAMP:20181103T203100Z
DTEND;VALUE=DATE:20181021
END:VEVENT
BEGIN:VEVENT
UID:488706-2da69939ed67427dc6bf3daba21059e9
X-WR-RELCALID:488706-2da69939ed67427dc6bf3daba21059e9
ORGANIZER:Volleyball
SEQUENCE:261132143
LOCATION:VolksbankArena (VBA), Rottenburg, VolksbankArena (VBA), 0  Ro
 ttenburg
GEO:48.48490500000000000000;8.93778000000000000000
SUMMARY:OL Mä.: TV Rottenburg 3 - ASV Botnang
CLASS:PUBLIC
DTSTART;VALUE=DATE:20181104
DTSTAMP:20181103T203100Z
DTEND;VALUE=DATE:20181105
END:VEVENT
BEGIN:VEVENT
UID:488716-2da69939ed67427dc6bf3daba21059e9
X-WR-RELCALID:488716-2da69939ed67427dc6bf3daba21059e9
ORGANIZER:Volleyball
SEQUENCE:261132143
LOCATION:VolksbankArena (VBA), Rottenburg, VolksbankArena (VBA), 0  Ro
 ttenburg
GEO:48.48490500000000000000;8.93778000000000000000
SUMMARY:OL Mä.: TV Rottenburg 3 - SV Remshalden
CLASS:PUBLIC
DTSTART;VALUE=DATE:20181118
DTSTAMP:20181103T203100Z
DTEND;VALUE=DATE:20181119
END:VEVENT
BEGIN:VEVENT
UID:488724-2da69939ed67427dc6bf3daba21059e9
X-WR-RELCALID:488724-2da69939ed67427dc6bf3daba21059e9
ORGANIZER:Volleyball
SEQUENCE:261132143
LOCATION:VolksbankArena (VBA), Rottenburg, VolksbankArena (VBA), 0  Ro
 ttenburg
GEO:48.48490500000000000000;8.93778000000000000000
SUMMARY:OL Mä.: TV Rottenburg 3 - SG VolleyAlb
CLASS:PUBLIC
DTSTART;VALUE=DATE:20181208
DTSTAMP:20181103T203100Z
DTEND;VALUE=DATE:20181209
END:VEVENT
BEGIN:VEVENT
UID:488740-2da69939ed67427dc6bf3daba21059e9
X-WR-RELCALID:488740-2da69939ed67427dc6bf3daba21059e9
ORGANIZER:Volleyball
SEQUENCE:261132143
LOCATION:Otto-Locher-Halle, Rottenburg, Otto-Locher-Halle, 0  Rottenbu
 rg
GEO:48.47713500000000000000;8.93335300000000000000
SUMMARY:OL Mä.: TV Rottenburg 3 - SV Fellbach 3
CLASS:PUBLIC
DTSTART;VALUE=DATE:20190127
DTSTAMP:20181103T203100Z
DTEND;VALUE=DATE:20190128
END:VEVENT
BEGIN:VEVENT
UID:488749-2da69939ed67427dc6bf3daba21059e9
X-WR-RELCALID:488749-2da69939ed67427dc6bf3daba21059e9
ORGANIZER:Volleyball
SEQUENCE:261132143
LOCATION:Otto-Locher-Halle, Rottenburg, Otto-Locher-Halle, 0  Rottenbu
 rg
GEO:48.47713500000000000000;8.93335300000000000000
SUMMARY:OL Mä.: TV Rottenburg 3 - VfB Ulm
CLASS:PUBLIC
DTSTART;VALUE=DATE:20190216
DTSTAMP:20181103T203100Z
DTEND;VALUE=DATE:20190217
END:VEVENT
BEGIN:VEVENT
UID:488761-2da69939ed67427dc6bf3daba21059e9
X-WR-RELCALID:488761-2da69939ed67427dc6bf3daba21059e9
ORGANIZER:Volleyball
SEQUENCE:261132143
LOCATION:Otto-Locher-Halle, Rottenburg, Otto-Locher-Halle, 0  Rottenbu
 rg
GEO:48.47713500000000000000;8.93335300000000000000
SUMMARY:OL Mä.: TV Rottenburg 3 - SG Volley Neckar-Teck
CLASS:PUBLIC
DTSTART;VALUE=DATE:20190309
DTSTAMP:20181103T203100Z
DTEND;VALUE=DATE:20190310
END:VEVENT
BEGIN:VEVENT
UID:488770-2da69939ed67427dc6bf3daba21059e9
X-WR-RELCALID:488770-2da69939ed67427dc6bf3daba21059e9
ORGANIZER:Volleyball
SEQUENCE:261132143
LOCATION:Otto-Locher-Halle, Rottenburg, Otto-Locher-Halle, 0  Rottenbu
 rg
GEO:48.47713500000000000000;8.93335300000000000000
SUMMARY:OL Mä.: TV Rottenburg 3 - TSV Eningen
CLASS:PUBLIC
DTSTART;VALUE=DATE:20190323
DTSTAMP:20181103T203100Z
DTEND;VALUE=DATE:20190324
END:VEVENT
END:VCALENDAR