BEGIN:VCALENDAR
VERSION:2.0
PRODID:VSD-Portal-www.volley.de
METHOD:PUBLISH
BEGIN:VEVENT
UID:488691-2da69939ed67427dc6bf3daba21059e9
X-WR-RELCALID:488691-2da69939ed67427dc6bf3daba21059e9
ORGANIZER:Volleyball
SEQUENCE:261091716
LOCATION:EHR-Turnhalle (Grunbach), Remshalden-Grunbach, EHR-Turnhalle 
 (Grunbach), 0  Remshalden-Grunbach
GEO:48.81052800000000000000;9.43748300000000000000
SUMMARY:OL Mä.: SV Remshalden - VfB Ulm
CLASS:PUBLIC
DTSTART;VALUE=DATE:20181006
DTSTAMP:20181103T203100Z
DTEND;VALUE=DATE:20181007
END:VEVENT
BEGIN:VEVENT
UID:488693-2da69939ed67427dc6bf3daba21059e9
X-WR-RELCALID:488693-2da69939ed67427dc6bf3daba21059e9
ORGANIZER:Volleyball
SEQUENCE:261091716
LOCATION:Georg-Fink-Halle, Gerstetten, Georg-Fink-Halle, 0  Gerstetten
 
GEO:48.61788000000000000000;10.01899000000000000000
SUMMARY:OL Mä.: SG VolleyAlb - SV Remshalden
CLASS:PUBLIC
DTSTART;VALUE=DATE:20181013
DTSTAMP:20181103T203100Z
DTEND;VALUE=DATE:20181014
END:VEVENT
BEGIN:VEVENT
UID:488700-2da69939ed67427dc6bf3daba21059e9
X-WR-RELCALID:488700-2da69939ed67427dc6bf3daba21059e9
ORGANIZER:Volleyball
SEQUENCE:261091716
LOCATION:EHR-Turnhalle (Grunbach), Remshalden-Grunbach, EHR-Turnhalle 
 (Grunbach), 0  Remshalden-Grunbach
GEO:48.81052800000000000000;9.43748300000000000000
SUMMARY:OL Mä.: SV Remshalden - SG Volley Neckar-Teck
CLASS:PUBLIC
DTSTART;VALUE=DATE:20181020
DTSTAMP:20181103T203100Z
DTEND;VALUE=DATE:20181021
END:VEVENT
BEGIN:VEVENT
UID:488704-2da69939ed67427dc6bf3daba21059e9
X-WR-RELCALID:488704-2da69939ed67427dc6bf3daba21059e9
ORGANIZER:Volleyball
SEQUENCE:261091716
LOCATION:Innenstadthalle, Ludwigsburg, Innenstadthalle, 0  Ludwigsburg
 
GEO:48.89406200000000000000;9.19546400000000000000
SUMMARY:OL Mä.: MTV Ludwigsburg 2 - SV Remshalden
CLASS:PUBLIC
DTSTART;VALUE=DATE:20181103
DTSTAMP:20181103T203100Z
DTEND;VALUE=DATE:20181104
END:VEVENT
BEGIN:VEVENT
UID:488709-2da69939ed67427dc6bf3daba21059e9
X-WR-RELCALID:488709-2da69939ed67427dc6bf3daba21059e9
ORGANIZER:Volleyball
SEQUENCE:261091716
LOCATION:EHR-Turnhalle (Grunbach), Remshalden-Grunbach, EHR-Turnhalle 
 (Grunbach), 0  Remshalden-Grunbach
GEO:48.81052800000000000000;9.43748300000000000000
SUMMARY:OL Mä.: SV Remshalden - TSV Eningen
CLASS:PUBLIC
DTSTART;VALUE=DATE:20181110
DTSTAMP:20181103T203100Z
DTEND;VALUE=DATE:20181111
END:VEVENT
BEGIN:VEVENT
UID:488716-2da69939ed67427dc6bf3daba21059e9
X-WR-RELCALID:488716-2da69939ed67427dc6bf3daba21059e9
ORGANIZER:Volleyball
SEQUENCE:261091716
LOCATION:VolksbankArena (VBA), Rottenburg, VolksbankArena (VBA), 0  Ro
 ttenburg
GEO:48.48490500000000000000;8.93778000000000000000
SUMMARY:OL Mä.: TV Rottenburg 3 - SV Remshalden
CLASS:PUBLIC
DTSTART;VALUE=DATE:20181118
DTSTAMP:20181103T203100Z
DTEND;VALUE=DATE:20181119
END:VEVENT
BEGIN:VEVENT
UID:488717-2da69939ed67427dc6bf3daba21059e9
X-WR-RELCALID:488717-2da69939ed67427dc6bf3daba21059e9
ORGANIZER:Volleyball
SEQUENCE:261091716
LOCATION:EHR-Turnhalle (Grunbach), Remshalden-Grunbach, EHR-Turnhalle 
 (Grunbach), 0  Remshalden-Grunbach
GEO:48.81052800000000000000;9.43748300000000000000
SUMMARY:OL Mä.: SV Remshalden - ASV Botnang
CLASS:PUBLIC
DTSTART;VALUE=DATE:20181201
DTSTAMP:20181103T203100Z
DTEND;VALUE=DATE:20181202
END:VEVENT
BEGIN:VEVENT
UID:488726-2da69939ed67427dc6bf3daba21059e9
X-WR-RELCALID:488726-2da69939ed67427dc6bf3daba21059e9
ORGANIZER:Volleyball
SEQUENCE:261091716
LOCATION:Gäuäckersporthalle 1, Fellbach, Gäuäckersporthalle 1, 0  Fell
 bach
GEO:48.81923300000000000000;9.28286900000000000000
SUMMARY:OL Mä.: SV Fellbach 3 - SV Remshalden
CLASS:PUBLIC
DTSTART;VALUE=DATE:20181208
DTSTAMP:20181103T203100Z
DTEND;VALUE=DATE:20181209
END:VEVENT
BEGIN:VEVENT
UID:488727-2da69939ed67427dc6bf3daba21059e9
X-WR-RELCALID:488727-2da69939ed67427dc6bf3daba21059e9
ORGANIZER:Volleyball
SEQUENCE:261091716
LOCATION:EHR-Turnhalle (Grunbach), Remshalden-Grunbach, EHR-Turnhalle 
 (Grunbach), 0  Remshalden-Grunbach
GEO:48.81052800000000000000;9.43748300000000000000
SUMMARY:OL Mä.: SV Remshalden - TSV G.A Stuttgart 3
CLASS:PUBLIC
DTSTART;VALUE=DATE:20181215
DTSTAMP:20181103T203100Z
DTEND;VALUE=DATE:20181216
END:VEVENT
BEGIN:VEVENT
UID:488733-2da69939ed67427dc6bf3daba21059e9
X-WR-RELCALID:488733-2da69939ed67427dc6bf3daba21059e9
ORGANIZER:Volleyball
SEQUENCE:261091716
LOCATION:EHR-Turnhalle (Grunbach), Remshalden-Grunbach, EHR-Turnhalle 
 (Grunbach), 0  Remshalden-Grunbach
GEO:48.81052800000000000000;9.43748300000000000000
SUMMARY:OL Mä.: SV Remshalden - MTV Ludwigsburg 2
CLASS:PUBLIC
DTSTART;VALUE=DATE:20190119
DTSTAMP:20181103T203100Z
DTEND;VALUE=DATE:20190120
END:VEVENT
BEGIN:VEVENT
UID:488738-2da69939ed67427dc6bf3daba21059e9
X-WR-RELCALID:488738-2da69939ed67427dc6bf3daba21059e9
ORGANIZER:Volleyball
SEQUENCE:261091716
LOCATION:Arbachtalhalle, Eningen u. A., Arbachtalhalle, 0  Eningen u. 
 A.
GEO:48.48568000000000000000;9.25778000000000000000
SUMMARY:OL Mä.: TSV Eningen - SV Remshalden
CLASS:PUBLIC
DTSTART;VALUE=DATE:20190126
DTSTAMP:20181103T203100Z
DTEND;VALUE=DATE:20190127
END:VEVENT
BEGIN:VEVENT
UID:488746-2da69939ed67427dc6bf3daba21059e9
X-WR-RELCALID:488746-2da69939ed67427dc6bf3daba21059e9
ORGANIZER:Volleyball
SEQUENCE:261091716
LOCATION:EHR-Turnhalle (Grunbach), Remshalden-Grunbach, EHR-Turnhalle 
 (Grunbach), 0  Remshalden-Grunbach
GEO:48.81052800000000000000;9.43748300000000000000
SUMMARY:OL Mä.: SV Remshalden - TV Rottenburg 3
CLASS:PUBLIC
DTSTART;VALUE=DATE:20190203
DTSTAMP:20181103T203100Z
DTEND;VALUE=DATE:20190204
END:VEVENT
BEGIN:VEVENT
UID:488748-2da69939ed67427dc6bf3daba21059e9
X-WR-RELCALID:488748-2da69939ed67427dc6bf3daba21059e9
ORGANIZER:Volleyball
SEQUENCE:261091716
LOCATION:Ballspielhalle Botnang, Stuttgart-Botnang, Ballspielhalle Bot
 nang, 0  Stuttgart-Botnang
GEO:48.77812000000000000000;9.12144000000000000000
SUMMARY:OL Mä.: ASV Botnang - SV Remshalden
CLASS:PUBLIC
DTSTART;VALUE=DATE:20190216
DTSTAMP:20181103T203100Z
DTEND;VALUE=DATE:20190217
END:VEVENT
BEGIN:VEVENT
UID:488755-2da69939ed67427dc6bf3daba21059e9
X-WR-RELCALID:488755-2da69939ed67427dc6bf3daba21059e9
ORGANIZER:Volleyball
SEQUENCE:261091716
LOCATION:EHR-Turnhalle (Grunbach), Remshalden-Grunbach, EHR-Turnhalle 
 (Grunbach), 0  Remshalden-Grunbach
GEO:48.81052800000000000000;9.43748300000000000000
SUMMARY:OL Mä.: SV Remshalden - SV Fellbach 3
CLASS:PUBLIC
DTSTART;VALUE=DATE:20190223
DTSTAMP:20181103T203100Z
DTEND;VALUE=DATE:20190224
END:VEVENT
BEGIN:VEVENT
UID:488757-2da69939ed67427dc6bf3daba21059e9
X-WR-RELCALID:488757-2da69939ed67427dc6bf3daba21059e9
ORGANIZER:Volleyball
SEQUENCE:261091716
LOCATION:Allianzsporthalle, Stuttgart-Vaihingen, Allianzsporthalle, 0 
  Stuttgart-Vaihingen
GEO:48.72363000000000000000;9.11151900000000000000
SUMMARY:OL Mä.: TSV G.A Stuttgart 3 - SV Remshalden
CLASS:PUBLIC
DTSTART;VALUE=DATE:20190302
DTSTAMP:20181103T203100Z
DTEND;VALUE=DATE:20190303
END:VEVENT
BEGIN:VEVENT
UID:488765-2da69939ed67427dc6bf3daba21059e9
X-WR-RELCALID:488765-2da69939ed67427dc6bf3daba21059e9
ORGANIZER:Volleyball
SEQUENCE:261091716
LOCATION:Mehrzweckhalle Weststadt  früher Ballspielhalle, Ulm, Mehrzwe
 ckhalle Weststadt  früher Ballspielhalle, 0  Ulm
GEO:48.39006000000000000000;9.96227500000000000000
SUMMARY:OL Mä.: VfB Ulm - SV Remshalden
CLASS:PUBLIC
DTSTART;VALUE=DATE:20190316
DTSTAMP:20181103T203100Z
DTEND;VALUE=DATE:20190317
END:VEVENT
BEGIN:VEVENT
UID:488767-2da69939ed67427dc6bf3daba21059e9
X-WR-RELCALID:488767-2da69939ed67427dc6bf3daba21059e9
ORGANIZER:Volleyball
SEQUENCE:261091716
LOCATION:EHR-Turnhalle (Grunbach), Remshalden-Grunbach, EHR-Turnhalle 
 (Grunbach), 0  Remshalden-Grunbach
GEO:48.81052800000000000000;9.43748300000000000000
SUMMARY:OL Mä.: SV Remshalden - SG VolleyAlb
CLASS:PUBLIC
DTSTART;VALUE=DATE:20190323
DTSTAMP:20181103T203100Z
DTEND;VALUE=DATE:20190324
END:VEVENT
BEGIN:VEVENT
UID:488774-2da69939ed67427dc6bf3daba21059e9
X-WR-RELCALID:488774-2da69939ed67427dc6bf3daba21059e9
ORGANIZER:Volleyball
SEQUENCE:261091716
LOCATION:Sporthalle Dettingen, Dettingen/Teck, Sporthalle Dettingen, 0
   Dettingen/Teck
GEO:48.61469000000000000000;9.45791000000000000000
SUMMARY:OL Mä.: SG Volley Neckar-Teck - SV Remshalden
CLASS:PUBLIC
DTSTART;VALUE=DATE:20190330
DTSTAMP:20181103T203100Z
DTEND;VALUE=DATE:20190331
END:VEVENT
END:VCALENDAR