BEGIN:VCALENDAR
VERSION:2.0
PRODID:VSD-Portal-www.volley.de
METHOD:PUBLISH
BEGIN:VEVENT
UID:173471-0b1cb5f82de24c98f11e829bddb1f0f9
X-WR-RELCALID:173471-0b1cb5f82de24c98f11e829bddb1f0f9
ORGANIZER:Volleyball
SEQUENCE:261111927
LOCATION:Grundschule, Oberfeldweg 9, 83080 Oberaudorf
GEO:47.64573336893919000000;12.17368198280337300000
SUMMARY:REL BKL4 Fr.: FV Oberaudorf - TSV 1861 e.V. Tittmoning II
CLASS:PUBLIC
DTSTART:20170402T120000Z
DTSTAMP:20170402T151200Z
END:VEVENT
BEGIN:VEVENT
UID:173473-0b1cb5f82de24c98f11e829bddb1f0f9
X-WR-RELCALID:173473-0b1cb5f82de24c98f11e829bddb1f0f9
ORGANIZER:Volleyball
SEQUENCE:261111927
LOCATION:Grundschule, Oberfeldweg 9, 83080 Oberaudorf
GEO:47.64573336893919000000;12.17368198280337300000
SUMMARY:REL BKL4 Fr.: TSV 1861 e.V. Tittmoning II - TSV Palling
CLASS:PUBLIC
DTSTART:20170402T120000Z
DTSTAMP:20170402T164300Z
END:VEVENT
END:VCALENDAR