BEGIN:VCALENDAR
VERSION:2.0
PRODID:VSD-Portal-www.volley.de
METHOD:PUBLISH
BEGIN:VEVENT
UID:497740-2da69939ed67427dc6bf3daba21059e9
X-WR-RELCALID:497740-2da69939ed67427dc6bf3daba21059e9
ORGANIZER:Volleyball
SEQUENCE:261110953
LOCATION:Gymnasium Waldstraße, Hattingen, Gymnasium Waldstraße, 0  Hat
 tingen
GEO:51.39716700000000000000;7.20548700000000000000
SUMMARY:BeL12  Fr.: TuS Hattingen - TuS Hattingen II
CLASS:PUBLIC
DTSTART;VALUE=DATE:20180922
DTSTAMP:20181103T162800Z
DTEND;VALUE=DATE:20180923
END:VEVENT
BEGIN:VEVENT
UID:497744-2da69939ed67427dc6bf3daba21059e9
X-WR-RELCALID:497744-2da69939ed67427dc6bf3daba21059e9
ORGANIZER:Volleyball
SEQUENCE:261110953
LOCATION:Gymnasium Waldstraße, Hattingen, Gymnasium Waldstraße, 0  Hat
 tingen
GEO:51.39716700000000000000;7.20548700000000000000
SUMMARY:BeL12  Fr.: TuS Hattingen II - TV Gerthe
CLASS:PUBLIC
DTSTART;VALUE=DATE:20180926
DTSTAMP:20181103T162800Z
DTEND;VALUE=DATE:20180927
END:VEVENT
BEGIN:VEVENT
UID:497749-2da69939ed67427dc6bf3daba21059e9
X-WR-RELCALID:497749-2da69939ed67427dc6bf3daba21059e9
ORGANIZER:Volleyball
SEQUENCE:261110953
LOCATION:Gymnasium am Ostring, Bochum, Gymnasium am Ostring, 0  Bochum
 
GEO:51.48126000000000000000;7.22520000000000000000
SUMMARY:BeL12  Fr.: SVE Bochum-Grumme II - TuS Hattingen II
CLASS:PUBLIC
DTSTART;VALUE=DATE:20181028
DTSTAMP:20181103T162800Z
DTEND;VALUE=DATE:20181029
END:VEVENT
BEGIN:VEVENT
UID:497754-2da69939ed67427dc6bf3daba21059e9
X-WR-RELCALID:497754-2da69939ed67427dc6bf3daba21059e9
ORGANIZER:Volleyball
SEQUENCE:261110953
LOCATION:Realschule Sodingen, Herne, Realschule Sodingen, 0  Herne
GEO:51.54877500000000000000;7.27075000000000000000
SUMMARY:BeL12  Fr.: SG FdG Herne II - TuS Hattingen II
CLASS:PUBLIC
DTSTART;VALUE=DATE:20181104
DTSTAMP:20181103T162800Z
DTEND;VALUE=DATE:20181105
END:VEVENT
BEGIN:VEVENT
UID:497759-2da69939ed67427dc6bf3daba21059e9
X-WR-RELCALID:497759-2da69939ed67427dc6bf3daba21059e9
ORGANIZER:Volleyball
SEQUENCE:261110953
LOCATION:Mühlenbachschule, Bochum, Mühlenbachschule, 0  Bochum
GEO:51.52483000000000000000;7.28629880000000000000
SUMMARY:BeL12  Fr.: TuS Hattingen II - DJK Blau-Weiß Annen II
CLASS:PUBLIC
DTSTART;VALUE=DATE:20181118
DTSTAMP:20181103T162800Z
DTEND;VALUE=DATE:20181119
END:VEVENT
BEGIN:VEVENT
UID:497762-2da69939ed67427dc6bf3daba21059e9
X-WR-RELCALID:497762-2da69939ed67427dc6bf3daba21059e9
ORGANIZER:Volleyball
SEQUENCE:261110953
LOCATION:Grundschule Bruchfeld, Hattingen, Grundschule Bruchfeld, 0  H
 attingen
GEO:51.40092000000000000000;7.19115000000000000000
SUMMARY:BeL12  Fr.: TuS Hattingen II - TB Höntrop II
CLASS:PUBLIC
DTSTART;VALUE=DATE:20181124
DTSTAMP:20181124T155200Z
DTEND;VALUE=DATE:20181125
END:VEVENT
BEGIN:VEVENT
UID:497767-2da69939ed67427dc6bf3daba21059e9
X-WR-RELCALID:497767-2da69939ed67427dc6bf3daba21059e9
ORGANIZER:Volleyball
SEQUENCE:261110953
LOCATION:Realschule Sodingen, Herne, Realschule Sodingen, 0  Herne
GEO:51.54877500000000000000;7.27075000000000000000
SUMMARY:BeL12  Fr.: TG z.r.E. Schwelm - TuS Hattingen II
CLASS:PUBLIC
DTSTART;VALUE=DATE:20181202
DTSTAMP:20181103T162800Z
DTEND;VALUE=DATE:20181203
END:VEVENT
BEGIN:VEVENT
UID:497771-2da69939ed67427dc6bf3daba21059e9
X-WR-RELCALID:497771-2da69939ed67427dc6bf3daba21059e9
ORGANIZER:Volleyball
SEQUENCE:261110953
LOCATION:Graf-Engelbert-Schule (3-fach Halle), Bochum, Graf-Engelbert-
 Schule (3-fach Halle), 0  Bochum
GEO:51.46628600000000000000;7.21946600000000000000
SUMMARY:BeL12  Fr.: TuS Hattingen II - SVE Bochum-Grumme
CLASS:PUBLIC
DTSTART;VALUE=DATE:20181215
DTSTAMP:20181114T211600Z
DTEND;VALUE=DATE:20181216
END:VEVENT
BEGIN:VEVENT
UID:497778-2da69939ed67427dc6bf3daba21059e9
X-WR-RELCALID:497778-2da69939ed67427dc6bf3daba21059e9
ORGANIZER:Volleyball
SEQUENCE:261110953
LOCATION:Gymnasium Waldstraße, Hattingen, Gymnasium Waldstraße, 0  Hat
 tingen
GEO:51.39716700000000000000;7.20548700000000000000
SUMMARY:BeL12  Fr.: TuS Hattingen II - TuS Hattingen
CLASS:PUBLIC
DTSTART;VALUE=DATE:20190126
DTSTAMP:20181103T162800Z
DTEND;VALUE=DATE:20190127
END:VEVENT
BEGIN:VEVENT
UID:497780-2da69939ed67427dc6bf3daba21059e9
X-WR-RELCALID:497780-2da69939ed67427dc6bf3daba21059e9
ORGANIZER:Volleyball
SEQUENCE:261110953
LOCATION:Mühlenbachschule, Bochum, Mühlenbachschule, 0  Bochum
GEO:51.52483000000000000000;7.28629880000000000000
SUMMARY:BeL12  Fr.: TV Gerthe - TuS Hattingen II
CLASS:PUBLIC
DTSTART;VALUE=DATE:20190202
DTSTAMP:20181103T162800Z
DTEND;VALUE=DATE:20190203
END:VEVENT
BEGIN:VEVENT
UID:497785-2da69939ed67427dc6bf3daba21059e9
X-WR-RELCALID:497785-2da69939ed67427dc6bf3daba21059e9
ORGANIZER:Volleyball
SEQUENCE:261110953
LOCATION:Märkisches Gymnasium, Schwelm, Märkisches Gymnasium, 0  Schwe
 lm
GEO:51.28134500000000000000;7.28691670000000000000
SUMMARY:BeL12  Fr.: TuS Hattingen II - SVE Bochum-Grumme II
CLASS:PUBLIC
DTSTART;VALUE=DATE:20190209
DTSTAMP:20181103T162800Z
DTEND;VALUE=DATE:20190210
END:VEVENT
BEGIN:VEVENT
UID:497790-2da69939ed67427dc6bf3daba21059e9
X-WR-RELCALID:497790-2da69939ed67427dc6bf3daba21059e9
ORGANIZER:Volleyball
SEQUENCE:261110953
LOCATION:Gymnasium Waldstraße, Hattingen, Gymnasium Waldstraße, 0  Hat
 tingen
GEO:51.39716700000000000000;7.20548700000000000000
SUMMARY:BeL12  Fr.: TuS Hattingen II - SG FdG Herne II
CLASS:PUBLIC
DTSTART;VALUE=DATE:20190216
DTSTAMP:20181103T162800Z
DTEND;VALUE=DATE:20190217
END:VEVENT
BEGIN:VEVENT
UID:497795-2da69939ed67427dc6bf3daba21059e9
X-WR-RELCALID:497795-2da69939ed67427dc6bf3daba21059e9
ORGANIZER:Volleyball
SEQUENCE:261110953
LOCATION:Realschule Sodingen, Herne, Realschule Sodingen, 0  Herne
GEO:51.54877500000000000000;7.27075000000000000000
SUMMARY:BeL12  Fr.: DJK Blau-Weiß Annen II - TuS Hattingen II
CLASS:PUBLIC
DTSTART;VALUE=DATE:20190223
DTSTAMP:20181103T162800Z
DTEND;VALUE=DATE:20190224
END:VEVENT
BEGIN:VEVENT
UID:497798-2da69939ed67427dc6bf3daba21059e9
X-WR-RELCALID:497798-2da69939ed67427dc6bf3daba21059e9
ORGANIZER:Volleyball
SEQUENCE:261110953
LOCATION:Realschule Höntrop, Bochum, Realschule Höntrop, 0  Bochum
GEO:51.46074300000000000000;7.16258600000000000000
SUMMARY:BeL12  Fr.: TB Höntrop II - TuS Hattingen II
CLASS:PUBLIC
DTSTART;VALUE=DATE:20190302
DTSTAMP:20181103T162800Z
DTEND;VALUE=DATE:20190303
END:VEVENT
BEGIN:VEVENT
UID:497801-2da69939ed67427dc6bf3daba21059e9
X-WR-RELCALID:497801-2da69939ed67427dc6bf3daba21059e9
ORGANIZER:Volleyball
SEQUENCE:261110953
LOCATION:Graf-Engelbert-Schule (3-fach Halle), Bochum, Graf-Engelbert-
 Schule (3-fach Halle), 0  Bochum
GEO:51.46628600000000000000;7.21946600000000000000
SUMMARY:BeL12  Fr.: TuS Hattingen II - TG z.r.E. Schwelm
CLASS:PUBLIC
DTSTART;VALUE=DATE:20190309
DTSTAMP:20181103T162800Z
DTEND;VALUE=DATE:20190310
END:VEVENT
BEGIN:VEVENT
UID:497805-2da69939ed67427dc6bf3daba21059e9
X-WR-RELCALID:497805-2da69939ed67427dc6bf3daba21059e9
ORGANIZER:Volleyball
SEQUENCE:261110953
LOCATION:Märkisches Gymnasium, Schwelm, Märkisches Gymnasium, 0  Schwe
 lm
GEO:51.28134500000000000000;7.28691670000000000000
SUMMARY:BeL12  Fr.: SVE Bochum-Grumme - TuS Hattingen II
CLASS:PUBLIC
DTSTART;VALUE=DATE:20190323
DTSTAMP:20181103T162800Z
DTEND;VALUE=DATE:20190324
END:VEVENT
END:VCALENDAR