BEGIN:VCALENDAR
VERSION:2.0
PRODID:VSD-Portal-www.volley.de
METHOD:PUBLISH
BEGIN:VEVENT
UID:498550-2da69939ed67427dc6bf3daba21059e9
X-WR-RELCALID:498550-2da69939ed67427dc6bf3daba21059e9
ORGANIZER:Volleyball
SEQUENCE:261141239
LOCATION:Doppelsporthalle Burlo, Borken, Doppelsporthalle Burlo, 0  Bo
 rken
GEO:51.90423600000000000000;6.78691150000000000000
SUMMARY:KL Bo W Fr.: RC Borken-Hoxfeld VI - RC Borken-Hoxfeld VII
CLASS:PUBLIC
DTSTART;VALUE=DATE:20180923
DTSTAMP:20181104T133200Z
DTEND;VALUE=DATE:20180924
END:VEVENT
BEGIN:VEVENT
UID:498559-2da69939ed67427dc6bf3daba21059e9
X-WR-RELCALID:498559-2da69939ed67427dc6bf3daba21059e9
ORGANIZER:Volleyball
SEQUENCE:261141239
SUMMARY:KL Bo W Fr.: RC Borken-Hoxfeld VI - TV Gescher II
CLASS:PUBLIC
DTSTART;VALUE=DATE:20181117
DTSTAMP:20180914T210100Z
DTEND;VALUE=DATE:20181118
END:VEVENT
BEGIN:VEVENT
UID:498562-2da69939ed67427dc6bf3daba21059e9
X-WR-RELCALID:498562-2da69939ed67427dc6bf3daba21059e9
ORGANIZER:Volleyball
SEQUENCE:261141239
LOCATION:Gymnasium Remigianum, Borken, Gymnasium Remigianum, 0  Borken
 
GEO:51.84029000000000000000;6.86738000000000000000
SUMMARY:KL Bo W Fr.: RC Borken-Hoxfeld VI - VfL Ahaus III
CLASS:PUBLIC
DTSTART;VALUE=DATE:20181201
DTSTAMP:20181104T133200Z
DTEND;VALUE=DATE:20181202
END:VEVENT
BEGIN:VEVENT
UID:498567-2da69939ed67427dc6bf3daba21059e9
X-WR-RELCALID:498567-2da69939ed67427dc6bf3daba21059e9
ORGANIZER:Volleyball
SEQUENCE:261141239
LOCATION:Maria-Sibylla-Merian-Realschule, Borken, Maria-Sibylla-Merian
 -Realschule, 0  Borken
GEO:51.90488052368164000000;6.85510969161987300000
SUMMARY:KL Bo W Fr.: RC Borken-Hoxfeld VI - DJK Eintracht Stadtlohn II
 
CLASS:PUBLIC
DTSTART;VALUE=DATE:20190119
DTSTAMP:20181104T133200Z
DTEND;VALUE=DATE:20190120
END:VEVENT
BEGIN:VEVENT
UID:498573-2da69939ed67427dc6bf3daba21059e9
X-WR-RELCALID:498573-2da69939ed67427dc6bf3daba21059e9
ORGANIZER:Volleyball
SEQUENCE:261141239
LOCATION:Sporthalle am Borkener Damm, Gescher, Sporthalle am Borkener 
 Damm, 0  Gescher
GEO:51.94929000000000000000;6.99110000000000000000
SUMMARY:KL Bo W Fr.: RC Borken-Hoxfeld VI - SV Adler Weseke
CLASS:PUBLIC
DTSTART;VALUE=DATE:20190202
DTSTAMP:20181104T133200Z
DTEND;VALUE=DATE:20190203
END:VEVENT
BEGIN:VEVENT
UID:498585-2da69939ed67427dc6bf3daba21059e9
X-WR-RELCALID:498585-2da69939ed67427dc6bf3daba21059e9
ORGANIZER:Volleyball
SEQUENCE:261141239
LOCATION:Maria-Sibylla-Merian-Realschule, Borken, Maria-Sibylla-Merian
 -Realschule, 0  Borken
GEO:51.90488052368164000000;6.85510969161987300000
SUMMARY:KL Bo W Fr.: RC Borken-Hoxfeld VI - TV Vreden
CLASS:PUBLIC
DTSTART;VALUE=DATE:20190309
DTSTAMP:20181104T133200Z
DTEND;VALUE=DATE:20190310
END:VEVENT
END:VCALENDAR